BEGIN:VCALENDAR
VERSION:2.0
PRODID:-//JCCNS, Jewish Community Center of the North Shore - ECPv6.15.20//NONSGML v1.0//EN
CALSCALE:GREGORIAN
METHOD:PUBLISH
X-WR-CALNAME:JCCNS, Jewish Community Center of the North Shore
X-ORIGINAL-URL:https://jccns.org
X-WR-CALDESC:Events for JCCNS, Jewish Community Center of the North Shore
REFRESH-INTERVAL;VALUE=DURATION:PT1H
X-Robots-Tag:noindex
X-PUBLISHED-TTL:PT1H
BEGIN:VTIMEZONE
TZID:America/New_York
BEGIN:DAYLIGHT
TZOFFSETFROM:-0500
TZOFFSETTO:-0400
TZNAME:EDT
DTSTART:20250309T070000
END:DAYLIGHT
BEGIN:STANDARD
TZOFFSETFROM:-0400
TZOFFSETTO:-0500
TZNAME:EST
DTSTART:20251102T060000
END:STANDARD
BEGIN:DAYLIGHT
TZOFFSETFROM:-0500
TZOFFSETTO:-0400
TZNAME:EDT
DTSTART:20260308T070000
END:DAYLIGHT
BEGIN:STANDARD
TZOFFSETFROM:-0400
TZOFFSETTO:-0500
TZNAME:EST
DTSTART:20261101T060000
END:STANDARD
BEGIN:DAYLIGHT
TZOFFSETFROM:-0500
TZOFFSETTO:-0400
TZNAME:EDT
DTSTART:20270314T070000
END:DAYLIGHT
BEGIN:STANDARD
TZOFFSETFROM:-0400
TZOFFSETTO:-0500
TZNAME:EST
DTSTART:20271107T060000
END:STANDARD
END:VTIMEZONE
BEGIN:VEVENT
DTSTART;TZID=America/New_York:20260126T193000
DTEND;TZID=America/New_York:20260126T203000
DTSTAMP:20260420T180820
CREATED:20260102T170715Z
LAST-MODIFIED:20260102T182857Z
UID:12496-1769455800-1769459400@jccns.org
SUMMARY:International Holocaust Remembrance Day Commemoration
DESCRIPTION:Please join us on Zoom for a memorable International Holocaust Remembrance Day CommemorationThe split second it took for then 14-year-old Magda Bader to let go of her mother’s hand and take her sister’s hand to leave the line destined for the gas chamber was her life-changing moment of survival. We invite you to hear Magda Bader’s testimony of her lived experiences during the Holocaust as she shares memories of the ghetto\, deportation\, surviving Auschwitz\, and more. The program is free and everyone is welcome. For more information\, please contact Sharon Wyner at 978-565-4450 or email swyner@lappinfoundation.org. Community Partners: Brooksby Village Jewish Community\, Center for Holocaust and Genocide Studies\, Congregation Ahavas Achim\, Congregation Ahavat Olam\, Congregation Shalom in Chelmsford\,Congregation Shirat Hayam\, Congregation Sons of Israel\, Consulate General of the Federal Republic of Germany Boston\, Consulate General of Israel to New England\, Epstein Hillel School\, Hadassah North Shore MA\, Hadassah Northeast\, Israeli American Council\, Jewish Community Center of the North Shore\, Jewish Community Relations Council of Greater Boston\, Jewish Journal. Jewish National Fund – USA\, NE Friends of the March of the Living\, North Suburban Jewish Community Center\, Temple Ahavat Achim\, Temple B’nai Abraham\, Temple Emanu-El\, Marblehead\, Temple Ner Tamid\, Temple Sinai\, Temple Tiferet Shalom\, Temple Tifereth Israel\, Winthrop\, Vermont Holocaust Memorial\, Walnut Street Synagogue. Register below for the Zoom link. 								\n				\n				\n				\n									\n					\n						\n									register
URL:https://jccns.org/event/international-holocaust-remembrance-day-commemoration-4/
LOCATION:Zoom
CATEGORIES:Home-Partner
ATTACH;FMTTYPE=image/png:https://jccns.org/wp-content/uploads/2026/01/International-Holocaust-Remembrance-Day-2026-web.png
END:VEVENT
END:VCALENDAR