BEGIN:VCALENDAR
VERSION:2.0
PRODID:-//JCCNS, Jewish Community Center of the North Shore - ECPv6.15.20//NONSGML v1.0//EN
CALSCALE:GREGORIAN
METHOD:PUBLISH
X-WR-CALNAME:JCCNS, Jewish Community Center of the North Shore
X-ORIGINAL-URL:https://jccns.org
X-WR-CALDESC:Events for JCCNS, Jewish Community Center of the North Shore
REFRESH-INTERVAL;VALUE=DURATION:PT1H
X-Robots-Tag:noindex
X-PUBLISHED-TTL:PT1H
BEGIN:VTIMEZONE
TZID:America/New_York
BEGIN:DAYLIGHT
TZOFFSETFROM:-0500
TZOFFSETTO:-0400
TZNAME:EDT
DTSTART:20240310T070000
END:DAYLIGHT
BEGIN:STANDARD
TZOFFSETFROM:-0400
TZOFFSETTO:-0500
TZNAME:EST
DTSTART:20241103T060000
END:STANDARD
BEGIN:DAYLIGHT
TZOFFSETFROM:-0500
TZOFFSETTO:-0400
TZNAME:EDT
DTSTART:20250309T070000
END:DAYLIGHT
BEGIN:STANDARD
TZOFFSETFROM:-0400
TZOFFSETTO:-0500
TZNAME:EST
DTSTART:20251102T060000
END:STANDARD
BEGIN:DAYLIGHT
TZOFFSETFROM:-0500
TZOFFSETTO:-0400
TZNAME:EDT
DTSTART:20260308T070000
END:DAYLIGHT
BEGIN:STANDARD
TZOFFSETFROM:-0400
TZOFFSETTO:-0500
TZNAME:EST
DTSTART:20261101T060000
END:STANDARD
END:VTIMEZONE
BEGIN:VEVENT
DTSTART;TZID=America/New_York:20251104T190000
DTEND;TZID=America/New_York:20251104T210000
DTSTAMP:20260423T064840
CREATED:20251028T175353Z
LAST-MODIFIED:20251028T175353Z
UID:11448-1762282800-1762290000@jccns.org
SUMMARY:Jewish Journal 48th Annual Meeting
DESCRIPTION:The Jewish Journal invites the community to its 48th Annual Meeting at the JCCNS! \nFeaturing Jeff Jacoby\, Award-winning Op Ed columnist from the Boston Globe. “Jews\, Journalism\, and the Jewish State”. \nEvent includes a dessert reception. \nPlease RSVP to Mara at mara@jewishjournal.org
URL:https://jccns.org/event/jewish-journal-48th-annual-meeting/
LOCATION:JCCNS\, 4 Community Rd.\, Marblehead\, MA\, 01945
CATEGORIES:Home-Partner
ATTACH;FMTTYPE=image/png:https://jccns.org/wp-content/uploads/2025/10/Journal-2025-Annual-Meeting-web-img.png
END:VEVENT
END:VCALENDAR