BEGIN:VCALENDAR
VERSION:2.0
PRODID:-//JCCNS, Jewish Community Center of the North Shore - ECPv6.15.20//NONSGML v1.0//EN
CALSCALE:GREGORIAN
METHOD:PUBLISH
X-ORIGINAL-URL:https://jccns.org
X-WR-CALDESC:Events for JCCNS, Jewish Community Center of the North Shore
REFRESH-INTERVAL;VALUE=DURATION:PT1H
X-Robots-Tag:noindex
X-PUBLISHED-TTL:PT1H
BEGIN:VTIMEZONE
TZID:America/New_York
BEGIN:DAYLIGHT
TZOFFSETFROM:-0500
TZOFFSETTO:-0400
TZNAME:EDT
DTSTART:20250309T070000
END:DAYLIGHT
BEGIN:STANDARD
TZOFFSETFROM:-0400
TZOFFSETTO:-0500
TZNAME:EST
DTSTART:20251102T060000
END:STANDARD
BEGIN:DAYLIGHT
TZOFFSETFROM:-0500
TZOFFSETTO:-0400
TZNAME:EDT
DTSTART:20260308T070000
END:DAYLIGHT
BEGIN:STANDARD
TZOFFSETFROM:-0400
TZOFFSETTO:-0500
TZNAME:EST
DTSTART:20261101T060000
END:STANDARD
BEGIN:DAYLIGHT
TZOFFSETFROM:-0500
TZOFFSETTO:-0400
TZNAME:EDT
DTSTART:20270314T070000
END:DAYLIGHT
BEGIN:STANDARD
TZOFFSETFROM:-0400
TZOFFSETTO:-0500
TZNAME:EST
DTSTART:20271107T060000
END:STANDARD
END:VTIMEZONE
BEGIN:VEVENT
DTSTART;TZID=America/New_York:20260304T110000
DTEND;TZID=America/New_York:20260304T123000
DTSTAMP:20260423T060426
CREATED:20260225T152345Z
LAST-MODIFIED:20260225T173601Z
UID:10000520-1772622000-1772627400@jccns.org
SUMMARY:Senior Jazz and Lunch Hour
DESCRIPTION:at Congregation Shirat Hayam\, 55 Atlantic Ave\, Swampscott Fighting Back Against Campus Anti-Semitism Join us to discuss the situation on U.S. College Campuses and beyond\, as well as legal responses from the U.S. Government\, The Louis D. Brandeis Center and others. Hon. Kenneth L. Marcus is the Founder\, Chairman\, and CEO of The Louis D. Brandeis Center for Human Rights Under Law\, the leading civil rights legal organization fighting against anti-Semitism. The New York Times has called him “The Man Who Helped Redefine Campus Anti-Semitism.” 7:00pm-Scoth (wine & non-alcholic bevrages available)7:30pm-Schmooze Event is free\, please RSVP below. 								\n				\n				\n				\n									\n					\n						\n									RSVP
URL:https://jccns.org/event/senior-jazz-and-lunch-hour-6-10-3/
LOCATION:JCCNS\, 4 Community Rd.\, Marblehead\, MA\, 01945
ATTACH;FMTTYPE=image/png:https://jccns.org/wp-content/uploads/2024/12/Senior-Jazz-Hour-and-Lunch-square.png
ORGANIZER;CN="Sara Ewing":MAILTO:sewing@jccns.com
END:VEVENT
BEGIN:VEVENT
DTSTART;TZID=America/New_York:20260304T190000
DTEND;TZID=America/New_York:20260304T190000
DTSTAMP:20260423T060426
CREATED:20241018T180055Z
LAST-MODIFIED:20241227T164601Z
UID:10000864-1772650800-1772650800@jccns.org
SUMMARY:Knitting Knights
DESCRIPTION:at Congregation Shirat Hayam\, 55 Atlantic Ave\, Swampscott Fighting Back Against Campus Anti-Semitism Join us to discuss the situation on U.S. College Campuses and beyond\, as well as legal responses from the U.S. Government\, The Louis D. Brandeis Center and others. Hon. Kenneth L. Marcus is the Founder\, Chairman\, and CEO of The Louis D. Brandeis Center for Human Rights Under Law\, the leading civil rights legal organization fighting against anti-Semitism. The New York Times has called him “The Man Who Helped Redefine Campus Anti-Semitism.” 7:00pm-Scoth (wine & non-alcholic bevrages available)7:30pm-Schmooze Event is free\, please RSVP below. 								\n				\n				\n				\n									\n					\n						\n									RSVP
URL:https://jccns.org/event/knitting-knights-3/2026-03-04/
LOCATION:JCCNS Women’s Health Center\, 4 Community Rd.\, Marblehead\, MA\, 01945\, United States
ATTACH;FMTTYPE=image/png:https://jccns.org/wp-content/uploads/2024/10/Knitting-Knights-square.png
ORGANIZER;CN="Mary Pat Hawkins":MAILTO:mphawkins@jccns.com
END:VEVENT
BEGIN:VEVENT
DTSTART;TZID=America/New_York:20260304T200000
DTEND;TZID=America/New_York:20260304T210000
DTSTAMP:20260423T060426
CREATED:20260212T150027Z
LAST-MODIFIED:20260212T150027Z
UID:10002414-1772654400-1772658000@jccns.org
SUMMARY:Everyday AI: Lightening the Load for Busy Parent
DESCRIPTION:at Congregation Shirat Hayam\, 55 Atlantic Ave\, Swampscott Fighting Back Against Campus Anti-Semitism Join us to discuss the situation on U.S. College Campuses and beyond\, as well as legal responses from the U.S. Government\, The Louis D. Brandeis Center and others. Hon. Kenneth L. Marcus is the Founder\, Chairman\, and CEO of The Louis D. Brandeis Center for Human Rights Under Law\, the leading civil rights legal organization fighting against anti-Semitism. The New York Times has called him “The Man Who Helped Redefine Campus Anti-Semitism.” 7:00pm-Scoth (wine & non-alcholic bevrages available)7:30pm-Schmooze Event is free\, please RSVP below. 								\n				\n				\n				\n									\n					\n						\n									RSVP
URL:https://jccns.org/event/everyday-ai-lightening-the-load-for-busy-parent/
LOCATION:JCCNS\, 4 Community Rd.\, Marblehead\, MA\, 01945
CATEGORIES:Home-Register
ATTACH;FMTTYPE=image/png:https://jccns.org/wp-content/uploads/2026/02/Everyday-AI-for-Parents-2026-Eblast-img.png
ORGANIZER;CN="Lauren Weiss":MAILTO:lweiss@jccns.com
END:VEVENT
END:VCALENDAR