BEGIN:VCALENDAR
VERSION:2.0
PRODID:-//JCCNS, Jewish Community Center of the North Shore - ECPv6.15.20//NONSGML v1.0//EN
CALSCALE:GREGORIAN
METHOD:PUBLISH
X-WR-CALNAME:JCCNS, Jewish Community Center of the North Shore
X-ORIGINAL-URL:https://jccns.org
X-WR-CALDESC:Events for JCCNS, Jewish Community Center of the North Shore
REFRESH-INTERVAL;VALUE=DURATION:PT1H
X-Robots-Tag:noindex
X-PUBLISHED-TTL:PT1H
BEGIN:VTIMEZONE
TZID:America/New_York
BEGIN:DAYLIGHT
TZOFFSETFROM:-0500
TZOFFSETTO:-0400
TZNAME:EDT
DTSTART:20250309T070000
END:DAYLIGHT
BEGIN:STANDARD
TZOFFSETFROM:-0400
TZOFFSETTO:-0500
TZNAME:EST
DTSTART:20251102T060000
END:STANDARD
BEGIN:DAYLIGHT
TZOFFSETFROM:-0500
TZOFFSETTO:-0400
TZNAME:EDT
DTSTART:20260308T070000
END:DAYLIGHT
BEGIN:STANDARD
TZOFFSETFROM:-0400
TZOFFSETTO:-0500
TZNAME:EST
DTSTART:20261101T060000
END:STANDARD
BEGIN:DAYLIGHT
TZOFFSETFROM:-0500
TZOFFSETTO:-0400
TZNAME:EDT
DTSTART:20270314T070000
END:DAYLIGHT
BEGIN:STANDARD
TZOFFSETFROM:-0400
TZOFFSETTO:-0500
TZNAME:EST
DTSTART:20271107T060000
END:STANDARD
END:VTIMEZONE
BEGIN:VEVENT
DTSTART;TZID=America/New_York:20260312T120000
DTEND;TZID=America/New_York:20260312T144500
DTSTAMP:20260421T063535
CREATED:20260225T175139Z
LAST-MODIFIED:20260225T180316Z
UID:10002943-1773316800-1773326700@jccns.org
SUMMARY:Open Play Canasta at the J!
DESCRIPTION:NEW DAY-Thursdays! \nJoin us for weekly Canasta games! Please bring your own playing cards and card holder. \nMembers: Free\nCommunity $5 to be paid at The Welcome Center. \nPlease RSVP to Sara Ewing at sewing@jccns.com.
URL:https://jccns.org/event/open-play-canasta-at-the-j-2/2026-03-12/
LOCATION:JCCNS\, 4 Community Rd.\, Marblehead\, MA\, 01945
ATTACH;FMTTYPE=image/png:https://jccns.org/wp-content/uploads/2025/12/Canasta-Open-Play-2025-Eblast-img.png
ORGANIZER;CN="Lauren Weiss":MAILTO:lweiss@jccns.com
END:VEVENT
BEGIN:VEVENT
DTSTART;TZID=America/New_York:20260312T173000
DTEND;TZID=America/New_York:20260312T183000
DTSTAMP:20260421T063535
CREATED:20260302T182858Z
LAST-MODIFIED:20260306T193805Z
UID:10003217-1773336600-1773340200@jccns.org
SUMMARY:Spouses Healing Circle
DESCRIPTION:at Periwinkles Food Shoppe\, 540B Loring Ave\, Salem\, MA \nHurdles on the Road to Healing \nThis month’s gathering will be facilitated by Dr. Maura Copeland\, a Geriatric Psychiatrist and Medical Director at the Center for Healthy Aging at Beth Israel Lahey Health Outpatient Center\, Danvers. \nJoin us for an open conversation about some of the common challenges that can make it harder to move forward after a loss. These may include feelings of regret\, guilt\, or even anger toward the person you loved and lost—emotions that can be difficult to acknowledge and work through. \nYou can grab dinner or just coffee\, and join us for a discussion. \nFree and open to everyone. Please RSVP to sewing@jccns.com \n 
URL:https://jccns.org/event/spouses-healing-circle/
LOCATION:Periwinkles\, 540B Loring Ave\, Salem\, 01970\, United States
CATEGORIES:Home-Register
ATTACH;FMTTYPE=image/png:https://jccns.org/wp-content/uploads/2026/03/Spouses-Healing-Circle-Event-img.png
ORGANIZER;CN="Lauren Weiss":MAILTO:lweiss@jccns.com
END:VEVENT
BEGIN:VEVENT
DTSTART;TZID=America/New_York:20260312T193000
DTEND;TZID=America/New_York:20260312T210000
DTSTAMP:20260421T063535
CREATED:20241018T174651Z
LAST-MODIFIED:20241227T164654Z
UID:10000643-1773343800-1773349200@jccns.org
SUMMARY:Israeli Folk Dancing
DESCRIPTION:Class will be held at the JCCNS in WK \nFREE but please RSVP if you plan on attending to  ns.israeli.folk.dance@gmail.com
URL:https://jccns.org/event/israeli-folk-dancing-11/2026-03-12/
LOCATION:JCCNS\, 4 Community Rd.\, Marblehead\, MA\, 01945
ATTACH;FMTTYPE=image/png:https://jccns.org/wp-content/uploads/2024/12/Israeli-Folk-Dancing-square.png
END:VEVENT
END:VCALENDAR