BEGIN:VCALENDAR
VERSION:2.0
PRODID:-//JCCNS, Jewish Community Center of the North Shore - ECPv6.15.20//NONSGML v1.0//EN
CALSCALE:GREGORIAN
METHOD:PUBLISH
X-ORIGINAL-URL:https://jccns.org
X-WR-CALDESC:Events for JCCNS, Jewish Community Center of the North Shore
REFRESH-INTERVAL;VALUE=DURATION:PT1H
X-Robots-Tag:noindex
X-PUBLISHED-TTL:PT1H
BEGIN:VTIMEZONE
TZID:America/New_York
BEGIN:DAYLIGHT
TZOFFSETFROM:-0500
TZOFFSETTO:-0400
TZNAME:EDT
DTSTART:20250309T070000
END:DAYLIGHT
BEGIN:STANDARD
TZOFFSETFROM:-0400
TZOFFSETTO:-0500
TZNAME:EST
DTSTART:20251102T060000
END:STANDARD
BEGIN:DAYLIGHT
TZOFFSETFROM:-0500
TZOFFSETTO:-0400
TZNAME:EDT
DTSTART:20260308T070000
END:DAYLIGHT
BEGIN:STANDARD
TZOFFSETFROM:-0400
TZOFFSETTO:-0500
TZNAME:EST
DTSTART:20261101T060000
END:STANDARD
BEGIN:DAYLIGHT
TZOFFSETFROM:-0500
TZOFFSETTO:-0400
TZNAME:EDT
DTSTART:20270314T070000
END:DAYLIGHT
BEGIN:STANDARD
TZOFFSETFROM:-0400
TZOFFSETTO:-0500
TZNAME:EST
DTSTART:20271107T060000
END:STANDARD
END:VTIMEZONE
BEGIN:VEVENT
DTSTART;TZID=America/New_York:20260318T190000
DTEND;TZID=America/New_York:20260318T190000
DTSTAMP:20260421T090441
CREATED:20241018T175943Z
LAST-MODIFIED:20241227T165037Z
UID:10000924-1773860400-1773860400@jccns.org
SUMMARY:Knitting Knights
DESCRIPTION:Join us for fun evenings of knitting and chat. All ability levels welcome. \nFirst and third Wednesdays of every month. \nEveryone is welcome!  You do not need to be a member to attend.
URL:https://jccns.org/event/knitting-knights-2/2026-03-18/
LOCATION:JCCNS Women’s Health Center\, 4 Community Rd.\, Marblehead\, MA\, 01945\, United States
ATTACH;FMTTYPE=image/png:https://jccns.org/wp-content/uploads/2024/10/Knitting-Knights-square.png
END:VEVENT
BEGIN:VEVENT
DTSTART;TZID=America/New_York:20260318T190000
DTEND;TZID=America/New_York:20260318T200000
DTSTAMP:20260421T090441
CREATED:20260303T194901Z
LAST-MODIFIED:20260306T194048Z
UID:10003219-1773860400-1773864000@jccns.org
SUMMARY:Get Your Soul Ready for Passover
DESCRIPTION:Join Layah Lipsker as we prepare for the journey from slavery to freedom with an interactive exploration guided by the Haggadah. When we live in reaction\, we remain bound. When we live with intention\, we step into freedom. Together\, we’ll explore how to move from habit to awareness\, from constraint to choice. Ideal for anyone wishing to bring Kabbalistic depth and renewed meaning to their Seder experience. FREE and everyone is welcome but please RSVP below. Light refreshments will be served.
URL:https://jccns.org/event/get-your-soul-ready-for-passover/
LOCATION:JCCNS\, 4 Community Rd.\, Marblehead\, MA\, 01945
CATEGORIES:Home-Register
ATTACH;FMTTYPE=image/png:https://jccns.org/wp-content/uploads/2026/03/Get-Your-Soul-Ready-for-Passover-2026-Eblast.png
ORGANIZER;CN="Lauren Weiss":MAILTO:lweiss@jccns.com
END:VEVENT
END:VCALENDAR