BEGIN:VCALENDAR
VERSION:2.0
PRODID:-//JCCNS, Jewish Community Center of the North Shore - ECPv6.15.20//NONSGML v1.0//EN
CALSCALE:GREGORIAN
METHOD:PUBLISH
X-WR-CALNAME:JCCNS, Jewish Community Center of the North Shore
X-ORIGINAL-URL:https://jccns.org
X-WR-CALDESC:Events for JCCNS, Jewish Community Center of the North Shore
REFRESH-INTERVAL;VALUE=DURATION:PT1H
X-Robots-Tag:noindex
X-PUBLISHED-TTL:PT1H
BEGIN:VTIMEZONE
TZID:America/New_York
BEGIN:DAYLIGHT
TZOFFSETFROM:-0500
TZOFFSETTO:-0400
TZNAME:EDT
DTSTART:20250309T070000
END:DAYLIGHT
BEGIN:STANDARD
TZOFFSETFROM:-0400
TZOFFSETTO:-0500
TZNAME:EST
DTSTART:20251102T060000
END:STANDARD
BEGIN:DAYLIGHT
TZOFFSETFROM:-0500
TZOFFSETTO:-0400
TZNAME:EDT
DTSTART:20260308T070000
END:DAYLIGHT
BEGIN:STANDARD
TZOFFSETFROM:-0400
TZOFFSETTO:-0500
TZNAME:EST
DTSTART:20261101T060000
END:STANDARD
BEGIN:DAYLIGHT
TZOFFSETFROM:-0500
TZOFFSETTO:-0400
TZNAME:EDT
DTSTART:20270314T070000
END:DAYLIGHT
BEGIN:STANDARD
TZOFFSETFROM:-0400
TZOFFSETTO:-0500
TZNAME:EST
DTSTART:20271107T060000
END:STANDARD
END:VTIMEZONE
BEGIN:VEVENT
DTSTART;TZID=America/New_York:20260319T120000
DTEND;TZID=America/New_York:20260319T144500
DTSTAMP:20260423T060902
CREATED:20260225T175139Z
LAST-MODIFIED:20260225T180316Z
UID:10002944-1773921600-1773931500@jccns.org
SUMMARY:Open Play Canasta at the J!
DESCRIPTION:at Congregation Shirat Hayam\, 55 Atlantic Ave\, Swampscott Fighting Back Against Campus Anti-Semitism Join us to discuss the situation on U.S. College Campuses and beyond\, as well as legal responses from the U.S. Government\, The Louis D. Brandeis Center and others. Hon. Kenneth L. Marcus is the Founder\, Chairman\, and CEO of The Louis D. Brandeis Center for Human Rights Under Law\, the leading civil rights legal organization fighting against anti-Semitism. The New York Times has called him “The Man Who Helped Redefine Campus Anti-Semitism.” 7:00pm-Scoth (wine & non-alcholic bevrages available)7:30pm-Schmooze Event is free\, please RSVP below. 								\n				\n				\n				\n									\n					\n						\n									RSVP
URL:https://jccns.org/event/open-play-canasta-at-the-j-2/2026-03-19/
LOCATION:JCCNS\, 4 Community Rd.\, Marblehead\, MA\, 01945
ATTACH;FMTTYPE=image/png:https://jccns.org/wp-content/uploads/2025/12/Canasta-Open-Play-2025-Eblast-img.png
ORGANIZER;CN="Lauren Weiss":MAILTO:lweiss@jccns.com
END:VEVENT
BEGIN:VEVENT
DTSTART;TZID=America/New_York:20260319T193000
DTEND;TZID=America/New_York:20260319T210000
DTSTAMP:20260423T060902
CREATED:20241018T174651Z
LAST-MODIFIED:20241227T164654Z
UID:10000644-1773948600-1773954000@jccns.org
SUMMARY:Israeli Folk Dancing
DESCRIPTION:at Congregation Shirat Hayam\, 55 Atlantic Ave\, Swampscott Fighting Back Against Campus Anti-Semitism Join us to discuss the situation on U.S. College Campuses and beyond\, as well as legal responses from the U.S. Government\, The Louis D. Brandeis Center and others. Hon. Kenneth L. Marcus is the Founder\, Chairman\, and CEO of The Louis D. Brandeis Center for Human Rights Under Law\, the leading civil rights legal organization fighting against anti-Semitism. The New York Times has called him “The Man Who Helped Redefine Campus Anti-Semitism.” 7:00pm-Scoth (wine & non-alcholic bevrages available)7:30pm-Schmooze Event is free\, please RSVP below. 								\n				\n				\n				\n									\n					\n						\n									RSVP
URL:https://jccns.org/event/israeli-folk-dancing-11/2026-03-19/
LOCATION:JCCNS\, 4 Community Rd.\, Marblehead\, MA\, 01945
ATTACH;FMTTYPE=image/png:https://jccns.org/wp-content/uploads/2024/12/Israeli-Folk-Dancing-square.png
END:VEVENT
END:VCALENDAR