BEGIN:VCALENDAR
VERSION:2.0
PRODID:-//JCCNS, Jewish Community Center of the North Shore - ECPv6.15.20//NONSGML v1.0//EN
CALSCALE:GREGORIAN
METHOD:PUBLISH
X-ORIGINAL-URL:https://jccns.org
X-WR-CALDESC:Events for JCCNS, Jewish Community Center of the North Shore
REFRESH-INTERVAL;VALUE=DURATION:PT1H
X-Robots-Tag:noindex
X-PUBLISHED-TTL:PT1H
BEGIN:VTIMEZONE
TZID:America/New_York
BEGIN:DAYLIGHT
TZOFFSETFROM:-0500
TZOFFSETTO:-0400
TZNAME:EDT
DTSTART:20250309T070000
END:DAYLIGHT
BEGIN:STANDARD
TZOFFSETFROM:-0400
TZOFFSETTO:-0500
TZNAME:EST
DTSTART:20251102T060000
END:STANDARD
BEGIN:DAYLIGHT
TZOFFSETFROM:-0500
TZOFFSETTO:-0400
TZNAME:EDT
DTSTART:20260308T070000
END:DAYLIGHT
BEGIN:STANDARD
TZOFFSETFROM:-0400
TZOFFSETTO:-0500
TZNAME:EST
DTSTART:20261101T060000
END:STANDARD
BEGIN:DAYLIGHT
TZOFFSETFROM:-0500
TZOFFSETTO:-0400
TZNAME:EDT
DTSTART:20270314T070000
END:DAYLIGHT
BEGIN:STANDARD
TZOFFSETFROM:-0400
TZOFFSETTO:-0500
TZNAME:EST
DTSTART:20271107T060000
END:STANDARD
END:VTIMEZONE
BEGIN:VEVENT
DTSTART;TZID=America/New_York:20260322T080000
DTEND;TZID=America/New_York:20260322T095000
DTSTAMP:20260425T092241
CREATED:20241021T165013Z
LAST-MODIFIED:20241227T164701Z
UID:10001041-1774166400-1774173000@jccns.org
SUMMARY:Israeli Folk Dancing
DESCRIPTION:at Congregation Shirat Hayam\, 55 Atlantic Ave\, Swampscott Fighting Back Against Campus Anti-Semitism Join us to discuss the situation on U.S. College Campuses and beyond\, as well as legal responses from the U.S. Government\, The Louis D. Brandeis Center and others. Hon. Kenneth L. Marcus is the Founder\, Chairman\, and CEO of The Louis D. Brandeis Center for Human Rights Under Law\, the leading civil rights legal organization fighting against anti-Semitism. The New York Times has called him “The Man Who Helped Redefine Campus Anti-Semitism.” 7:00pm-Scoth (wine & non-alcholic bevrages available)7:30pm-Schmooze Event is free\, please RSVP below. 								\n				\n				\n				\n									\n					\n						\n									RSVP
URL:https://jccns.org/event/israeli-folk-dancing-13/2026-03-22/
LOCATION:JCCNS\, 4 Community Rd.\, Marblehead\, MA\, 01945
ATTACH;FMTTYPE=image/png:https://jccns.org/wp-content/uploads/2024/12/Israeli-Folk-Dancing-square.png
END:VEVENT
BEGIN:VEVENT
DTSTART;TZID=America/New_York:20260322T093000
DTEND;TZID=America/New_York:20260322T130000
DTSTAMP:20260425T092241
CREATED:20260202T130003Z
LAST-MODIFIED:20260319T161354Z
UID:10002402-1774171800-1774184400@jccns.org
SUMMARY:Sea Serpents 2026 FUN Meet FUNdraiser
DESCRIPTION:at Congregation Shirat Hayam\, 55 Atlantic Ave\, Swampscott Fighting Back Against Campus Anti-Semitism Join us to discuss the situation on U.S. College Campuses and beyond\, as well as legal responses from the U.S. Government\, The Louis D. Brandeis Center and others. Hon. Kenneth L. Marcus is the Founder\, Chairman\, and CEO of The Louis D. Brandeis Center for Human Rights Under Law\, the leading civil rights legal organization fighting against anti-Semitism. The New York Times has called him “The Man Who Helped Redefine Campus Anti-Semitism.” 7:00pm-Scoth (wine & non-alcholic bevrages available)7:30pm-Schmooze Event is free\, please RSVP below. 								\n				\n				\n				\n									\n					\n						\n									RSVP
URL:https://jccns.org/event/sea-serpents-2026-fun-meet-fundraiser/
LOCATION:JCCNS Indoor Pool\, 4 Community Rd.\, Marblehead\, MA\, 01945\, United States
CATEGORIES:Aquatics Events,Family Events,Home-Register
ATTACH;FMTTYPE=image/png:https://jccns.org/wp-content/uploads/2025/02/Sea-Serpents-FUNdraiser-2025-Eblast-sq.png
ORGANIZER;CN="Ashley Vieira":MAILTO:avieira@jccns.com
END:VEVENT
BEGIN:VEVENT
DTSTART;TZID=America/New_York:20260322T100000
DTEND;TZID=America/New_York:20260322T120000
DTSTAMP:20260425T092241
CREATED:20260313T153558Z
LAST-MODIFIED:20260313T153558Z
UID:10003235-1774173600-1774180800@jccns.org
SUMMARY:JCCNS Early Childhood Program extension in Beverly Open House
DESCRIPTION:at Congregation Shirat Hayam\, 55 Atlantic Ave\, Swampscott Fighting Back Against Campus Anti-Semitism Join us to discuss the situation on U.S. College Campuses and beyond\, as well as legal responses from the U.S. Government\, The Louis D. Brandeis Center and others. Hon. Kenneth L. Marcus is the Founder\, Chairman\, and CEO of The Louis D. Brandeis Center for Human Rights Under Law\, the leading civil rights legal organization fighting against anti-Semitism. The New York Times has called him “The Man Who Helped Redefine Campus Anti-Semitism.” 7:00pm-Scoth (wine & non-alcholic bevrages available)7:30pm-Schmooze Event is free\, please RSVP below. 								\n				\n				\n				\n									\n					\n						\n									RSVP
URL:https://jccns.org/event/jccns-early-childhood-program-extension-in-beverly-open-house-4/
LOCATION:Temple B’nai Abraham\, 200 East Lothrop Street\, Beverly\, MA\, 01945\, United States
CATEGORIES:Home-Register
ATTACH;FMTTYPE=image/png:https://jccns.org/wp-content/uploads/2025/07/ECP-Beverly-Extension-at-TBA-web-sq.png
ORGANIZER;CN="Maria Duffany":MAILTO:mduffany@jccns.com
END:VEVENT
BEGIN:VEVENT
DTSTART;TZID=America/New_York:20260322T103000
DTEND;TZID=America/New_York:20260322T120000
DTSTAMP:20260425T092241
CREATED:20251216T160520Z
LAST-MODIFIED:20251216T160520Z
UID:10002298-1774175400-1774180800@jccns.org
SUMMARY:Young Family Gym Time
DESCRIPTION:at Congregation Shirat Hayam\, 55 Atlantic Ave\, Swampscott Fighting Back Against Campus Anti-Semitism Join us to discuss the situation on U.S. College Campuses and beyond\, as well as legal responses from the U.S. Government\, The Louis D. Brandeis Center and others. Hon. Kenneth L. Marcus is the Founder\, Chairman\, and CEO of The Louis D. Brandeis Center for Human Rights Under Law\, the leading civil rights legal organization fighting against anti-Semitism. The New York Times has called him “The Man Who Helped Redefine Campus Anti-Semitism.” 7:00pm-Scoth (wine & non-alcholic bevrages available)7:30pm-Schmooze Event is free\, please RSVP below. 								\n				\n				\n				\n									\n					\n						\n									RSVP
URL:https://jccns.org/event/young-family-gym-time-4/2026-03-22/
LOCATION:JCCNS\, 4 Community Rd.\, Marblehead\, MA\, 01945
CATEGORIES:Family Events
ATTACH;FMTTYPE=image/png:https://jccns.org/wp-content/uploads/2024/12/Young-Family-Open-Gym-EblastSquare.png
END:VEVENT
BEGIN:VEVENT
DTSTART;TZID=America/New_York:20260322T110000
DTEND;TZID=America/New_York:20260322T130000
DTSTAMP:20260425T092241
CREATED:20260205T191033Z
LAST-MODIFIED:20260306T193927Z
UID:10002409-1774177200-1774184400@jccns.org
SUMMARY:Women's Seder — Rise/We Rise: Embodying Our Legacy
DESCRIPTION:at Congregation Shirat Hayam\, 55 Atlantic Ave\, Swampscott Fighting Back Against Campus Anti-Semitism Join us to discuss the situation on U.S. College Campuses and beyond\, as well as legal responses from the U.S. Government\, The Louis D. Brandeis Center and others. Hon. Kenneth L. Marcus is the Founder\, Chairman\, and CEO of The Louis D. Brandeis Center for Human Rights Under Law\, the leading civil rights legal organization fighting against anti-Semitism. The New York Times has called him “The Man Who Helped Redefine Campus Anti-Semitism.” 7:00pm-Scoth (wine & non-alcholic bevrages available)7:30pm-Schmooze Event is free\, please RSVP below. 								\n				\n				\n				\n									\n					\n						\n									RSVP
URL:https://jccns.org/event/womens-seder-i-rise-we-rise-embodying-our-legacy/
LOCATION:Congregation Shirat Hayam\, 55 Atlantic Avenue\, Swampscott\, MA\, 01907\, United States
CATEGORIES:Home-Register
ATTACH;FMTTYPE=image/png:https://jccns.org/wp-content/uploads/2026/02/Womens-Seder-2026-Eblast-img.png
ORGANIZER;CN="Sara Ewing":MAILTO:sewing@jccns.com
END:VEVENT
BEGIN:VEVENT
DTSTART;TZID=America/New_York:20260322T150000
DTEND;TZID=America/New_York:20260322T170000
DTSTAMP:20260425T092241
CREATED:20251215T154008Z
LAST-MODIFIED:20260309T161530Z
UID:10002272-1774191600-1774198800@jccns.org
SUMMARY:2026 Music Concert Series at Salem State University
DESCRIPTION:at Congregation Shirat Hayam\, 55 Atlantic Ave\, Swampscott Fighting Back Against Campus Anti-Semitism Join us to discuss the situation on U.S. College Campuses and beyond\, as well as legal responses from the U.S. Government\, The Louis D. Brandeis Center and others. Hon. Kenneth L. Marcus is the Founder\, Chairman\, and CEO of The Louis D. Brandeis Center for Human Rights Under Law\, the leading civil rights legal organization fighting against anti-Semitism. The New York Times has called him “The Man Who Helped Redefine Campus Anti-Semitism.” 7:00pm-Scoth (wine & non-alcholic bevrages available)7:30pm-Schmooze Event is free\, please RSVP below. 								\n				\n				\n				\n									\n					\n						\n									RSVP
URL:https://jccns.org/event/2026-music-concert-series-at-salem-state-university-2/
LOCATION:Salem State University\, Recital Hall\, Harrington Campus\, 71 Loring Ave\, Salem\, MA\, 01970\, United States
CATEGORIES:Home-Series
ATTACH;FMTTYPE=image/png:https://jccns.org/wp-content/uploads/2025/12/Salem-State-Concert-Series-2026-03-22-Rev-Eblast.png
ORGANIZER;CN="Sara Ewing":MAILTO:sewing@jccns.com
END:VEVENT
END:VCALENDAR