BEGIN:VCALENDAR
VERSION:2.0
PRODID:-//JCCNS, Jewish Community Center of the North Shore - ECPv6.15.20//NONSGML v1.0//EN
CALSCALE:GREGORIAN
METHOD:PUBLISH
X-ORIGINAL-URL:https://jccns.org
X-WR-CALDESC:Events for JCCNS, Jewish Community Center of the North Shore
REFRESH-INTERVAL;VALUE=DURATION:PT1H
X-Robots-Tag:noindex
X-PUBLISHED-TTL:PT1H
BEGIN:VTIMEZONE
TZID:America/New_York
BEGIN:DAYLIGHT
TZOFFSETFROM:-0500
TZOFFSETTO:-0400
TZNAME:EDT
DTSTART:20250309T070000
END:DAYLIGHT
BEGIN:STANDARD
TZOFFSETFROM:-0400
TZOFFSETTO:-0500
TZNAME:EST
DTSTART:20251102T060000
END:STANDARD
BEGIN:DAYLIGHT
TZOFFSETFROM:-0500
TZOFFSETTO:-0400
TZNAME:EDT
DTSTART:20260308T070000
END:DAYLIGHT
BEGIN:STANDARD
TZOFFSETFROM:-0400
TZOFFSETTO:-0500
TZNAME:EST
DTSTART:20261101T060000
END:STANDARD
BEGIN:DAYLIGHT
TZOFFSETFROM:-0500
TZOFFSETTO:-0400
TZNAME:EDT
DTSTART:20270314T070000
END:DAYLIGHT
BEGIN:STANDARD
TZOFFSETFROM:-0400
TZOFFSETTO:-0500
TZNAME:EST
DTSTART:20271107T060000
END:STANDARD
END:VTIMEZONE
BEGIN:VEVENT
DTSTART;TZID=America/New_York:20260326T113000
DTEND;TZID=America/New_York:20260326T123000
DTSTAMP:20260419T162430
CREATED:20260305T140434Z
LAST-MODIFIED:20260305T140434Z
UID:10003220-1774524600-1774528200@jccns.org
SUMMARY:The Least Qualified Coach in Professional Baseball
DESCRIPTION:Monthly Mid-Day Speaker Series \nJoin us for an inspiring conversation with Evan Katz as he shares his incredible journey into professional baseball later in life. \nAt 61\, he made his pro pitching debut. At 67\, he became one of the oldest pitchers to start a minor league game. At 69\, he became a professional scout and coach\, helping lead a second-year pro team to the playoffs. A powerful story of perseverance\, reinvention\, and proving it’s never too late to chase a dream. \nCoffee and bagels will be served. \n  \nFREE and open to everyone.  Please RSVP below.
URL:https://jccns.org/event/the-least-qualified-coach-in-professional-baseball/
LOCATION:JCCNS\, 4 Community Rd.\, Marblehead\, MA\, 01945
CATEGORIES:Home-Register
ATTACH;FMTTYPE=image/png:https://jccns.org/wp-content/uploads/2026/03/Mid-day-Speaker-Series-2026-03-Baseball-Eblast.png
ORGANIZER;CN="Lauren Weiss":MAILTO:lweiss@jccns.com
END:VEVENT
BEGIN:VEVENT
DTSTART;TZID=America/New_York:20260326T120000
DTEND;TZID=America/New_York:20260326T144500
DTSTAMP:20260419T162430
CREATED:20260225T175139Z
LAST-MODIFIED:20260225T180316Z
UID:10002945-1774526400-1774536300@jccns.org
SUMMARY:Open Play Canasta at the J!
DESCRIPTION:NEW DAY-Thursdays! \nJoin us for weekly Canasta games! Please bring your own playing cards and card holder. \nMembers: Free\nCommunity $5 to be paid at The Welcome Center. \nPlease RSVP to Sara Ewing at sewing@jccns.com.
URL:https://jccns.org/event/open-play-canasta-at-the-j-2/2026-03-26/
LOCATION:JCCNS\, 4 Community Rd.\, Marblehead\, MA\, 01945
ATTACH;FMTTYPE=image/png:https://jccns.org/wp-content/uploads/2025/12/Canasta-Open-Play-2025-Eblast-img.png
ORGANIZER;CN="Lauren Weiss":MAILTO:lweiss@jccns.com
END:VEVENT
BEGIN:VEVENT
DTSTART;TZID=America/New_York:20260326T193000
DTEND;TZID=America/New_York:20260326T210000
DTSTAMP:20260419T162430
CREATED:20241018T174651Z
LAST-MODIFIED:20241227T164654Z
UID:10000645-1774553400-1774558800@jccns.org
SUMMARY:Israeli Folk Dancing
DESCRIPTION:Class will be held at the JCCNS in WK \nFREE but please RSVP if you plan on attending to  ns.israeli.folk.dance@gmail.com
URL:https://jccns.org/event/israeli-folk-dancing-11/2026-03-26/
LOCATION:JCCNS\, 4 Community Rd.\, Marblehead\, MA\, 01945
ATTACH;FMTTYPE=image/png:https://jccns.org/wp-content/uploads/2024/12/Israeli-Folk-Dancing-square.png
END:VEVENT
END:VCALENDAR