BEGIN:VCALENDAR
VERSION:2.0
PRODID:-//JCCNS, Jewish Community Center of the North Shore - ECPv6.15.20//NONSGML v1.0//EN
CALSCALE:GREGORIAN
METHOD:PUBLISH
X-ORIGINAL-URL:https://jccns.org
X-WR-CALDESC:Events for JCCNS, Jewish Community Center of the North Shore
REFRESH-INTERVAL;VALUE=DURATION:PT1H
X-Robots-Tag:noindex
X-PUBLISHED-TTL:PT1H
BEGIN:VTIMEZONE
TZID:America/New_York
BEGIN:DAYLIGHT
TZOFFSETFROM:-0500
TZOFFSETTO:-0400
TZNAME:EDT
DTSTART:20250309T070000
END:DAYLIGHT
BEGIN:STANDARD
TZOFFSETFROM:-0400
TZOFFSETTO:-0500
TZNAME:EST
DTSTART:20251102T060000
END:STANDARD
BEGIN:DAYLIGHT
TZOFFSETFROM:-0500
TZOFFSETTO:-0400
TZNAME:EDT
DTSTART:20260308T070000
END:DAYLIGHT
BEGIN:STANDARD
TZOFFSETFROM:-0400
TZOFFSETTO:-0500
TZNAME:EST
DTSTART:20261101T060000
END:STANDARD
BEGIN:DAYLIGHT
TZOFFSETFROM:-0500
TZOFFSETTO:-0400
TZNAME:EDT
DTSTART:20270314T070000
END:DAYLIGHT
BEGIN:STANDARD
TZOFFSETFROM:-0400
TZOFFSETTO:-0500
TZNAME:EST
DTSTART:20271107T060000
END:STANDARD
END:VTIMEZONE
BEGIN:VEVENT
DTSTART;TZID=America/New_York:20260322T093000
DTEND;TZID=America/New_York:20260322T130000
DTSTAMP:20260419T105330
CREATED:20260202T130003Z
LAST-MODIFIED:20260319T161354Z
UID:10002402-1774171800-1774184400@jccns.org
SUMMARY:Sea Serpents 2026 FUN Meet FUNdraiser
DESCRIPTION:9:30am Warm up\n10:00am Start \nJoin us for a fun swim meet FUNdraiser for the Sea Serpent Swim Team! Funds raised will go toward (2) Finis Swim Block Track Starts\, (2) Finis Backstroke Start Wedge\, a Colorado 6-Lane Cable Harness\, and the end-of-the-season banquet. \nThere are two ways to contribute: \n\nPARTICIPATE: Fill out the form to participate ($30 entry fee) and select as many events as you’d like! Registration deadline is Wednesday\, March 18th.\nSUPPORT A SWIMMER: Donate to the FUNdraiser by filling out the form\n\n  \nRegistration is now closed\, but you can still support a swimmer! \n  \n\n	Notice: JavaScript is required for this content.
URL:https://jccns.org/event/sea-serpents-2026-fun-meet-fundraiser/
LOCATION:JCCNS Indoor Pool\, 4 Community Rd.\, Marblehead\, MA\, 01945\, United States
CATEGORIES:Aquatics Events,Family Events,Home-Register
ATTACH;FMTTYPE=image/png:https://jccns.org/wp-content/uploads/2025/02/Sea-Serpents-FUNdraiser-2025-Eblast-sq.png
ORGANIZER;CN="Ashley Vieira":MAILTO:avieira@jccns.com
END:VEVENT
BEGIN:VEVENT
DTSTART;TZID=America/New_York:20260322T103000
DTEND;TZID=America/New_York:20260322T120000
DTSTAMP:20260419T105330
CREATED:20251216T160520Z
LAST-MODIFIED:20251216T160520Z
UID:10002298-1774175400-1774180800@jccns.org
SUMMARY:Young Family Gym Time
DESCRIPTION:Join us Sundays for Young Family Gym Time and enjoy our indoor soft play and equipment! \nPerfect for Infants\, Toddlers and Preschoolers. \nParents/guardians are required to stay with their children. \nFREE for members. $10 for community.
URL:https://jccns.org/event/young-family-gym-time-4/2026-03-22/
LOCATION:JCCNS\, 4 Community Rd.\, Marblehead\, MA\, 01945
CATEGORIES:Family Events
ATTACH;FMTTYPE=image/png:https://jccns.org/wp-content/uploads/2024/12/Young-Family-Open-Gym-EblastSquare.png
END:VEVENT
END:VCALENDAR