BEGIN:VCALENDAR
VERSION:2.0
PRODID:-//JCCNS, Jewish Community Center of the North Shore - ECPv6.15.20//NONSGML v1.0//EN
CALSCALE:GREGORIAN
METHOD:PUBLISH
X-ORIGINAL-URL:https://jccns.org
X-WR-CALDESC:Events for JCCNS, Jewish Community Center of the North Shore
REFRESH-INTERVAL;VALUE=DURATION:PT1H
X-Robots-Tag:noindex
X-PUBLISHED-TTL:PT1H
BEGIN:VTIMEZONE
TZID:America/New_York
BEGIN:DAYLIGHT
TZOFFSETFROM:-0500
TZOFFSETTO:-0400
TZNAME:EDT
DTSTART:20250309T070000
END:DAYLIGHT
BEGIN:STANDARD
TZOFFSETFROM:-0400
TZOFFSETTO:-0500
TZNAME:EST
DTSTART:20251102T060000
END:STANDARD
BEGIN:DAYLIGHT
TZOFFSETFROM:-0500
TZOFFSETTO:-0400
TZNAME:EDT
DTSTART:20260308T070000
END:DAYLIGHT
BEGIN:STANDARD
TZOFFSETFROM:-0400
TZOFFSETTO:-0500
TZNAME:EST
DTSTART:20261101T060000
END:STANDARD
BEGIN:DAYLIGHT
TZOFFSETFROM:-0500
TZOFFSETTO:-0400
TZNAME:EDT
DTSTART:20270314T070000
END:DAYLIGHT
BEGIN:STANDARD
TZOFFSETFROM:-0400
TZOFFSETTO:-0500
TZNAME:EST
DTSTART:20271107T060000
END:STANDARD
END:VTIMEZONE
BEGIN:VEVENT
DTSTART;TZID=America/New_York:20260329T103000
DTEND;TZID=America/New_York:20260329T120000
DTSTAMP:20260419T093614
CREATED:20251216T160520Z
LAST-MODIFIED:20251216T160520Z
UID:10002299-1774780200-1774785600@jccns.org
SUMMARY:Young Family Gym Time
DESCRIPTION:Join us Sundays for Young Family Gym Time and enjoy our indoor soft play and equipment! \nPerfect for Infants\, Toddlers and Preschoolers. \nParents/guardians are required to stay with their children. \nFREE for members. $10 for community.
URL:https://jccns.org/event/young-family-gym-time-4/2026-03-29/
LOCATION:JCCNS\, 4 Community Rd.\, Marblehead\, MA\, 01945
CATEGORIES:Family Events
ATTACH;FMTTYPE=image/png:https://jccns.org/wp-content/uploads/2024/12/Young-Family-Open-Gym-EblastSquare.png
END:VEVENT
BEGIN:VEVENT
DTSTART;TZID=America/New_York:20260405T103000
DTEND;TZID=America/New_York:20260405T120000
DTSTAMP:20260419T093614
CREATED:20251216T160520Z
LAST-MODIFIED:20251216T160520Z
UID:10002300-1775385000-1775390400@jccns.org
SUMMARY:Young Family Gym Time
DESCRIPTION:Join us Sundays for Young Family Gym Time and enjoy our indoor soft play and equipment! \nPerfect for Infants\, Toddlers and Preschoolers. \nParents/guardians are required to stay with their children. \nFREE for members. $10 for community.
URL:https://jccns.org/event/young-family-gym-time-4/2026-04-05/
LOCATION:JCCNS\, 4 Community Rd.\, Marblehead\, MA\, 01945
CATEGORIES:Family Events
ATTACH;FMTTYPE=image/png:https://jccns.org/wp-content/uploads/2024/12/Young-Family-Open-Gym-EblastSquare.png
END:VEVENT
BEGIN:VEVENT
DTSTART;TZID=America/New_York:20260410T163000
DTEND;TZID=America/New_York:20260410T180000
DTSTAMP:20260419T093614
CREATED:20260311T170259Z
LAST-MODIFIED:20260311T170259Z
UID:10003224-1775838600-1775844000@jccns.org
SUMMARY:JCCNS and Temple Sinai Family Shabbat
DESCRIPTION:Let’s celebrate Shabbat as a community of young North Shore families. Join us for a family-friendly dinner. We will sing songs\, have a craft\, and a story! \nHosted by Temple Sinai.\nFor families with Children 8 and younger.\n \nEvent is FREE and open to the public. Please RSVP below. \n 
URL:https://jccns.org/event/jccns-and-temple-sinai-family-shabbat-2/
LOCATION:JCCNS\, 4 Community Rd.\, Marblehead\, MA\, 01945
CATEGORIES:Family Events,Home-Register
ATTACH;FMTTYPE=image/png:https://jccns.org/wp-content/uploads/2024/11/Family-Shabbat-square-image.png
ORGANIZER;CN="Family Connector":MAILTO:FamilyConnector@jccns.com
END:VEVENT
BEGIN:VEVENT
DTSTART;TZID=America/New_York:20260412T103000
DTEND;TZID=America/New_York:20260412T120000
DTSTAMP:20260419T093614
CREATED:20260406T152934Z
LAST-MODIFIED:20260406T152934Z
UID:10002301-1775989800-1775995200@jccns.org
SUMMARY:Young Family Gym Time
DESCRIPTION:This will be the last Young Family Gym of the Year. \nJoin us Sundays for Young Family Gym Time and enjoy our indoor soft play and equipment! \nPerfect for Infants\, Toddlers and Preschoolers. \nParents/guardians are required to stay with their children. \nFREE for members. $10 for community.
URL:https://jccns.org/event/young-family-gym-time-4-3/
LOCATION:JCCNS\, 4 Community Rd.\, Marblehead\, MA\, 01945
CATEGORIES:Family Events
ATTACH;FMTTYPE=image/png:https://jccns.org/wp-content/uploads/2024/12/Young-Family-Open-Gym-EblastSquare.png
END:VEVENT
END:VCALENDAR