BEGIN:VCALENDAR
VERSION:2.0
PRODID:-//JCCNS, Jewish Community Center of the North Shore - ECPv6.15.20//NONSGML v1.0//EN
CALSCALE:GREGORIAN
METHOD:PUBLISH
X-WR-CALNAME:JCCNS, Jewish Community Center of the North Shore
X-ORIGINAL-URL:https://jccns.org
X-WR-CALDESC:Events for JCCNS, Jewish Community Center of the North Shore
REFRESH-INTERVAL;VALUE=DURATION:PT1H
X-Robots-Tag:noindex
X-PUBLISHED-TTL:PT1H
BEGIN:VTIMEZONE
TZID:America/New_York
BEGIN:DAYLIGHT
TZOFFSETFROM:-0500
TZOFFSETTO:-0400
TZNAME:EDT
DTSTART:20250309T070000
END:DAYLIGHT
BEGIN:STANDARD
TZOFFSETFROM:-0400
TZOFFSETTO:-0500
TZNAME:EST
DTSTART:20251102T060000
END:STANDARD
BEGIN:DAYLIGHT
TZOFFSETFROM:-0500
TZOFFSETTO:-0400
TZNAME:EDT
DTSTART:20260308T070000
END:DAYLIGHT
BEGIN:STANDARD
TZOFFSETFROM:-0400
TZOFFSETTO:-0500
TZNAME:EST
DTSTART:20261101T060000
END:STANDARD
BEGIN:DAYLIGHT
TZOFFSETFROM:-0500
TZOFFSETTO:-0400
TZNAME:EDT
DTSTART:20270314T070000
END:DAYLIGHT
BEGIN:STANDARD
TZOFFSETFROM:-0400
TZOFFSETTO:-0500
TZNAME:EST
DTSTART:20271107T060000
END:STANDARD
BEGIN:DAYLIGHT
TZOFFSETFROM:-0500
TZOFFSETTO:-0400
TZNAME:EDT
DTSTART:20280312T070000
END:DAYLIGHT
BEGIN:STANDARD
TZOFFSETFROM:-0400
TZOFFSETTO:-0500
TZNAME:EST
DTSTART:20281105T060000
END:STANDARD
END:VTIMEZONE
BEGIN:VEVENT
DTSTART;TZID=America/New_York:20261203T193000
DTEND;TZID=America/New_York:20261203T210000
DTSTAMP:20260420T183214
CREATED:20241018T174651Z
LAST-MODIFIED:20241227T164654Z
UID:10000681-1796326200-1796331600@jccns.org
SUMMARY:Israeli Folk Dancing
DESCRIPTION:Class will be held at the JCCNS in WK \nFREE but please RSVP if you plan on attending to  ns.israeli.folk.dance@gmail.com
URL:https://jccns.org/event/israeli-folk-dancing-11/2026-12-03/
LOCATION:JCCNS\, 4 Community Rd.\, Marblehead\, MA\, 01945
ATTACH;FMTTYPE=image/png:https://jccns.org/wp-content/uploads/2024/12/Israeli-Folk-Dancing-square.png
END:VEVENT
BEGIN:VEVENT
DTSTART;TZID=America/New_York:20261206T080000
DTEND;TZID=America/New_York:20261206T095000
DTSTAMP:20260420T183214
CREATED:20241021T165013Z
LAST-MODIFIED:20241227T164701Z
UID:10001078-1796544000-1796550600@jccns.org
SUMMARY:Israeli Folk Dancing
DESCRIPTION:Class will be held at the JCCNS in WK \nFREE but please RSVP if you plan on attending to ns.folk.dance@gmail.com
URL:https://jccns.org/event/israeli-folk-dancing-13/2026-12-06/
LOCATION:JCCNS\, 4 Community Rd.\, Marblehead\, MA\, 01945
ATTACH;FMTTYPE=image/png:https://jccns.org/wp-content/uploads/2024/12/Israeli-Folk-Dancing-square.png
END:VEVENT
BEGIN:VEVENT
DTSTART;TZID=America/New_York:20261210T120000
DTEND;TZID=America/New_York:20261210T144500
DTSTAMP:20260420T183214
CREATED:20260225T175139Z
LAST-MODIFIED:20260225T180316Z
UID:10002982-1796904000-1796913900@jccns.org
SUMMARY:Open Play Canasta at the J!
DESCRIPTION:NEW DAY-Thursdays! \nJoin us for weekly Canasta games! Please bring your own playing cards and card holder. \nMembers: Free\nCommunity $5 to be paid at The Welcome Center. \nPlease RSVP to Sara Ewing at sewing@jccns.com.
URL:https://jccns.org/event/open-play-canasta-at-the-j-2/2026-12-10/
LOCATION:JCCNS\, 4 Community Rd.\, Marblehead\, MA\, 01945
ATTACH;FMTTYPE=image/png:https://jccns.org/wp-content/uploads/2025/12/Canasta-Open-Play-2025-Eblast-img.png
ORGANIZER;CN="Lauren Weiss":MAILTO:lweiss@jccns.com
END:VEVENT
BEGIN:VEVENT
DTSTART;TZID=America/New_York:20261210T193000
DTEND;TZID=America/New_York:20261210T210000
DTSTAMP:20260420T183214
CREATED:20241018T174651Z
LAST-MODIFIED:20241227T164654Z
UID:10000682-1796931000-1796936400@jccns.org
SUMMARY:Israeli Folk Dancing
DESCRIPTION:Class will be held at the JCCNS in WK \nFREE but please RSVP if you plan on attending to  ns.israeli.folk.dance@gmail.com
URL:https://jccns.org/event/israeli-folk-dancing-11/2026-12-10/
LOCATION:JCCNS\, 4 Community Rd.\, Marblehead\, MA\, 01945
ATTACH;FMTTYPE=image/png:https://jccns.org/wp-content/uploads/2024/12/Israeli-Folk-Dancing-square.png
END:VEVENT
BEGIN:VEVENT
DTSTART;TZID=America/New_York:20261213T080000
DTEND;TZID=America/New_York:20261213T095000
DTSTAMP:20260420T183214
CREATED:20241021T165013Z
LAST-MODIFIED:20241227T164701Z
UID:10001079-1797148800-1797155400@jccns.org
SUMMARY:Israeli Folk Dancing
DESCRIPTION:Class will be held at the JCCNS in WK \nFREE but please RSVP if you plan on attending to ns.folk.dance@gmail.com
URL:https://jccns.org/event/israeli-folk-dancing-13/2026-12-13/
LOCATION:JCCNS\, 4 Community Rd.\, Marblehead\, MA\, 01945
ATTACH;FMTTYPE=image/png:https://jccns.org/wp-content/uploads/2024/12/Israeli-Folk-Dancing-square.png
END:VEVENT
BEGIN:VEVENT
DTSTART;TZID=America/New_York:20261216T190000
DTEND;TZID=America/New_York:20261216T190000
DTSTAMP:20260420T183214
CREATED:20241018T175943Z
LAST-MODIFIED:20241227T165037Z
UID:10000933-1797447600-1797447600@jccns.org
SUMMARY:Knitting Knights
DESCRIPTION:Join us for fun evenings of knitting and chat. All ability levels welcome. \nFirst and third Wednesdays of every month. \nEveryone is welcome!  You do not need to be a member to attend.
URL:https://jccns.org/event/knitting-knights-2/2026-12-16/
LOCATION:JCCNS Women’s Health Center\, 4 Community Rd.\, Marblehead\, MA\, 01945\, United States
ATTACH;FMTTYPE=image/png:https://jccns.org/wp-content/uploads/2024/10/Knitting-Knights-square.png
END:VEVENT
BEGIN:VEVENT
DTSTART;TZID=America/New_York:20261217T120000
DTEND;TZID=America/New_York:20261217T144500
DTSTAMP:20260420T183214
CREATED:20260225T175139Z
LAST-MODIFIED:20260225T180316Z
UID:10002983-1797508800-1797518700@jccns.org
SUMMARY:Open Play Canasta at the J!
DESCRIPTION:NEW DAY-Thursdays! \nJoin us for weekly Canasta games! Please bring your own playing cards and card holder. \nMembers: Free\nCommunity $5 to be paid at The Welcome Center. \nPlease RSVP to Sara Ewing at sewing@jccns.com.
URL:https://jccns.org/event/open-play-canasta-at-the-j-2/2026-12-17/
LOCATION:JCCNS\, 4 Community Rd.\, Marblehead\, MA\, 01945
ATTACH;FMTTYPE=image/png:https://jccns.org/wp-content/uploads/2025/12/Canasta-Open-Play-2025-Eblast-img.png
ORGANIZER;CN="Lauren Weiss":MAILTO:lweiss@jccns.com
END:VEVENT
BEGIN:VEVENT
DTSTART;TZID=America/New_York:20261217T193000
DTEND;TZID=America/New_York:20261217T210000
DTSTAMP:20260420T183214
CREATED:20241018T174651Z
LAST-MODIFIED:20241227T164654Z
UID:10000683-1797535800-1797541200@jccns.org
SUMMARY:Israeli Folk Dancing
DESCRIPTION:Class will be held at the JCCNS in WK \nFREE but please RSVP if you plan on attending to  ns.israeli.folk.dance@gmail.com
URL:https://jccns.org/event/israeli-folk-dancing-11/2026-12-17/
LOCATION:JCCNS\, 4 Community Rd.\, Marblehead\, MA\, 01945
ATTACH;FMTTYPE=image/png:https://jccns.org/wp-content/uploads/2024/12/Israeli-Folk-Dancing-square.png
END:VEVENT
BEGIN:VEVENT
DTSTART;TZID=America/New_York:20261220T080000
DTEND;TZID=America/New_York:20261220T095000
DTSTAMP:20260420T183214
CREATED:20241021T165013Z
LAST-MODIFIED:20241227T164701Z
UID:10001080-1797753600-1797760200@jccns.org
SUMMARY:Israeli Folk Dancing
DESCRIPTION:Class will be held at the JCCNS in WK \nFREE but please RSVP if you plan on attending to ns.folk.dance@gmail.com
URL:https://jccns.org/event/israeli-folk-dancing-13/2026-12-20/
LOCATION:JCCNS\, 4 Community Rd.\, Marblehead\, MA\, 01945
ATTACH;FMTTYPE=image/png:https://jccns.org/wp-content/uploads/2024/12/Israeli-Folk-Dancing-square.png
END:VEVENT
BEGIN:VEVENT
DTSTART;TZID=America/New_York:20261224T120000
DTEND;TZID=America/New_York:20261224T144500
DTSTAMP:20260420T183214
CREATED:20260225T175139Z
LAST-MODIFIED:20260225T180316Z
UID:10002984-1798113600-1798123500@jccns.org
SUMMARY:Open Play Canasta at the J!
DESCRIPTION:NEW DAY-Thursdays! \nJoin us for weekly Canasta games! Please bring your own playing cards and card holder. \nMembers: Free\nCommunity $5 to be paid at The Welcome Center. \nPlease RSVP to Sara Ewing at sewing@jccns.com.
URL:https://jccns.org/event/open-play-canasta-at-the-j-2/2026-12-24/
LOCATION:JCCNS\, 4 Community Rd.\, Marblehead\, MA\, 01945
ATTACH;FMTTYPE=image/png:https://jccns.org/wp-content/uploads/2025/12/Canasta-Open-Play-2025-Eblast-img.png
ORGANIZER;CN="Lauren Weiss":MAILTO:lweiss@jccns.com
END:VEVENT
BEGIN:VEVENT
DTSTART;TZID=America/New_York:20261224T193000
DTEND;TZID=America/New_York:20261224T210000
DTSTAMP:20260420T183214
CREATED:20241018T174651Z
LAST-MODIFIED:20241227T164654Z
UID:10000684-1798140600-1798146000@jccns.org
SUMMARY:Israeli Folk Dancing
DESCRIPTION:Class will be held at the JCCNS in WK \nFREE but please RSVP if you plan on attending to  ns.israeli.folk.dance@gmail.com
URL:https://jccns.org/event/israeli-folk-dancing-11/2026-12-24/
LOCATION:JCCNS\, 4 Community Rd.\, Marblehead\, MA\, 01945
ATTACH;FMTTYPE=image/png:https://jccns.org/wp-content/uploads/2024/12/Israeli-Folk-Dancing-square.png
END:VEVENT
BEGIN:VEVENT
DTSTART;TZID=America/New_York:20261227T080000
DTEND;TZID=America/New_York:20261227T095000
DTSTAMP:20260420T183214
CREATED:20241021T165013Z
LAST-MODIFIED:20241227T164701Z
UID:10001081-1798358400-1798365000@jccns.org
SUMMARY:Israeli Folk Dancing
DESCRIPTION:Class will be held at the JCCNS in WK \nFREE but please RSVP if you plan on attending to ns.folk.dance@gmail.com
URL:https://jccns.org/event/israeli-folk-dancing-13/2026-12-27/
LOCATION:JCCNS\, 4 Community Rd.\, Marblehead\, MA\, 01945
ATTACH;FMTTYPE=image/png:https://jccns.org/wp-content/uploads/2024/12/Israeli-Folk-Dancing-square.png
END:VEVENT
BEGIN:VEVENT
DTSTART;TZID=America/New_York:20261231T120000
DTEND;TZID=America/New_York:20261231T144500
DTSTAMP:20260420T183214
CREATED:20260225T175139Z
LAST-MODIFIED:20260225T180316Z
UID:10002985-1798718400-1798728300@jccns.org
SUMMARY:Open Play Canasta at the J!
DESCRIPTION:NEW DAY-Thursdays! \nJoin us for weekly Canasta games! Please bring your own playing cards and card holder. \nMembers: Free\nCommunity $5 to be paid at The Welcome Center. \nPlease RSVP to Sara Ewing at sewing@jccns.com.
URL:https://jccns.org/event/open-play-canasta-at-the-j-2/2026-12-31/
LOCATION:JCCNS\, 4 Community Rd.\, Marblehead\, MA\, 01945
ATTACH;FMTTYPE=image/png:https://jccns.org/wp-content/uploads/2025/12/Canasta-Open-Play-2025-Eblast-img.png
ORGANIZER;CN="Lauren Weiss":MAILTO:lweiss@jccns.com
END:VEVENT
BEGIN:VEVENT
DTSTART;TZID=America/New_York:20261231T193000
DTEND;TZID=America/New_York:20261231T210000
DTSTAMP:20260420T183214
CREATED:20241018T174651Z
LAST-MODIFIED:20241227T164654Z
UID:10000685-1798745400-1798750800@jccns.org
SUMMARY:Israeli Folk Dancing
DESCRIPTION:Class will be held at the JCCNS in WK \nFREE but please RSVP if you plan on attending to  ns.israeli.folk.dance@gmail.com
URL:https://jccns.org/event/israeli-folk-dancing-11/2026-12-31/
LOCATION:JCCNS\, 4 Community Rd.\, Marblehead\, MA\, 01945
ATTACH;FMTTYPE=image/png:https://jccns.org/wp-content/uploads/2024/12/Israeli-Folk-Dancing-square.png
END:VEVENT
BEGIN:VEVENT
DTSTART;TZID=America/New_York:20270103T080000
DTEND;TZID=America/New_York:20270103T095000
DTSTAMP:20260420T183214
CREATED:20241021T165013Z
LAST-MODIFIED:20241227T164701Z
UID:10001082-1798963200-1798969800@jccns.org
SUMMARY:Israeli Folk Dancing
DESCRIPTION:Class will be held at the JCCNS in WK \nFREE but please RSVP if you plan on attending to ns.folk.dance@gmail.com
URL:https://jccns.org/event/israeli-folk-dancing-13/2027-01-03/
LOCATION:JCCNS\, 4 Community Rd.\, Marblehead\, MA\, 01945
ATTACH;FMTTYPE=image/png:https://jccns.org/wp-content/uploads/2024/12/Israeli-Folk-Dancing-square.png
END:VEVENT
BEGIN:VEVENT
DTSTART;TZID=America/New_York:20270106T110000
DTEND;TZID=America/New_York:20270106T123000
DTSTAMP:20260420T183214
CREATED:20251119T193841Z
LAST-MODIFIED:20260409T153603Z
UID:10000530-1799233200-1799238600@jccns.org
SUMMARY:Senior Jazz and Lunch Hour
DESCRIPTION:All seniors are welcome to enjoy a live performance by the Insight Band and share a delicious\, complimentary lunch at the JCCNS. \nSpace is limited. \nPlease RSVP to Lauren Weiss at lweiss@jccns.com or (857)285-7959 by the Friday before the concert and indicate your lunch choice of tuna or egg salad.
URL:https://jccns.org/event/senior-jazz-and-lunch-hour-6-10/2027-01-06/
LOCATION:JCCNS\, 4 Community Rd.\, Marblehead\, MA\, 01945
ATTACH;FMTTYPE=image/png:https://jccns.org/wp-content/uploads/2024/12/Senior-Jazz-Hour-and-Lunch-square.png
ORGANIZER;CN="Sara Ewing":MAILTO:sewing@jccns.com
END:VEVENT
BEGIN:VEVENT
DTSTART;TZID=America/New_York:20270106T190000
DTEND;TZID=America/New_York:20270106T190000
DTSTAMP:20260420T183214
CREATED:20241018T180055Z
LAST-MODIFIED:20241227T164601Z
UID:10000874-1799262000-1799262000@jccns.org
SUMMARY:Knitting Knights
DESCRIPTION:Join us for fun evenings of knitting and chat. All ability levels welcome. \nFirst and third Wednesdays of every month.
URL:https://jccns.org/event/knitting-knights-3/2027-01-06/
LOCATION:JCCNS Women’s Health Center\, 4 Community Rd.\, Marblehead\, MA\, 01945\, United States
ATTACH;FMTTYPE=image/png:https://jccns.org/wp-content/uploads/2024/10/Knitting-Knights-square.png
ORGANIZER;CN="Mary Pat Hawkins":MAILTO:mphawkins@jccns.com
END:VEVENT
BEGIN:VEVENT
DTSTART;TZID=America/New_York:20270107T120000
DTEND;TZID=America/New_York:20270107T144500
DTSTAMP:20260420T183214
CREATED:20260225T175139Z
LAST-MODIFIED:20260225T180316Z
UID:10002986-1799323200-1799333100@jccns.org
SUMMARY:Open Play Canasta at the J!
DESCRIPTION:NEW DAY-Thursdays! \nJoin us for weekly Canasta games! Please bring your own playing cards and card holder. \nMembers: Free\nCommunity $5 to be paid at The Welcome Center. \nPlease RSVP to Sara Ewing at sewing@jccns.com.
URL:https://jccns.org/event/open-play-canasta-at-the-j-2/2027-01-07/
LOCATION:JCCNS\, 4 Community Rd.\, Marblehead\, MA\, 01945
ATTACH;FMTTYPE=image/png:https://jccns.org/wp-content/uploads/2025/12/Canasta-Open-Play-2025-Eblast-img.png
ORGANIZER;CN="Lauren Weiss":MAILTO:lweiss@jccns.com
END:VEVENT
BEGIN:VEVENT
DTSTART;TZID=America/New_York:20270107T193000
DTEND;TZID=America/New_York:20270107T210000
DTSTAMP:20260420T183214
CREATED:20241018T174651Z
LAST-MODIFIED:20241227T164654Z
UID:10000686-1799350200-1799355600@jccns.org
SUMMARY:Israeli Folk Dancing
DESCRIPTION:Class will be held at the JCCNS in WK \nFREE but please RSVP if you plan on attending to  ns.israeli.folk.dance@gmail.com
URL:https://jccns.org/event/israeli-folk-dancing-11/2027-01-07/
LOCATION:JCCNS\, 4 Community Rd.\, Marblehead\, MA\, 01945
ATTACH;FMTTYPE=image/png:https://jccns.org/wp-content/uploads/2024/12/Israeli-Folk-Dancing-square.png
END:VEVENT
BEGIN:VEVENT
DTSTART;TZID=America/New_York:20270110T080000
DTEND;TZID=America/New_York:20270110T095000
DTSTAMP:20260420T183214
CREATED:20241021T165013Z
LAST-MODIFIED:20241227T164701Z
UID:10001083-1799568000-1799574600@jccns.org
SUMMARY:Israeli Folk Dancing
DESCRIPTION:Class will be held at the JCCNS in WK \nFREE but please RSVP if you plan on attending to ns.folk.dance@gmail.com
URL:https://jccns.org/event/israeli-folk-dancing-13/2027-01-10/
LOCATION:JCCNS\, 4 Community Rd.\, Marblehead\, MA\, 01945
ATTACH;FMTTYPE=image/png:https://jccns.org/wp-content/uploads/2024/12/Israeli-Folk-Dancing-square.png
END:VEVENT
BEGIN:VEVENT
DTSTART;TZID=America/New_York:20270114T120000
DTEND;TZID=America/New_York:20270114T144500
DTSTAMP:20260420T183214
CREATED:20260225T175139Z
LAST-MODIFIED:20260225T180316Z
UID:10002987-1799928000-1799937900@jccns.org
SUMMARY:Open Play Canasta at the J!
DESCRIPTION:NEW DAY-Thursdays! \nJoin us for weekly Canasta games! Please bring your own playing cards and card holder. \nMembers: Free\nCommunity $5 to be paid at The Welcome Center. \nPlease RSVP to Sara Ewing at sewing@jccns.com.
URL:https://jccns.org/event/open-play-canasta-at-the-j-2/2027-01-14/
LOCATION:JCCNS\, 4 Community Rd.\, Marblehead\, MA\, 01945
ATTACH;FMTTYPE=image/png:https://jccns.org/wp-content/uploads/2025/12/Canasta-Open-Play-2025-Eblast-img.png
ORGANIZER;CN="Lauren Weiss":MAILTO:lweiss@jccns.com
END:VEVENT
BEGIN:VEVENT
DTSTART;TZID=America/New_York:20270114T193000
DTEND;TZID=America/New_York:20270114T210000
DTSTAMP:20260420T183214
CREATED:20241018T174651Z
LAST-MODIFIED:20241227T164654Z
UID:10000687-1799955000-1799960400@jccns.org
SUMMARY:Israeli Folk Dancing
DESCRIPTION:Class will be held at the JCCNS in WK \nFREE but please RSVP if you plan on attending to  ns.israeli.folk.dance@gmail.com
URL:https://jccns.org/event/israeli-folk-dancing-11/2027-01-14/
LOCATION:JCCNS\, 4 Community Rd.\, Marblehead\, MA\, 01945
ATTACH;FMTTYPE=image/png:https://jccns.org/wp-content/uploads/2024/12/Israeli-Folk-Dancing-square.png
END:VEVENT
BEGIN:VEVENT
DTSTART;TZID=America/New_York:20270117T080000
DTEND;TZID=America/New_York:20270117T095000
DTSTAMP:20260420T183214
CREATED:20241021T165013Z
LAST-MODIFIED:20241227T164701Z
UID:10001084-1800172800-1800179400@jccns.org
SUMMARY:Israeli Folk Dancing
DESCRIPTION:Class will be held at the JCCNS in WK \nFREE but please RSVP if you plan on attending to ns.folk.dance@gmail.com
URL:https://jccns.org/event/israeli-folk-dancing-13/2027-01-17/
LOCATION:JCCNS\, 4 Community Rd.\, Marblehead\, MA\, 01945
ATTACH;FMTTYPE=image/png:https://jccns.org/wp-content/uploads/2024/12/Israeli-Folk-Dancing-square.png
END:VEVENT
BEGIN:VEVENT
DTSTART;TZID=America/New_York:20270120T190000
DTEND;TZID=America/New_York:20270120T190000
DTSTAMP:20260420T183214
CREATED:20241018T175943Z
LAST-MODIFIED:20241227T165037Z
UID:10000934-1800471600-1800471600@jccns.org
SUMMARY:Knitting Knights
DESCRIPTION:Join us for fun evenings of knitting and chat. All ability levels welcome. \nFirst and third Wednesdays of every month. \nEveryone is welcome!  You do not need to be a member to attend.
URL:https://jccns.org/event/knitting-knights-2/2027-01-20/
LOCATION:JCCNS Women’s Health Center\, 4 Community Rd.\, Marblehead\, MA\, 01945\, United States
ATTACH;FMTTYPE=image/png:https://jccns.org/wp-content/uploads/2024/10/Knitting-Knights-square.png
END:VEVENT
BEGIN:VEVENT
DTSTART;TZID=America/New_York:20270121T120000
DTEND;TZID=America/New_York:20270121T144500
DTSTAMP:20260420T183214
CREATED:20260225T175139Z
LAST-MODIFIED:20260225T180316Z
UID:10002988-1800532800-1800542700@jccns.org
SUMMARY:Open Play Canasta at the J!
DESCRIPTION:NEW DAY-Thursdays! \nJoin us for weekly Canasta games! Please bring your own playing cards and card holder. \nMembers: Free\nCommunity $5 to be paid at The Welcome Center. \nPlease RSVP to Sara Ewing at sewing@jccns.com.
URL:https://jccns.org/event/open-play-canasta-at-the-j-2/2027-01-21/
LOCATION:JCCNS\, 4 Community Rd.\, Marblehead\, MA\, 01945
ATTACH;FMTTYPE=image/png:https://jccns.org/wp-content/uploads/2025/12/Canasta-Open-Play-2025-Eblast-img.png
ORGANIZER;CN="Lauren Weiss":MAILTO:lweiss@jccns.com
END:VEVENT
BEGIN:VEVENT
DTSTART;TZID=America/New_York:20270121T193000
DTEND;TZID=America/New_York:20270121T210000
DTSTAMP:20260420T183214
CREATED:20241018T174651Z
LAST-MODIFIED:20241227T164654Z
UID:10000688-1800559800-1800565200@jccns.org
SUMMARY:Israeli Folk Dancing
DESCRIPTION:Class will be held at the JCCNS in WK \nFREE but please RSVP if you plan on attending to  ns.israeli.folk.dance@gmail.com
URL:https://jccns.org/event/israeli-folk-dancing-11/2027-01-21/
LOCATION:JCCNS\, 4 Community Rd.\, Marblehead\, MA\, 01945
ATTACH;FMTTYPE=image/png:https://jccns.org/wp-content/uploads/2024/12/Israeli-Folk-Dancing-square.png
END:VEVENT
BEGIN:VEVENT
DTSTART;TZID=America/New_York:20270124T080000
DTEND;TZID=America/New_York:20270124T095000
DTSTAMP:20260420T183214
CREATED:20241021T165013Z
LAST-MODIFIED:20241227T164701Z
UID:10001085-1800777600-1800784200@jccns.org
SUMMARY:Israeli Folk Dancing
DESCRIPTION:Class will be held at the JCCNS in WK \nFREE but please RSVP if you plan on attending to ns.folk.dance@gmail.com
URL:https://jccns.org/event/israeli-folk-dancing-13/2027-01-24/
LOCATION:JCCNS\, 4 Community Rd.\, Marblehead\, MA\, 01945
ATTACH;FMTTYPE=image/png:https://jccns.org/wp-content/uploads/2024/12/Israeli-Folk-Dancing-square.png
END:VEVENT
BEGIN:VEVENT
DTSTART;TZID=America/New_York:20270128T120000
DTEND;TZID=America/New_York:20270128T144500
DTSTAMP:20260420T183214
CREATED:20260225T175139Z
LAST-MODIFIED:20260225T180316Z
UID:10002989-1801137600-1801147500@jccns.org
SUMMARY:Open Play Canasta at the J!
DESCRIPTION:NEW DAY-Thursdays! \nJoin us for weekly Canasta games! Please bring your own playing cards and card holder. \nMembers: Free\nCommunity $5 to be paid at The Welcome Center. \nPlease RSVP to Sara Ewing at sewing@jccns.com.
URL:https://jccns.org/event/open-play-canasta-at-the-j-2/2027-01-28/
LOCATION:JCCNS\, 4 Community Rd.\, Marblehead\, MA\, 01945
ATTACH;FMTTYPE=image/png:https://jccns.org/wp-content/uploads/2025/12/Canasta-Open-Play-2025-Eblast-img.png
ORGANIZER;CN="Lauren Weiss":MAILTO:lweiss@jccns.com
END:VEVENT
BEGIN:VEVENT
DTSTART;TZID=America/New_York:20270128T193000
DTEND;TZID=America/New_York:20270128T210000
DTSTAMP:20260420T183214
CREATED:20241018T174651Z
LAST-MODIFIED:20241227T164654Z
UID:10000689-1801164600-1801170000@jccns.org
SUMMARY:Israeli Folk Dancing
DESCRIPTION:Class will be held at the JCCNS in WK \nFREE but please RSVP if you plan on attending to  ns.israeli.folk.dance@gmail.com
URL:https://jccns.org/event/israeli-folk-dancing-11/2027-01-28/
LOCATION:JCCNS\, 4 Community Rd.\, Marblehead\, MA\, 01945
ATTACH;FMTTYPE=image/png:https://jccns.org/wp-content/uploads/2024/12/Israeli-Folk-Dancing-square.png
END:VEVENT
BEGIN:VEVENT
DTSTART;TZID=America/New_York:20270131T080000
DTEND;TZID=America/New_York:20270131T095000
DTSTAMP:20260420T183214
CREATED:20241021T165013Z
LAST-MODIFIED:20241227T164701Z
UID:10001086-1801382400-1801389000@jccns.org
SUMMARY:Israeli Folk Dancing
DESCRIPTION:Class will be held at the JCCNS in WK \nFREE but please RSVP if you plan on attending to ns.folk.dance@gmail.com
URL:https://jccns.org/event/israeli-folk-dancing-13/2027-01-31/
LOCATION:JCCNS\, 4 Community Rd.\, Marblehead\, MA\, 01945
ATTACH;FMTTYPE=image/png:https://jccns.org/wp-content/uploads/2024/12/Israeli-Folk-Dancing-square.png
END:VEVENT
END:VCALENDAR