BEGIN:VCALENDAR
VERSION:2.0
PRODID:-//JCCNS, Jewish Community Center of the North Shore - ECPv6.15.20//NONSGML v1.0//EN
CALSCALE:GREGORIAN
METHOD:PUBLISH
X-WR-CALNAME:JCCNS, Jewish Community Center of the North Shore
X-ORIGINAL-URL:https://jccns.org
X-WR-CALDESC:Events for JCCNS, Jewish Community Center of the North Shore
REFRESH-INTERVAL;VALUE=DURATION:PT1H
X-Robots-Tag:noindex
X-PUBLISHED-TTL:PT1H
BEGIN:VTIMEZONE
TZID:America/New_York
BEGIN:DAYLIGHT
TZOFFSETFROM:-0500
TZOFFSETTO:-0400
TZNAME:EDT
DTSTART:20250309T070000
END:DAYLIGHT
BEGIN:STANDARD
TZOFFSETFROM:-0400
TZOFFSETTO:-0500
TZNAME:EST
DTSTART:20251102T060000
END:STANDARD
BEGIN:DAYLIGHT
TZOFFSETFROM:-0500
TZOFFSETTO:-0400
TZNAME:EDT
DTSTART:20260308T070000
END:DAYLIGHT
BEGIN:STANDARD
TZOFFSETFROM:-0400
TZOFFSETTO:-0500
TZNAME:EST
DTSTART:20261101T060000
END:STANDARD
BEGIN:DAYLIGHT
TZOFFSETFROM:-0500
TZOFFSETTO:-0400
TZNAME:EDT
DTSTART:20270314T070000
END:DAYLIGHT
BEGIN:STANDARD
TZOFFSETFROM:-0400
TZOFFSETTO:-0500
TZNAME:EST
DTSTART:20271107T060000
END:STANDARD
END:VTIMEZONE
BEGIN:VEVENT
DTSTART;TZID=America/New_York:20260423T120000
DTEND;TZID=America/New_York:20260423T144500
DTSTAMP:20260423T073409
CREATED:20260225T175139Z
LAST-MODIFIED:20260225T180316Z
UID:10002949-1776945600-1776955500@jccns.org
SUMMARY:Open Play Canasta at the J!
DESCRIPTION:at Congregation Shirat Hayam\, 55 Atlantic Ave\, Swampscott Fighting Back Against Campus Anti-Semitism Join us to discuss the situation on U.S. College Campuses and beyond\, as well as legal responses from the U.S. Government\, The Louis D. Brandeis Center and others. Hon. Kenneth L. Marcus is the Founder\, Chairman\, and CEO of The Louis D. Brandeis Center for Human Rights Under Law\, the leading civil rights legal organization fighting against anti-Semitism. The New York Times has called him “The Man Who Helped Redefine Campus Anti-Semitism.” 7:00pm-Scoth (wine & non-alcholic bevrages available)7:30pm-Schmooze Event is free\, please RSVP below. 								\n				\n				\n				\n									\n					\n						\n									RSVP
URL:https://jccns.org/event/open-play-canasta-at-the-j-2/2026-04-23/
LOCATION:JCCNS\, 4 Community Rd.\, Marblehead\, MA\, 01945
ATTACH;FMTTYPE=image/png:https://jccns.org/wp-content/uploads/2025/12/Canasta-Open-Play-2025-Eblast-img.png
ORGANIZER;CN="Lauren Weiss":MAILTO:lweiss@jccns.com
END:VEVENT
BEGIN:VEVENT
DTSTART;TZID=America/New_York:20260423T190000
DTEND;TZID=America/New_York:20260423T210000
DTSTAMP:20260423T073410
CREATED:20260316T170010Z
LAST-MODIFIED:20260312T164644Z
UID:10003225-1776970800-1776978000@jccns.org
SUMMARY:Charles Grodin: Rebel With a Cause
DESCRIPTION:at Congregation Shirat Hayam\, 55 Atlantic Ave\, Swampscott Fighting Back Against Campus Anti-Semitism Join us to discuss the situation on U.S. College Campuses and beyond\, as well as legal responses from the U.S. Government\, The Louis D. Brandeis Center and others. Hon. Kenneth L. Marcus is the Founder\, Chairman\, and CEO of The Louis D. Brandeis Center for Human Rights Under Law\, the leading civil rights legal organization fighting against anti-Semitism. The New York Times has called him “The Man Who Helped Redefine Campus Anti-Semitism.” 7:00pm-Scoth (wine & non-alcholic bevrages available)7:30pm-Schmooze Event is free\, please RSVP below. 								\n				\n				\n				\n									\n					\n						\n									RSVP
URL:https://jccns.org/event/charles-grodin-rebel-with-a-cause/
LOCATION:Cinema Salem\, 1 East India Square Mall\, Salem\, MA\, 01945\, United States
CATEGORIES:Film Festival
ATTACH;FMTTYPE=image/png:https://jccns.org/wp-content/uploads/2026/03/Film-2026-01-Charles-Grodin-web.png
ORGANIZER;CN="Lauren Weiss":MAILTO:lweiss@jccns.com
END:VEVENT
BEGIN:VEVENT
DTSTART;TZID=America/New_York:20260423T193000
DTEND;TZID=America/New_York:20260423T210000
DTSTAMP:20260423T073410
CREATED:20241018T174651Z
LAST-MODIFIED:20241227T164654Z
UID:10000649-1776972600-1776978000@jccns.org
SUMMARY:Israeli Folk Dancing
DESCRIPTION:at Congregation Shirat Hayam\, 55 Atlantic Ave\, Swampscott Fighting Back Against Campus Anti-Semitism Join us to discuss the situation on U.S. College Campuses and beyond\, as well as legal responses from the U.S. Government\, The Louis D. Brandeis Center and others. Hon. Kenneth L. Marcus is the Founder\, Chairman\, and CEO of The Louis D. Brandeis Center for Human Rights Under Law\, the leading civil rights legal organization fighting against anti-Semitism. The New York Times has called him “The Man Who Helped Redefine Campus Anti-Semitism.” 7:00pm-Scoth (wine & non-alcholic bevrages available)7:30pm-Schmooze Event is free\, please RSVP below. 								\n				\n				\n				\n									\n					\n						\n									RSVP
URL:https://jccns.org/event/israeli-folk-dancing-11/2026-04-23/
LOCATION:JCCNS\, 4 Community Rd.\, Marblehead\, MA\, 01945
ATTACH;FMTTYPE=image/png:https://jccns.org/wp-content/uploads/2024/12/Israeli-Folk-Dancing-square.png
END:VEVENT
BEGIN:VEVENT
DTSTART;TZID=America/New_York:20260426T080000
DTEND;TZID=America/New_York:20260426T095000
DTSTAMP:20260423T073410
CREATED:20241021T165013Z
LAST-MODIFIED:20241227T164701Z
UID:10001046-1777190400-1777197000@jccns.org
SUMMARY:Israeli Folk Dancing
DESCRIPTION:at Congregation Shirat Hayam\, 55 Atlantic Ave\, Swampscott Fighting Back Against Campus Anti-Semitism Join us to discuss the situation on U.S. College Campuses and beyond\, as well as legal responses from the U.S. Government\, The Louis D. Brandeis Center and others. Hon. Kenneth L. Marcus is the Founder\, Chairman\, and CEO of The Louis D. Brandeis Center for Human Rights Under Law\, the leading civil rights legal organization fighting against anti-Semitism. The New York Times has called him “The Man Who Helped Redefine Campus Anti-Semitism.” 7:00pm-Scoth (wine & non-alcholic bevrages available)7:30pm-Schmooze Event is free\, please RSVP below. 								\n				\n				\n				\n									\n					\n						\n									RSVP
URL:https://jccns.org/event/israeli-folk-dancing-13/2026-04-26/
LOCATION:JCCNS\, 4 Community Rd.\, Marblehead\, MA\, 01945
ATTACH;FMTTYPE=image/png:https://jccns.org/wp-content/uploads/2024/12/Israeli-Folk-Dancing-square.png
END:VEVENT
BEGIN:VEVENT
DTSTART;TZID=America/New_York:20260426T150000
DTEND;TZID=America/New_York:20260426T170000
DTSTAMP:20260423T073410
CREATED:20260323T173327Z
LAST-MODIFIED:20260324T161135Z
UID:10003241-1777215600-1777222800@jccns.org
SUMMARY:North Shore Celebrates Israel at 78
DESCRIPTION:at Congregation Shirat Hayam\, 55 Atlantic Ave\, Swampscott Fighting Back Against Campus Anti-Semitism Join us to discuss the situation on U.S. College Campuses and beyond\, as well as legal responses from the U.S. Government\, The Louis D. Brandeis Center and others. Hon. Kenneth L. Marcus is the Founder\, Chairman\, and CEO of The Louis D. Brandeis Center for Human Rights Under Law\, the leading civil rights legal organization fighting against anti-Semitism. The New York Times has called him “The Man Who Helped Redefine Campus Anti-Semitism.” 7:00pm-Scoth (wine & non-alcholic bevrages available)7:30pm-Schmooze Event is free\, please RSVP below. 								\n				\n				\n				\n									\n					\n						\n									RSVP
URL:https://jccns.org/event/north-shore-celebrates-israel-at-78/
LOCATION:Congregation Shirat Hayam\, 55 Atlantic Avenue\, Swampscott\, MA\, 01907\, United States
CATEGORIES:Home-Register
ATTACH;FMTTYPE=image/png:https://jccns.org/wp-content/uploads/2026/03/CSH-Yom-Haatzmaut-web-eblast.png
ORGANIZER;CN="Lauren Weiss":MAILTO:lweiss@jccns.com
END:VEVENT
BEGIN:VEVENT
DTSTART;TZID=America/New_York:20260427T130000
DTEND;TZID=America/New_York:20260427T150000
DTSTAMP:20260423T073410
CREATED:20260316T170009Z
LAST-MODIFIED:20260403T155312Z
UID:10003227-1777294800-1777302000@jccns.org
SUMMARY:Holding Liat
DESCRIPTION:at Congregation Shirat Hayam\, 55 Atlantic Ave\, Swampscott Fighting Back Against Campus Anti-Semitism Join us to discuss the situation on U.S. College Campuses and beyond\, as well as legal responses from the U.S. Government\, The Louis D. Brandeis Center and others. Hon. Kenneth L. Marcus is the Founder\, Chairman\, and CEO of The Louis D. Brandeis Center for Human Rights Under Law\, the leading civil rights legal organization fighting against anti-Semitism. The New York Times has called him “The Man Who Helped Redefine Campus Anti-Semitism.” 7:00pm-Scoth (wine & non-alcholic bevrages available)7:30pm-Schmooze Event is free\, please RSVP below. 								\n				\n				\n				\n									\n					\n						\n									RSVP
URL:https://jccns.org/event/holding-liat/
LOCATION:Warwick Cinema\, 123 Pleasant Street\, Marblehead\, MA\, 01945\, United States
CATEGORIES:Film Festival
ATTACH;FMTTYPE=image/png:https://jccns.org/wp-content/uploads/2026/03/Film-2026-02-Holding-Liat-web.png
ORGANIZER;CN="Lauren Weiss":MAILTO:lweiss@jccns.com
END:VEVENT
BEGIN:VEVENT
DTSTART;TZID=America/New_York:20260428T113000
DTEND;TZID=America/New_York:20260428T123000
DTSTAMP:20260423T073410
CREATED:20260406T180415Z
LAST-MODIFIED:20260406T180415Z
UID:10003255-1777375800-1777379400@jccns.org
SUMMARY:The Life and Music of Elvis Presley
DESCRIPTION:at Congregation Shirat Hayam\, 55 Atlantic Ave\, Swampscott Fighting Back Against Campus Anti-Semitism Join us to discuss the situation on U.S. College Campuses and beyond\, as well as legal responses from the U.S. Government\, The Louis D. Brandeis Center and others. Hon. Kenneth L. Marcus is the Founder\, Chairman\, and CEO of The Louis D. Brandeis Center for Human Rights Under Law\, the leading civil rights legal organization fighting against anti-Semitism. The New York Times has called him “The Man Who Helped Redefine Campus Anti-Semitism.” 7:00pm-Scoth (wine & non-alcholic bevrages available)7:30pm-Schmooze Event is free\, please RSVP below. 								\n				\n				\n				\n									\n					\n						\n									RSVP
URL:https://jccns.org/event/the-life-and-music-of-elvis-presley/
LOCATION:JCCNS\, 4 Community Rd.\, Marblehead\, MA\, 01945
CATEGORIES:Home-Register
ATTACH;FMTTYPE=image/png:https://jccns.org/wp-content/uploads/2026/04/Mid-day-Speaker-Series-2026-04-Elvis-Eblast.png
ORGANIZER;CN="Lauren Weiss":MAILTO:lweiss@jccns.com
END:VEVENT
BEGIN:VEVENT
DTSTART;TZID=America/New_York:20260429T190000
DTEND;TZID=America/New_York:20260429T210000
DTSTAMP:20260423T073410
CREATED:20260316T170039Z
LAST-MODIFIED:20260407T165459Z
UID:10003234-1777489200-1777496400@jccns.org
SUMMARY:Night of Shorts
DESCRIPTION:at Congregation Shirat Hayam\, 55 Atlantic Ave\, Swampscott Fighting Back Against Campus Anti-Semitism Join us to discuss the situation on U.S. College Campuses and beyond\, as well as legal responses from the U.S. Government\, The Louis D. Brandeis Center and others. Hon. Kenneth L. Marcus is the Founder\, Chairman\, and CEO of The Louis D. Brandeis Center for Human Rights Under Law\, the leading civil rights legal organization fighting against anti-Semitism. The New York Times has called him “The Man Who Helped Redefine Campus Anti-Semitism.” 7:00pm-Scoth (wine & non-alcholic bevrages available)7:30pm-Schmooze Event is free\, please RSVP below. 								\n				\n				\n				\n									\n					\n						\n									RSVP
URL:https://jccns.org/event/night-of-shorts-4/
LOCATION:Cinema Salem\, 1 East India Square Mall\, Salem\, MA\, 01945\, United States
CATEGORIES:Film Festival
ATTACH;FMTTYPE=image/png:https://jccns.org/wp-content/uploads/2026/03/Film-2026-03-Night-of-Shorts-web-A.png
ORGANIZER;CN="Lauren Weiss":MAILTO:lweiss@jccns.com
END:VEVENT
BEGIN:VEVENT
DTSTART;TZID=America/New_York:20260430T120000
DTEND;TZID=America/New_York:20260430T144500
DTSTAMP:20260423T073410
CREATED:20260225T175139Z
LAST-MODIFIED:20260225T180316Z
UID:10002950-1777550400-1777560300@jccns.org
SUMMARY:Open Play Canasta at the J!
DESCRIPTION:at Congregation Shirat Hayam\, 55 Atlantic Ave\, Swampscott Fighting Back Against Campus Anti-Semitism Join us to discuss the situation on U.S. College Campuses and beyond\, as well as legal responses from the U.S. Government\, The Louis D. Brandeis Center and others. Hon. Kenneth L. Marcus is the Founder\, Chairman\, and CEO of The Louis D. Brandeis Center for Human Rights Under Law\, the leading civil rights legal organization fighting against anti-Semitism. The New York Times has called him “The Man Who Helped Redefine Campus Anti-Semitism.” 7:00pm-Scoth (wine & non-alcholic bevrages available)7:30pm-Schmooze Event is free\, please RSVP below. 								\n				\n				\n				\n									\n					\n						\n									RSVP
URL:https://jccns.org/event/open-play-canasta-at-the-j-2/2026-04-30/
LOCATION:JCCNS\, 4 Community Rd.\, Marblehead\, MA\, 01945
ATTACH;FMTTYPE=image/png:https://jccns.org/wp-content/uploads/2025/12/Canasta-Open-Play-2025-Eblast-img.png
ORGANIZER;CN="Lauren Weiss":MAILTO:lweiss@jccns.com
END:VEVENT
BEGIN:VEVENT
DTSTART;TZID=America/New_York:20260430T193000
DTEND;TZID=America/New_York:20260430T210000
DTSTAMP:20260423T073410
CREATED:20241018T174651Z
LAST-MODIFIED:20241227T164654Z
UID:10000650-1777577400-1777582800@jccns.org
SUMMARY:Israeli Folk Dancing
DESCRIPTION:at Congregation Shirat Hayam\, 55 Atlantic Ave\, Swampscott Fighting Back Against Campus Anti-Semitism Join us to discuss the situation on U.S. College Campuses and beyond\, as well as legal responses from the U.S. Government\, The Louis D. Brandeis Center and others. Hon. Kenneth L. Marcus is the Founder\, Chairman\, and CEO of The Louis D. Brandeis Center for Human Rights Under Law\, the leading civil rights legal organization fighting against anti-Semitism. The New York Times has called him “The Man Who Helped Redefine Campus Anti-Semitism.” 7:00pm-Scoth (wine & non-alcholic bevrages available)7:30pm-Schmooze Event is free\, please RSVP below. 								\n				\n				\n				\n									\n					\n						\n									RSVP
URL:https://jccns.org/event/israeli-folk-dancing-11/2026-04-30/
LOCATION:JCCNS\, 4 Community Rd.\, Marblehead\, MA\, 01945
ATTACH;FMTTYPE=image/png:https://jccns.org/wp-content/uploads/2024/12/Israeli-Folk-Dancing-square.png
END:VEVENT
END:VCALENDAR