BEGIN:VCALENDAR
VERSION:2.0
PRODID:-//JCCNS, Jewish Community Center of the North Shore - ECPv6.15.20//NONSGML v1.0//EN
CALSCALE:GREGORIAN
METHOD:PUBLISH
X-WR-CALNAME:JCCNS, Jewish Community Center of the North Shore
X-ORIGINAL-URL:https://jccns.org
X-WR-CALDESC:Events for JCCNS, Jewish Community Center of the North Shore
REFRESH-INTERVAL;VALUE=DURATION:PT1H
X-Robots-Tag:noindex
X-PUBLISHED-TTL:PT1H
BEGIN:VTIMEZONE
TZID:America/New_York
BEGIN:DAYLIGHT
TZOFFSETFROM:-0500
TZOFFSETTO:-0400
TZNAME:EDT
DTSTART:20250309T070000
END:DAYLIGHT
BEGIN:STANDARD
TZOFFSETFROM:-0400
TZOFFSETTO:-0500
TZNAME:EST
DTSTART:20251102T060000
END:STANDARD
BEGIN:DAYLIGHT
TZOFFSETFROM:-0500
TZOFFSETTO:-0400
TZNAME:EDT
DTSTART:20260308T070000
END:DAYLIGHT
BEGIN:STANDARD
TZOFFSETFROM:-0400
TZOFFSETTO:-0500
TZNAME:EST
DTSTART:20261101T060000
END:STANDARD
BEGIN:DAYLIGHT
TZOFFSETFROM:-0500
TZOFFSETTO:-0400
TZNAME:EDT
DTSTART:20270314T070000
END:DAYLIGHT
BEGIN:STANDARD
TZOFFSETFROM:-0400
TZOFFSETTO:-0500
TZNAME:EST
DTSTART:20271107T060000
END:STANDARD
END:VTIMEZONE
BEGIN:VEVENT
DTSTART;TZID=America/New_York:20260813T193000
DTEND;TZID=America/New_York:20260813T210000
DTSTAMP:20260421T080911
CREATED:20241018T174651Z
LAST-MODIFIED:20241227T164654Z
UID:10000665-1786649400-1786654800@jccns.org
SUMMARY:Israeli Folk Dancing
DESCRIPTION:Class will be held at the JCCNS in WK \nFREE but please RSVP if you plan on attending to  ns.israeli.folk.dance@gmail.com
URL:https://jccns.org/event/israeli-folk-dancing-11/2026-08-13/
LOCATION:JCCNS\, 4 Community Rd.\, Marblehead\, MA\, 01945
ATTACH;FMTTYPE=image/png:https://jccns.org/wp-content/uploads/2024/12/Israeli-Folk-Dancing-square.png
END:VEVENT
BEGIN:VEVENT
DTSTART;TZID=America/New_York:20260816T080000
DTEND;TZID=America/New_York:20260816T095000
DTSTAMP:20260421T080911
CREATED:20241021T165013Z
LAST-MODIFIED:20241227T164701Z
UID:10001062-1786867200-1786873800@jccns.org
SUMMARY:Israeli Folk Dancing
DESCRIPTION:Class will be held at the JCCNS in WK \nFREE but please RSVP if you plan on attending to ns.folk.dance@gmail.com
URL:https://jccns.org/event/israeli-folk-dancing-13/2026-08-16/
LOCATION:JCCNS\, 4 Community Rd.\, Marblehead\, MA\, 01945
ATTACH;FMTTYPE=image/png:https://jccns.org/wp-content/uploads/2024/12/Israeli-Folk-Dancing-square.png
END:VEVENT
BEGIN:VEVENT
DTSTART;TZID=America/New_York:20260819T190000
DTEND;TZID=America/New_York:20260819T190000
DTSTAMP:20260421T080911
CREATED:20241018T175943Z
LAST-MODIFIED:20241227T165037Z
UID:10000929-1787166000-1787166000@jccns.org
SUMMARY:Knitting Knights
DESCRIPTION:Join us for fun evenings of knitting and chat. All ability levels welcome. \nFirst and third Wednesdays of every month. \nEveryone is welcome!  You do not need to be a member to attend.
URL:https://jccns.org/event/knitting-knights-2/2026-08-19/
LOCATION:JCCNS Women’s Health Center\, 4 Community Rd.\, Marblehead\, MA\, 01945\, United States
ATTACH;FMTTYPE=image/png:https://jccns.org/wp-content/uploads/2024/10/Knitting-Knights-square.png
END:VEVENT
BEGIN:VEVENT
DTSTART;TZID=America/New_York:20260820T120000
DTEND;TZID=America/New_York:20260820T144500
DTSTAMP:20260421T080911
CREATED:20260225T175139Z
LAST-MODIFIED:20260225T180316Z
UID:10002966-1787227200-1787237100@jccns.org
SUMMARY:Open Play Canasta at the J!
DESCRIPTION:NEW DAY-Thursdays! \nJoin us for weekly Canasta games! Please bring your own playing cards and card holder. \nMembers: Free\nCommunity $5 to be paid at The Welcome Center. \nPlease RSVP to Sara Ewing at sewing@jccns.com.
URL:https://jccns.org/event/open-play-canasta-at-the-j-2/2026-08-20/
LOCATION:JCCNS\, 4 Community Rd.\, Marblehead\, MA\, 01945
ATTACH;FMTTYPE=image/png:https://jccns.org/wp-content/uploads/2025/12/Canasta-Open-Play-2025-Eblast-img.png
ORGANIZER;CN="Lauren Weiss":MAILTO:lweiss@jccns.com
END:VEVENT
BEGIN:VEVENT
DTSTART;TZID=America/New_York:20260820T193000
DTEND;TZID=America/New_York:20260820T210000
DTSTAMP:20260421T080911
CREATED:20241018T174651Z
LAST-MODIFIED:20241227T164654Z
UID:10000666-1787254200-1787259600@jccns.org
SUMMARY:Israeli Folk Dancing
DESCRIPTION:Class will be held at the JCCNS in WK \nFREE but please RSVP if you plan on attending to  ns.israeli.folk.dance@gmail.com
URL:https://jccns.org/event/israeli-folk-dancing-11/2026-08-20/
LOCATION:JCCNS\, 4 Community Rd.\, Marblehead\, MA\, 01945
ATTACH;FMTTYPE=image/png:https://jccns.org/wp-content/uploads/2024/12/Israeli-Folk-Dancing-square.png
END:VEVENT
BEGIN:VEVENT
DTSTART;TZID=America/New_York:20260823T080000
DTEND;TZID=America/New_York:20260823T095000
DTSTAMP:20260421T080911
CREATED:20241021T165013Z
LAST-MODIFIED:20241227T164701Z
UID:10001063-1787472000-1787478600@jccns.org
SUMMARY:Israeli Folk Dancing
DESCRIPTION:Class will be held at the JCCNS in WK \nFREE but please RSVP if you plan on attending to ns.folk.dance@gmail.com
URL:https://jccns.org/event/israeli-folk-dancing-13/2026-08-23/
LOCATION:JCCNS\, 4 Community Rd.\, Marblehead\, MA\, 01945
ATTACH;FMTTYPE=image/png:https://jccns.org/wp-content/uploads/2024/12/Israeli-Folk-Dancing-square.png
END:VEVENT
BEGIN:VEVENT
DTSTART;TZID=America/New_York:20260827T120000
DTEND;TZID=America/New_York:20260827T144500
DTSTAMP:20260421T080911
CREATED:20260225T175139Z
LAST-MODIFIED:20260225T180316Z
UID:10002967-1787832000-1787841900@jccns.org
SUMMARY:Open Play Canasta at the J!
DESCRIPTION:NEW DAY-Thursdays! \nJoin us for weekly Canasta games! Please bring your own playing cards and card holder. \nMembers: Free\nCommunity $5 to be paid at The Welcome Center. \nPlease RSVP to Sara Ewing at sewing@jccns.com.
URL:https://jccns.org/event/open-play-canasta-at-the-j-2/2026-08-27/
LOCATION:JCCNS\, 4 Community Rd.\, Marblehead\, MA\, 01945
ATTACH;FMTTYPE=image/png:https://jccns.org/wp-content/uploads/2025/12/Canasta-Open-Play-2025-Eblast-img.png
ORGANIZER;CN="Lauren Weiss":MAILTO:lweiss@jccns.com
END:VEVENT
BEGIN:VEVENT
DTSTART;TZID=America/New_York:20260827T193000
DTEND;TZID=America/New_York:20260827T210000
DTSTAMP:20260421T080911
CREATED:20241018T174651Z
LAST-MODIFIED:20241227T164654Z
UID:10000667-1787859000-1787864400@jccns.org
SUMMARY:Israeli Folk Dancing
DESCRIPTION:Class will be held at the JCCNS in WK \nFREE but please RSVP if you plan on attending to  ns.israeli.folk.dance@gmail.com
URL:https://jccns.org/event/israeli-folk-dancing-11/2026-08-27/
LOCATION:JCCNS\, 4 Community Rd.\, Marblehead\, MA\, 01945
ATTACH;FMTTYPE=image/png:https://jccns.org/wp-content/uploads/2024/12/Israeli-Folk-Dancing-square.png
END:VEVENT
BEGIN:VEVENT
DTSTART;TZID=America/New_York:20260830T080000
DTEND;TZID=America/New_York:20260830T095000
DTSTAMP:20260421T080911
CREATED:20241021T165013Z
LAST-MODIFIED:20241227T164701Z
UID:10001064-1788076800-1788083400@jccns.org
SUMMARY:Israeli Folk Dancing
DESCRIPTION:Class will be held at the JCCNS in WK \nFREE but please RSVP if you plan on attending to ns.folk.dance@gmail.com
URL:https://jccns.org/event/israeli-folk-dancing-13/2026-08-30/
LOCATION:JCCNS\, 4 Community Rd.\, Marblehead\, MA\, 01945
ATTACH;FMTTYPE=image/png:https://jccns.org/wp-content/uploads/2024/12/Israeli-Folk-Dancing-square.png
END:VEVENT
BEGIN:VEVENT
DTSTART;TZID=America/New_York:20260902T110000
DTEND;TZID=America/New_York:20260902T123000
DTSTAMP:20260421T080911
CREATED:20251119T193841Z
LAST-MODIFIED:20260409T153603Z
UID:10000526-1788346800-1788352200@jccns.org
SUMMARY:Senior Jazz and Lunch Hour
DESCRIPTION:All seniors are welcome to enjoy a live performance by the Insight Band and share a delicious\, complimentary lunch at the JCCNS. \nSpace is limited. \nPlease RSVP to Lauren Weiss at lweiss@jccns.com or (857)285-7959 by the Friday before the concert and indicate your lunch choice of tuna or egg salad.
URL:https://jccns.org/event/senior-jazz-and-lunch-hour-6-10/2026-09-02/
LOCATION:JCCNS\, 4 Community Rd.\, Marblehead\, MA\, 01945
ATTACH;FMTTYPE=image/png:https://jccns.org/wp-content/uploads/2024/12/Senior-Jazz-Hour-and-Lunch-square.png
ORGANIZER;CN="Sara Ewing":MAILTO:sewing@jccns.com
END:VEVENT
BEGIN:VEVENT
DTSTART;TZID=America/New_York:20260902T190000
DTEND;TZID=America/New_York:20260902T190000
DTSTAMP:20260421T080911
CREATED:20241018T180055Z
LAST-MODIFIED:20241227T164601Z
UID:10000870-1788375600-1788375600@jccns.org
SUMMARY:Knitting Knights
DESCRIPTION:Join us for fun evenings of knitting and chat. All ability levels welcome. \nFirst and third Wednesdays of every month.
URL:https://jccns.org/event/knitting-knights-3/2026-09-02/
LOCATION:JCCNS Women’s Health Center\, 4 Community Rd.\, Marblehead\, MA\, 01945\, United States
ATTACH;FMTTYPE=image/png:https://jccns.org/wp-content/uploads/2024/10/Knitting-Knights-square.png
ORGANIZER;CN="Mary Pat Hawkins":MAILTO:mphawkins@jccns.com
END:VEVENT
BEGIN:VEVENT
DTSTART;TZID=America/New_York:20260903T120000
DTEND;TZID=America/New_York:20260903T144500
DTSTAMP:20260421T080911
CREATED:20260225T175139Z
LAST-MODIFIED:20260225T180316Z
UID:10002968-1788436800-1788446700@jccns.org
SUMMARY:Open Play Canasta at the J!
DESCRIPTION:NEW DAY-Thursdays! \nJoin us for weekly Canasta games! Please bring your own playing cards and card holder. \nMembers: Free\nCommunity $5 to be paid at The Welcome Center. \nPlease RSVP to Sara Ewing at sewing@jccns.com.
URL:https://jccns.org/event/open-play-canasta-at-the-j-2/2026-09-03/
LOCATION:JCCNS\, 4 Community Rd.\, Marblehead\, MA\, 01945
ATTACH;FMTTYPE=image/png:https://jccns.org/wp-content/uploads/2025/12/Canasta-Open-Play-2025-Eblast-img.png
ORGANIZER;CN="Lauren Weiss":MAILTO:lweiss@jccns.com
END:VEVENT
BEGIN:VEVENT
DTSTART;TZID=America/New_York:20260903T193000
DTEND;TZID=America/New_York:20260903T210000
DTSTAMP:20260421T080911
CREATED:20241018T174651Z
LAST-MODIFIED:20241227T164654Z
UID:10000668-1788463800-1788469200@jccns.org
SUMMARY:Israeli Folk Dancing
DESCRIPTION:Class will be held at the JCCNS in WK \nFREE but please RSVP if you plan on attending to  ns.israeli.folk.dance@gmail.com
URL:https://jccns.org/event/israeli-folk-dancing-11/2026-09-03/
LOCATION:JCCNS\, 4 Community Rd.\, Marblehead\, MA\, 01945
ATTACH;FMTTYPE=image/png:https://jccns.org/wp-content/uploads/2024/12/Israeli-Folk-Dancing-square.png
END:VEVENT
BEGIN:VEVENT
DTSTART;TZID=America/New_York:20260906T080000
DTEND;TZID=America/New_York:20260906T095000
DTSTAMP:20260421T080911
CREATED:20241021T165013Z
LAST-MODIFIED:20241227T164701Z
UID:10001065-1788681600-1788688200@jccns.org
SUMMARY:Israeli Folk Dancing
DESCRIPTION:Class will be held at the JCCNS in WK \nFREE but please RSVP if you plan on attending to ns.folk.dance@gmail.com
URL:https://jccns.org/event/israeli-folk-dancing-13/2026-09-06/
LOCATION:JCCNS\, 4 Community Rd.\, Marblehead\, MA\, 01945
ATTACH;FMTTYPE=image/png:https://jccns.org/wp-content/uploads/2024/12/Israeli-Folk-Dancing-square.png
END:VEVENT
BEGIN:VEVENT
DTSTART;TZID=America/New_York:20260910T120000
DTEND;TZID=America/New_York:20260910T144500
DTSTAMP:20260421T080911
CREATED:20260225T175139Z
LAST-MODIFIED:20260225T180316Z
UID:10002969-1789041600-1789051500@jccns.org
SUMMARY:Open Play Canasta at the J!
DESCRIPTION:NEW DAY-Thursdays! \nJoin us for weekly Canasta games! Please bring your own playing cards and card holder. \nMembers: Free\nCommunity $5 to be paid at The Welcome Center. \nPlease RSVP to Sara Ewing at sewing@jccns.com.
URL:https://jccns.org/event/open-play-canasta-at-the-j-2/2026-09-10/
LOCATION:JCCNS\, 4 Community Rd.\, Marblehead\, MA\, 01945
ATTACH;FMTTYPE=image/png:https://jccns.org/wp-content/uploads/2025/12/Canasta-Open-Play-2025-Eblast-img.png
ORGANIZER;CN="Lauren Weiss":MAILTO:lweiss@jccns.com
END:VEVENT
BEGIN:VEVENT
DTSTART;TZID=America/New_York:20260910T193000
DTEND;TZID=America/New_York:20260910T210000
DTSTAMP:20260421T080911
CREATED:20241018T174651Z
LAST-MODIFIED:20241227T164654Z
UID:10000669-1789068600-1789074000@jccns.org
SUMMARY:Israeli Folk Dancing
DESCRIPTION:Class will be held at the JCCNS in WK \nFREE but please RSVP if you plan on attending to  ns.israeli.folk.dance@gmail.com
URL:https://jccns.org/event/israeli-folk-dancing-11/2026-09-10/
LOCATION:JCCNS\, 4 Community Rd.\, Marblehead\, MA\, 01945
ATTACH;FMTTYPE=image/png:https://jccns.org/wp-content/uploads/2024/12/Israeli-Folk-Dancing-square.png
END:VEVENT
BEGIN:VEVENT
DTSTART;TZID=America/New_York:20260913T080000
DTEND;TZID=America/New_York:20260913T095000
DTSTAMP:20260421T080911
CREATED:20241021T165013Z
LAST-MODIFIED:20241227T164701Z
UID:10001066-1789286400-1789293000@jccns.org
SUMMARY:Israeli Folk Dancing
DESCRIPTION:Class will be held at the JCCNS in WK \nFREE but please RSVP if you plan on attending to ns.folk.dance@gmail.com
URL:https://jccns.org/event/israeli-folk-dancing-13/2026-09-13/
LOCATION:JCCNS\, 4 Community Rd.\, Marblehead\, MA\, 01945
ATTACH;FMTTYPE=image/png:https://jccns.org/wp-content/uploads/2024/12/Israeli-Folk-Dancing-square.png
END:VEVENT
BEGIN:VEVENT
DTSTART;TZID=America/New_York:20260916T190000
DTEND;TZID=America/New_York:20260916T190000
DTSTAMP:20260421T080911
CREATED:20241018T175943Z
LAST-MODIFIED:20241227T165037Z
UID:10000930-1789585200-1789585200@jccns.org
SUMMARY:Knitting Knights
DESCRIPTION:Join us for fun evenings of knitting and chat. All ability levels welcome. \nFirst and third Wednesdays of every month. \nEveryone is welcome!  You do not need to be a member to attend.
URL:https://jccns.org/event/knitting-knights-2/2026-09-16/
LOCATION:JCCNS Women’s Health Center\, 4 Community Rd.\, Marblehead\, MA\, 01945\, United States
ATTACH;FMTTYPE=image/png:https://jccns.org/wp-content/uploads/2024/10/Knitting-Knights-square.png
END:VEVENT
BEGIN:VEVENT
DTSTART;TZID=America/New_York:20260917T120000
DTEND;TZID=America/New_York:20260917T144500
DTSTAMP:20260421T080911
CREATED:20260225T175139Z
LAST-MODIFIED:20260225T180316Z
UID:10002970-1789646400-1789656300@jccns.org
SUMMARY:Open Play Canasta at the J!
DESCRIPTION:NEW DAY-Thursdays! \nJoin us for weekly Canasta games! Please bring your own playing cards and card holder. \nMembers: Free\nCommunity $5 to be paid at The Welcome Center. \nPlease RSVP to Sara Ewing at sewing@jccns.com.
URL:https://jccns.org/event/open-play-canasta-at-the-j-2/2026-09-17/
LOCATION:JCCNS\, 4 Community Rd.\, Marblehead\, MA\, 01945
ATTACH;FMTTYPE=image/png:https://jccns.org/wp-content/uploads/2025/12/Canasta-Open-Play-2025-Eblast-img.png
ORGANIZER;CN="Lauren Weiss":MAILTO:lweiss@jccns.com
END:VEVENT
BEGIN:VEVENT
DTSTART;TZID=America/New_York:20260917T193000
DTEND;TZID=America/New_York:20260917T210000
DTSTAMP:20260421T080911
CREATED:20241018T174651Z
LAST-MODIFIED:20241227T164654Z
UID:10000670-1789673400-1789678800@jccns.org
SUMMARY:Israeli Folk Dancing
DESCRIPTION:Class will be held at the JCCNS in WK \nFREE but please RSVP if you plan on attending to  ns.israeli.folk.dance@gmail.com
URL:https://jccns.org/event/israeli-folk-dancing-11/2026-09-17/
LOCATION:JCCNS\, 4 Community Rd.\, Marblehead\, MA\, 01945
ATTACH;FMTTYPE=image/png:https://jccns.org/wp-content/uploads/2024/12/Israeli-Folk-Dancing-square.png
END:VEVENT
BEGIN:VEVENT
DTSTART;TZID=America/New_York:20260920T080000
DTEND;TZID=America/New_York:20260920T095000
DTSTAMP:20260421T080911
CREATED:20241021T165013Z
LAST-MODIFIED:20241227T164701Z
UID:10001067-1789891200-1789897800@jccns.org
SUMMARY:Israeli Folk Dancing
DESCRIPTION:Class will be held at the JCCNS in WK \nFREE but please RSVP if you plan on attending to ns.folk.dance@gmail.com
URL:https://jccns.org/event/israeli-folk-dancing-13/2026-09-20/
LOCATION:JCCNS\, 4 Community Rd.\, Marblehead\, MA\, 01945
ATTACH;FMTTYPE=image/png:https://jccns.org/wp-content/uploads/2024/12/Israeli-Folk-Dancing-square.png
END:VEVENT
BEGIN:VEVENT
DTSTART;TZID=America/New_York:20260924T120000
DTEND;TZID=America/New_York:20260924T144500
DTSTAMP:20260421T080911
CREATED:20260225T175139Z
LAST-MODIFIED:20260225T180316Z
UID:10002971-1790251200-1790261100@jccns.org
SUMMARY:Open Play Canasta at the J!
DESCRIPTION:NEW DAY-Thursdays! \nJoin us for weekly Canasta games! Please bring your own playing cards and card holder. \nMembers: Free\nCommunity $5 to be paid at The Welcome Center. \nPlease RSVP to Sara Ewing at sewing@jccns.com.
URL:https://jccns.org/event/open-play-canasta-at-the-j-2/2026-09-24/
LOCATION:JCCNS\, 4 Community Rd.\, Marblehead\, MA\, 01945
ATTACH;FMTTYPE=image/png:https://jccns.org/wp-content/uploads/2025/12/Canasta-Open-Play-2025-Eblast-img.png
ORGANIZER;CN="Lauren Weiss":MAILTO:lweiss@jccns.com
END:VEVENT
BEGIN:VEVENT
DTSTART;TZID=America/New_York:20260924T193000
DTEND;TZID=America/New_York:20260924T210000
DTSTAMP:20260421T080912
CREATED:20241018T174651Z
LAST-MODIFIED:20241227T164654Z
UID:10000671-1790278200-1790283600@jccns.org
SUMMARY:Israeli Folk Dancing
DESCRIPTION:Class will be held at the JCCNS in WK \nFREE but please RSVP if you plan on attending to  ns.israeli.folk.dance@gmail.com
URL:https://jccns.org/event/israeli-folk-dancing-11/2026-09-24/
LOCATION:JCCNS\, 4 Community Rd.\, Marblehead\, MA\, 01945
ATTACH;FMTTYPE=image/png:https://jccns.org/wp-content/uploads/2024/12/Israeli-Folk-Dancing-square.png
END:VEVENT
BEGIN:VEVENT
DTSTART;TZID=America/New_York:20260927T080000
DTEND;TZID=America/New_York:20260927T095000
DTSTAMP:20260421T080912
CREATED:20241021T165013Z
LAST-MODIFIED:20241227T164701Z
UID:10001068-1790496000-1790502600@jccns.org
SUMMARY:Israeli Folk Dancing
DESCRIPTION:Class will be held at the JCCNS in WK \nFREE but please RSVP if you plan on attending to ns.folk.dance@gmail.com
URL:https://jccns.org/event/israeli-folk-dancing-13/2026-09-27/
LOCATION:JCCNS\, 4 Community Rd.\, Marblehead\, MA\, 01945
ATTACH;FMTTYPE=image/png:https://jccns.org/wp-content/uploads/2024/12/Israeli-Folk-Dancing-square.png
END:VEVENT
BEGIN:VEVENT
DTSTART;TZID=America/New_York:20261001T120000
DTEND;TZID=America/New_York:20261001T144500
DTSTAMP:20260421T080912
CREATED:20260225T175139Z
LAST-MODIFIED:20260225T180316Z
UID:10002972-1790856000-1790865900@jccns.org
SUMMARY:Open Play Canasta at the J!
DESCRIPTION:NEW DAY-Thursdays! \nJoin us for weekly Canasta games! Please bring your own playing cards and card holder. \nMembers: Free\nCommunity $5 to be paid at The Welcome Center. \nPlease RSVP to Sara Ewing at sewing@jccns.com.
URL:https://jccns.org/event/open-play-canasta-at-the-j-2/2026-10-01/
LOCATION:JCCNS\, 4 Community Rd.\, Marblehead\, MA\, 01945
ATTACH;FMTTYPE=image/png:https://jccns.org/wp-content/uploads/2025/12/Canasta-Open-Play-2025-Eblast-img.png
ORGANIZER;CN="Lauren Weiss":MAILTO:lweiss@jccns.com
END:VEVENT
BEGIN:VEVENT
DTSTART;TZID=America/New_York:20261001T193000
DTEND;TZID=America/New_York:20261001T210000
DTSTAMP:20260421T080912
CREATED:20241018T174651Z
LAST-MODIFIED:20241227T164654Z
UID:10000672-1790883000-1790888400@jccns.org
SUMMARY:Israeli Folk Dancing
DESCRIPTION:Class will be held at the JCCNS in WK \nFREE but please RSVP if you plan on attending to  ns.israeli.folk.dance@gmail.com
URL:https://jccns.org/event/israeli-folk-dancing-11/2026-10-01/
LOCATION:JCCNS\, 4 Community Rd.\, Marblehead\, MA\, 01945
ATTACH;FMTTYPE=image/png:https://jccns.org/wp-content/uploads/2024/12/Israeli-Folk-Dancing-square.png
END:VEVENT
BEGIN:VEVENT
DTSTART;TZID=America/New_York:20261004T080000
DTEND;TZID=America/New_York:20261004T095000
DTSTAMP:20260421T080912
CREATED:20241021T165013Z
LAST-MODIFIED:20241227T164701Z
UID:10001069-1791100800-1791107400@jccns.org
SUMMARY:Israeli Folk Dancing
DESCRIPTION:Class will be held at the JCCNS in WK \nFREE but please RSVP if you plan on attending to ns.folk.dance@gmail.com
URL:https://jccns.org/event/israeli-folk-dancing-13/2026-10-04/
LOCATION:JCCNS\, 4 Community Rd.\, Marblehead\, MA\, 01945
ATTACH;FMTTYPE=image/png:https://jccns.org/wp-content/uploads/2024/12/Israeli-Folk-Dancing-square.png
END:VEVENT
BEGIN:VEVENT
DTSTART;TZID=America/New_York:20261007T110000
DTEND;TZID=America/New_York:20261007T123000
DTSTAMP:20260421T080912
CREATED:20251119T193841Z
LAST-MODIFIED:20260409T153603Z
UID:10000527-1791370800-1791376200@jccns.org
SUMMARY:Senior Jazz and Lunch Hour
DESCRIPTION:All seniors are welcome to enjoy a live performance by the Insight Band and share a delicious\, complimentary lunch at the JCCNS. \nSpace is limited. \nPlease RSVP to Lauren Weiss at lweiss@jccns.com or (857)285-7959 by the Friday before the concert and indicate your lunch choice of tuna or egg salad.
URL:https://jccns.org/event/senior-jazz-and-lunch-hour-6-10/2026-10-07/
LOCATION:JCCNS\, 4 Community Rd.\, Marblehead\, MA\, 01945
ATTACH;FMTTYPE=image/png:https://jccns.org/wp-content/uploads/2024/12/Senior-Jazz-Hour-and-Lunch-square.png
ORGANIZER;CN="Sara Ewing":MAILTO:sewing@jccns.com
END:VEVENT
BEGIN:VEVENT
DTSTART;TZID=America/New_York:20261007T190000
DTEND;TZID=America/New_York:20261007T190000
DTSTAMP:20260421T080912
CREATED:20241018T180055Z
LAST-MODIFIED:20241227T164601Z
UID:10000871-1791399600-1791399600@jccns.org
SUMMARY:Knitting Knights
DESCRIPTION:Join us for fun evenings of knitting and chat. All ability levels welcome. \nFirst and third Wednesdays of every month.
URL:https://jccns.org/event/knitting-knights-3/2026-10-07/
LOCATION:JCCNS Women’s Health Center\, 4 Community Rd.\, Marblehead\, MA\, 01945\, United States
ATTACH;FMTTYPE=image/png:https://jccns.org/wp-content/uploads/2024/10/Knitting-Knights-square.png
ORGANIZER;CN="Mary Pat Hawkins":MAILTO:mphawkins@jccns.com
END:VEVENT
BEGIN:VEVENT
DTSTART;TZID=America/New_York:20261008T120000
DTEND;TZID=America/New_York:20261008T144500
DTSTAMP:20260421T080912
CREATED:20260225T175139Z
LAST-MODIFIED:20260225T180316Z
UID:10002973-1791460800-1791470700@jccns.org
SUMMARY:Open Play Canasta at the J!
DESCRIPTION:NEW DAY-Thursdays! \nJoin us for weekly Canasta games! Please bring your own playing cards and card holder. \nMembers: Free\nCommunity $5 to be paid at The Welcome Center. \nPlease RSVP to Sara Ewing at sewing@jccns.com.
URL:https://jccns.org/event/open-play-canasta-at-the-j-2/2026-10-08/
LOCATION:JCCNS\, 4 Community Rd.\, Marblehead\, MA\, 01945
ATTACH;FMTTYPE=image/png:https://jccns.org/wp-content/uploads/2025/12/Canasta-Open-Play-2025-Eblast-img.png
ORGANIZER;CN="Lauren Weiss":MAILTO:lweiss@jccns.com
END:VEVENT
END:VCALENDAR