BEGIN:VCALENDAR
VERSION:2.0
PRODID:-//JCCNS, Jewish Community Center of the North Shore - ECPv6.15.20//NONSGML v1.0//EN
CALSCALE:GREGORIAN
METHOD:PUBLISH
X-WR-CALNAME:JCCNS, Jewish Community Center of the North Shore
X-ORIGINAL-URL:https://jccns.org
X-WR-CALDESC:Events for JCCNS, Jewish Community Center of the North Shore
REFRESH-INTERVAL;VALUE=DURATION:PT1H
X-Robots-Tag:noindex
X-PUBLISHED-TTL:PT1H
BEGIN:VTIMEZONE
TZID:America/New_York
BEGIN:DAYLIGHT
TZOFFSETFROM:-0500
TZOFFSETTO:-0400
TZNAME:EDT
DTSTART:20250309T070000
END:DAYLIGHT
BEGIN:STANDARD
TZOFFSETFROM:-0400
TZOFFSETTO:-0500
TZNAME:EST
DTSTART:20251102T060000
END:STANDARD
BEGIN:DAYLIGHT
TZOFFSETFROM:-0500
TZOFFSETTO:-0400
TZNAME:EDT
DTSTART:20260308T070000
END:DAYLIGHT
BEGIN:STANDARD
TZOFFSETFROM:-0400
TZOFFSETTO:-0500
TZNAME:EST
DTSTART:20261101T060000
END:STANDARD
BEGIN:DAYLIGHT
TZOFFSETFROM:-0500
TZOFFSETTO:-0400
TZNAME:EDT
DTSTART:20270314T070000
END:DAYLIGHT
BEGIN:STANDARD
TZOFFSETFROM:-0400
TZOFFSETTO:-0500
TZNAME:EST
DTSTART:20271107T060000
END:STANDARD
END:VTIMEZONE
BEGIN:VEVENT
DTSTART;TZID=America/New_York:20260514T190000
DTEND;TZID=America/New_York:20260514T210000
DTSTAMP:20260421T125027
CREATED:20260316T170021Z
LAST-MODIFIED:20260407T165830Z
UID:10003233-1778785200-1778792400@jccns.org
SUMMARY:We Met at Grossinger’s
DESCRIPTION:With introduction and facilitated Q&A by Eileen Pollack. \nWe Met at Grossinger’s is a joyful\, nostalgic look at the legendary Grossinger’s Resort and Hotel\, the iconic Catskills retreat that helped define the Jewish Borscht Belt and inspired Dirty Dancing. Built by three generations of visionary women\, the resort became a vibrant haven where Jewish Americans and other outsiders—including guests like Jackie Robinson and Eleanor Roosevelt—found community\, creativity\, and joy. Blending history with nostalgia\, the film celebrates a golden era that left an indelible mark on American culture. \n					\n									Get Tickets
URL:https://jccns.org/event/we-met-at-grossingers/
LOCATION:Cinema Salem\, 1 East India Square Mall\, Salem\, MA\, 01945\, United States
CATEGORIES:Film Festival
ATTACH;FMTTYPE=image/png:https://jccns.org/wp-content/uploads/2026/03/Film-2026-11-We-Met-at-Grossingers-web.png
ORGANIZER;CN="Lauren Weiss":MAILTO:lweiss@jccns.com
END:VEVENT
BEGIN:VEVENT
DTSTART;TZID=America/New_York:20260519T191500
DTEND;TZID=America/New_York:20260519T203000
DTSTAMP:20260421T125027
CREATED:20260409T175358Z
LAST-MODIFIED:20260420T160741Z
UID:10003260-1779218100-1779222600@jccns.org
SUMMARY:From Birth Worrier to Birth Warrior
DESCRIPTION:Join Chaya Baron on a childbirth education journey to birthing with calm\, confidence\, and strength. \nAs a mom\, educator\, doula\, and advocate\, Chaya empowers women (and their partners) with practical tools\, clear education\, and compassionate support so they feel prepared and confident for birth. \nGet informed. Feel supported. Be ready. \n3-class series\n \nClass 1: The Physiology of Labor and Birth \n\nUnderstanding the physical changes throughout pregnancy\, labor\, and birth\nWhat to expect during each of the three stages of labor\nWhat is happening in your body during a contraction\nHelpful positions for active labor and pushing\nWhat to expect during the immediate postpartum stage\n\nClass 2: Mindset in Labor + Advocacy skills \n\nHow your mindset plays a crucial role in labor—and how to harness it to support you.\nPractical tools to help you relax your mind.\nLearning how to breathe during labor—a foundational skill for staying calm and grounded.\nAffirmations\nVisualization\nSix skills to help you step into your power and advocate for yourself\n\nClass 3: Medical procedures\, postpartum prep and writing your birth plan \n\nA thorough understanding of common medical procedures and when they may be necessary.\nWhen to go to the hospital and what to bring with you.\nWhat to expect postpartum and how to prepare yourself well.\nThe journey of breastfeeding.\nA step-by-step guide to writing your birth plan—what to include and what to leave out.\n\nCost: Members-$200\, Community-$225 \nFollow Chaya on Instagram @empoweredbirthboston for thoughtful birth insights\, gentle guidance\, and a deeper look into her work supporting women through pregnancy and birth. \n 
URL:https://jccns.org/event/from-birth-worrier-to-birth-warrior/2026-05-19/
LOCATION:JCCNS\, 4 Community Rd.\, Marblehead\, MA\, 01945
CATEGORIES:Home-Series
ATTACH;FMTTYPE=image/png:https://jccns.org/wp-content/uploads/2026/04/From-Birth-Worrier-to-Warrior-2026-Eblast-img.png
ORGANIZER;CN="Lauren Weiss":MAILTO:lweiss@jccns.com
END:VEVENT
BEGIN:VEVENT
DTSTART;TZID=America/New_York:20260521T120000
DTEND;TZID=America/New_York:20260521T144500
DTSTAMP:20260421T125027
CREATED:20260225T175139Z
LAST-MODIFIED:20260225T180316Z
UID:10002953-1779364800-1779374700@jccns.org
SUMMARY:Open Play Canasta at the J!
DESCRIPTION:NEW DAY-Thursdays! \nJoin us for weekly Canasta games! Please bring your own playing cards and card holder. \nMembers: Free\nCommunity $5 to be paid at The Welcome Center. \nPlease RSVP to Sara Ewing at sewing@jccns.com.
URL:https://jccns.org/event/open-play-canasta-at-the-j-2/2026-05-21/
LOCATION:JCCNS\, 4 Community Rd.\, Marblehead\, MA\, 01945
ATTACH;FMTTYPE=image/png:https://jccns.org/wp-content/uploads/2025/12/Canasta-Open-Play-2025-Eblast-img.png
ORGANIZER;CN="Lauren Weiss":MAILTO:lweiss@jccns.com
END:VEVENT
BEGIN:VEVENT
DTSTART;TZID=America/New_York:20260526T191500
DTEND;TZID=America/New_York:20260526T203000
DTSTAMP:20260421T125027
CREATED:20260409T175358Z
LAST-MODIFIED:20260420T160741Z
UID:10003261-1779822900-1779827400@jccns.org
SUMMARY:From Birth Worrier to Birth Warrior
DESCRIPTION:Join Chaya Baron on a childbirth education journey to birthing with calm\, confidence\, and strength. \nAs a mom\, educator\, doula\, and advocate\, Chaya empowers women (and their partners) with practical tools\, clear education\, and compassionate support so they feel prepared and confident for birth. \nGet informed. Feel supported. Be ready. \n3-class series\n \nClass 1: The Physiology of Labor and Birth \n\nUnderstanding the physical changes throughout pregnancy\, labor\, and birth\nWhat to expect during each of the three stages of labor\nWhat is happening in your body during a contraction\nHelpful positions for active labor and pushing\nWhat to expect during the immediate postpartum stage\n\nClass 2: Mindset in Labor + Advocacy skills \n\nHow your mindset plays a crucial role in labor—and how to harness it to support you.\nPractical tools to help you relax your mind.\nLearning how to breathe during labor—a foundational skill for staying calm and grounded.\nAffirmations\nVisualization\nSix skills to help you step into your power and advocate for yourself\n\nClass 3: Medical procedures\, postpartum prep and writing your birth plan \n\nA thorough understanding of common medical procedures and when they may be necessary.\nWhen to go to the hospital and what to bring with you.\nWhat to expect postpartum and how to prepare yourself well.\nThe journey of breastfeeding.\nA step-by-step guide to writing your birth plan—what to include and what to leave out.\n\nCost: Members-$200\, Community-$225 \nFollow Chaya on Instagram @empoweredbirthboston for thoughtful birth insights\, gentle guidance\, and a deeper look into her work supporting women through pregnancy and birth. \n 
URL:https://jccns.org/event/from-birth-worrier-to-birth-warrior/2026-05-26/
LOCATION:JCCNS\, 4 Community Rd.\, Marblehead\, MA\, 01945
CATEGORIES:Home-Series
ATTACH;FMTTYPE=image/png:https://jccns.org/wp-content/uploads/2026/04/From-Birth-Worrier-to-Warrior-2026-Eblast-img.png
ORGANIZER;CN="Lauren Weiss":MAILTO:lweiss@jccns.com
END:VEVENT
BEGIN:VEVENT
DTSTART;TZID=America/New_York:20260528T120000
DTEND;TZID=America/New_York:20260528T144500
DTSTAMP:20260421T125027
CREATED:20260225T175139Z
LAST-MODIFIED:20260225T180316Z
UID:10002954-1779969600-1779979500@jccns.org
SUMMARY:Open Play Canasta at the J!
DESCRIPTION:NEW DAY-Thursdays! \nJoin us for weekly Canasta games! Please bring your own playing cards and card holder. \nMembers: Free\nCommunity $5 to be paid at The Welcome Center. \nPlease RSVP to Sara Ewing at sewing@jccns.com.
URL:https://jccns.org/event/open-play-canasta-at-the-j-2/2026-05-28/
LOCATION:JCCNS\, 4 Community Rd.\, Marblehead\, MA\, 01945
ATTACH;FMTTYPE=image/png:https://jccns.org/wp-content/uploads/2025/12/Canasta-Open-Play-2025-Eblast-img.png
ORGANIZER;CN="Lauren Weiss":MAILTO:lweiss@jccns.com
END:VEVENT
BEGIN:VEVENT
DTSTART;TZID=America/New_York:20260604T120000
DTEND;TZID=America/New_York:20260604T144500
DTSTAMP:20260421T125027
CREATED:20260225T175139Z
LAST-MODIFIED:20260225T180316Z
UID:10002955-1780574400-1780584300@jccns.org
SUMMARY:Open Play Canasta at the J!
DESCRIPTION:NEW DAY-Thursdays! \nJoin us for weekly Canasta games! Please bring your own playing cards and card holder. \nMembers: Free\nCommunity $5 to be paid at The Welcome Center. \nPlease RSVP to Sara Ewing at sewing@jccns.com.
URL:https://jccns.org/event/open-play-canasta-at-the-j-2/2026-06-04/
LOCATION:JCCNS\, 4 Community Rd.\, Marblehead\, MA\, 01945
ATTACH;FMTTYPE=image/png:https://jccns.org/wp-content/uploads/2025/12/Canasta-Open-Play-2025-Eblast-img.png
ORGANIZER;CN="Lauren Weiss":MAILTO:lweiss@jccns.com
END:VEVENT
BEGIN:VEVENT
DTSTART;TZID=America/New_York:20260611T120000
DTEND;TZID=America/New_York:20260611T144500
DTSTAMP:20260421T125027
CREATED:20260225T175139Z
LAST-MODIFIED:20260225T180316Z
UID:10002956-1781179200-1781189100@jccns.org
SUMMARY:Open Play Canasta at the J!
DESCRIPTION:NEW DAY-Thursdays! \nJoin us for weekly Canasta games! Please bring your own playing cards and card holder. \nMembers: Free\nCommunity $5 to be paid at The Welcome Center. \nPlease RSVP to Sara Ewing at sewing@jccns.com.
URL:https://jccns.org/event/open-play-canasta-at-the-j-2/2026-06-11/
LOCATION:JCCNS\, 4 Community Rd.\, Marblehead\, MA\, 01945
ATTACH;FMTTYPE=image/png:https://jccns.org/wp-content/uploads/2025/12/Canasta-Open-Play-2025-Eblast-img.png
ORGANIZER;CN="Lauren Weiss":MAILTO:lweiss@jccns.com
END:VEVENT
BEGIN:VEVENT
DTSTART;TZID=America/New_York:20260618T120000
DTEND;TZID=America/New_York:20260618T144500
DTSTAMP:20260421T125027
CREATED:20260225T175139Z
LAST-MODIFIED:20260225T180316Z
UID:10002957-1781784000-1781793900@jccns.org
SUMMARY:Open Play Canasta at the J!
DESCRIPTION:NEW DAY-Thursdays! \nJoin us for weekly Canasta games! Please bring your own playing cards and card holder. \nMembers: Free\nCommunity $5 to be paid at The Welcome Center. \nPlease RSVP to Sara Ewing at sewing@jccns.com.
URL:https://jccns.org/event/open-play-canasta-at-the-j-2/2026-06-18/
LOCATION:JCCNS\, 4 Community Rd.\, Marblehead\, MA\, 01945
ATTACH;FMTTYPE=image/png:https://jccns.org/wp-content/uploads/2025/12/Canasta-Open-Play-2025-Eblast-img.png
ORGANIZER;CN="Lauren Weiss":MAILTO:lweiss@jccns.com
END:VEVENT
BEGIN:VEVENT
DTSTART;TZID=America/New_York:20260625T120000
DTEND;TZID=America/New_York:20260625T144500
DTSTAMP:20260421T125027
CREATED:20260225T175139Z
LAST-MODIFIED:20260225T180316Z
UID:10002958-1782388800-1782398700@jccns.org
SUMMARY:Open Play Canasta at the J!
DESCRIPTION:NEW DAY-Thursdays! \nJoin us for weekly Canasta games! Please bring your own playing cards and card holder. \nMembers: Free\nCommunity $5 to be paid at The Welcome Center. \nPlease RSVP to Sara Ewing at sewing@jccns.com.
URL:https://jccns.org/event/open-play-canasta-at-the-j-2/2026-06-25/
LOCATION:JCCNS\, 4 Community Rd.\, Marblehead\, MA\, 01945
ATTACH;FMTTYPE=image/png:https://jccns.org/wp-content/uploads/2025/12/Canasta-Open-Play-2025-Eblast-img.png
ORGANIZER;CN="Lauren Weiss":MAILTO:lweiss@jccns.com
END:VEVENT
BEGIN:VEVENT
DTSTART;TZID=America/New_York:20260702T120000
DTEND;TZID=America/New_York:20260702T144500
DTSTAMP:20260421T125027
CREATED:20260225T175139Z
LAST-MODIFIED:20260225T180316Z
UID:10002959-1782993600-1783003500@jccns.org
SUMMARY:Open Play Canasta at the J!
DESCRIPTION:NEW DAY-Thursdays! \nJoin us for weekly Canasta games! Please bring your own playing cards and card holder. \nMembers: Free\nCommunity $5 to be paid at The Welcome Center. \nPlease RSVP to Sara Ewing at sewing@jccns.com.
URL:https://jccns.org/event/open-play-canasta-at-the-j-2/2026-07-02/
LOCATION:JCCNS\, 4 Community Rd.\, Marblehead\, MA\, 01945
ATTACH;FMTTYPE=image/png:https://jccns.org/wp-content/uploads/2025/12/Canasta-Open-Play-2025-Eblast-img.png
ORGANIZER;CN="Lauren Weiss":MAILTO:lweiss@jccns.com
END:VEVENT
BEGIN:VEVENT
DTSTART;TZID=America/New_York:20260709T120000
DTEND;TZID=America/New_York:20260709T144500
DTSTAMP:20260421T125027
CREATED:20260225T175139Z
LAST-MODIFIED:20260225T180316Z
UID:10002960-1783598400-1783608300@jccns.org
SUMMARY:Open Play Canasta at the J!
DESCRIPTION:NEW DAY-Thursdays! \nJoin us for weekly Canasta games! Please bring your own playing cards and card holder. \nMembers: Free\nCommunity $5 to be paid at The Welcome Center. \nPlease RSVP to Sara Ewing at sewing@jccns.com.
URL:https://jccns.org/event/open-play-canasta-at-the-j-2/2026-07-09/
LOCATION:JCCNS\, 4 Community Rd.\, Marblehead\, MA\, 01945
ATTACH;FMTTYPE=image/png:https://jccns.org/wp-content/uploads/2025/12/Canasta-Open-Play-2025-Eblast-img.png
ORGANIZER;CN="Lauren Weiss":MAILTO:lweiss@jccns.com
END:VEVENT
BEGIN:VEVENT
DTSTART;TZID=America/New_York:20260716T120000
DTEND;TZID=America/New_York:20260716T144500
DTSTAMP:20260421T125027
CREATED:20260225T175139Z
LAST-MODIFIED:20260225T180316Z
UID:10002961-1784203200-1784213100@jccns.org
SUMMARY:Open Play Canasta at the J!
DESCRIPTION:NEW DAY-Thursdays! \nJoin us for weekly Canasta games! Please bring your own playing cards and card holder. \nMembers: Free\nCommunity $5 to be paid at The Welcome Center. \nPlease RSVP to Sara Ewing at sewing@jccns.com.
URL:https://jccns.org/event/open-play-canasta-at-the-j-2/2026-07-16/
LOCATION:JCCNS\, 4 Community Rd.\, Marblehead\, MA\, 01945
ATTACH;FMTTYPE=image/png:https://jccns.org/wp-content/uploads/2025/12/Canasta-Open-Play-2025-Eblast-img.png
ORGANIZER;CN="Lauren Weiss":MAILTO:lweiss@jccns.com
END:VEVENT
BEGIN:VEVENT
DTSTART;TZID=America/New_York:20260723T120000
DTEND;TZID=America/New_York:20260723T144500
DTSTAMP:20260421T125027
CREATED:20260225T175139Z
LAST-MODIFIED:20260225T180316Z
UID:10002962-1784808000-1784817900@jccns.org
SUMMARY:Open Play Canasta at the J!
DESCRIPTION:NEW DAY-Thursdays! \nJoin us for weekly Canasta games! Please bring your own playing cards and card holder. \nMembers: Free\nCommunity $5 to be paid at The Welcome Center. \nPlease RSVP to Sara Ewing at sewing@jccns.com.
URL:https://jccns.org/event/open-play-canasta-at-the-j-2/2026-07-23/
LOCATION:JCCNS\, 4 Community Rd.\, Marblehead\, MA\, 01945
ATTACH;FMTTYPE=image/png:https://jccns.org/wp-content/uploads/2025/12/Canasta-Open-Play-2025-Eblast-img.png
ORGANIZER;CN="Lauren Weiss":MAILTO:lweiss@jccns.com
END:VEVENT
BEGIN:VEVENT
DTSTART;TZID=America/New_York:20260730T120000
DTEND;TZID=America/New_York:20260730T144500
DTSTAMP:20260421T125027
CREATED:20260225T175139Z
LAST-MODIFIED:20260225T180316Z
UID:10002963-1785412800-1785422700@jccns.org
SUMMARY:Open Play Canasta at the J!
DESCRIPTION:NEW DAY-Thursdays! \nJoin us for weekly Canasta games! Please bring your own playing cards and card holder. \nMembers: Free\nCommunity $5 to be paid at The Welcome Center. \nPlease RSVP to Sara Ewing at sewing@jccns.com.
URL:https://jccns.org/event/open-play-canasta-at-the-j-2/2026-07-30/
LOCATION:JCCNS\, 4 Community Rd.\, Marblehead\, MA\, 01945
ATTACH;FMTTYPE=image/png:https://jccns.org/wp-content/uploads/2025/12/Canasta-Open-Play-2025-Eblast-img.png
ORGANIZER;CN="Lauren Weiss":MAILTO:lweiss@jccns.com
END:VEVENT
BEGIN:VEVENT
DTSTART;TZID=America/New_York:20260806T120000
DTEND;TZID=America/New_York:20260806T144500
DTSTAMP:20260421T125027
CREATED:20260225T175139Z
LAST-MODIFIED:20260225T180316Z
UID:10002964-1786017600-1786027500@jccns.org
SUMMARY:Open Play Canasta at the J!
DESCRIPTION:NEW DAY-Thursdays! \nJoin us for weekly Canasta games! Please bring your own playing cards and card holder. \nMembers: Free\nCommunity $5 to be paid at The Welcome Center. \nPlease RSVP to Sara Ewing at sewing@jccns.com.
URL:https://jccns.org/event/open-play-canasta-at-the-j-2/2026-08-06/
LOCATION:JCCNS\, 4 Community Rd.\, Marblehead\, MA\, 01945
ATTACH;FMTTYPE=image/png:https://jccns.org/wp-content/uploads/2025/12/Canasta-Open-Play-2025-Eblast-img.png
ORGANIZER;CN="Lauren Weiss":MAILTO:lweiss@jccns.com
END:VEVENT
BEGIN:VEVENT
DTSTART;TZID=America/New_York:20260813T120000
DTEND;TZID=America/New_York:20260813T144500
DTSTAMP:20260421T125027
CREATED:20260225T175139Z
LAST-MODIFIED:20260225T180316Z
UID:10002965-1786622400-1786632300@jccns.org
SUMMARY:Open Play Canasta at the J!
DESCRIPTION:NEW DAY-Thursdays! \nJoin us for weekly Canasta games! Please bring your own playing cards and card holder. \nMembers: Free\nCommunity $5 to be paid at The Welcome Center. \nPlease RSVP to Sara Ewing at sewing@jccns.com.
URL:https://jccns.org/event/open-play-canasta-at-the-j-2/2026-08-13/
LOCATION:JCCNS\, 4 Community Rd.\, Marblehead\, MA\, 01945
ATTACH;FMTTYPE=image/png:https://jccns.org/wp-content/uploads/2025/12/Canasta-Open-Play-2025-Eblast-img.png
ORGANIZER;CN="Lauren Weiss":MAILTO:lweiss@jccns.com
END:VEVENT
BEGIN:VEVENT
DTSTART;TZID=America/New_York:20260820T120000
DTEND;TZID=America/New_York:20260820T144500
DTSTAMP:20260421T125027
CREATED:20260225T175139Z
LAST-MODIFIED:20260225T180316Z
UID:10002966-1787227200-1787237100@jccns.org
SUMMARY:Open Play Canasta at the J!
DESCRIPTION:NEW DAY-Thursdays! \nJoin us for weekly Canasta games! Please bring your own playing cards and card holder. \nMembers: Free\nCommunity $5 to be paid at The Welcome Center. \nPlease RSVP to Sara Ewing at sewing@jccns.com.
URL:https://jccns.org/event/open-play-canasta-at-the-j-2/2026-08-20/
LOCATION:JCCNS\, 4 Community Rd.\, Marblehead\, MA\, 01945
ATTACH;FMTTYPE=image/png:https://jccns.org/wp-content/uploads/2025/12/Canasta-Open-Play-2025-Eblast-img.png
ORGANIZER;CN="Lauren Weiss":MAILTO:lweiss@jccns.com
END:VEVENT
BEGIN:VEVENT
DTSTART;TZID=America/New_York:20260827T120000
DTEND;TZID=America/New_York:20260827T144500
DTSTAMP:20260421T125027
CREATED:20260225T175139Z
LAST-MODIFIED:20260225T180316Z
UID:10002967-1787832000-1787841900@jccns.org
SUMMARY:Open Play Canasta at the J!
DESCRIPTION:NEW DAY-Thursdays! \nJoin us for weekly Canasta games! Please bring your own playing cards and card holder. \nMembers: Free\nCommunity $5 to be paid at The Welcome Center. \nPlease RSVP to Sara Ewing at sewing@jccns.com.
URL:https://jccns.org/event/open-play-canasta-at-the-j-2/2026-08-27/
LOCATION:JCCNS\, 4 Community Rd.\, Marblehead\, MA\, 01945
ATTACH;FMTTYPE=image/png:https://jccns.org/wp-content/uploads/2025/12/Canasta-Open-Play-2025-Eblast-img.png
ORGANIZER;CN="Lauren Weiss":MAILTO:lweiss@jccns.com
END:VEVENT
BEGIN:VEVENT
DTSTART;TZID=America/New_York:20260903T120000
DTEND;TZID=America/New_York:20260903T144500
DTSTAMP:20260421T125027
CREATED:20260225T175139Z
LAST-MODIFIED:20260225T180316Z
UID:10002968-1788436800-1788446700@jccns.org
SUMMARY:Open Play Canasta at the J!
DESCRIPTION:NEW DAY-Thursdays! \nJoin us for weekly Canasta games! Please bring your own playing cards and card holder. \nMembers: Free\nCommunity $5 to be paid at The Welcome Center. \nPlease RSVP to Sara Ewing at sewing@jccns.com.
URL:https://jccns.org/event/open-play-canasta-at-the-j-2/2026-09-03/
LOCATION:JCCNS\, 4 Community Rd.\, Marblehead\, MA\, 01945
ATTACH;FMTTYPE=image/png:https://jccns.org/wp-content/uploads/2025/12/Canasta-Open-Play-2025-Eblast-img.png
ORGANIZER;CN="Lauren Weiss":MAILTO:lweiss@jccns.com
END:VEVENT
BEGIN:VEVENT
DTSTART;TZID=America/New_York:20260910T120000
DTEND;TZID=America/New_York:20260910T144500
DTSTAMP:20260421T125027
CREATED:20260225T175139Z
LAST-MODIFIED:20260225T180316Z
UID:10002969-1789041600-1789051500@jccns.org
SUMMARY:Open Play Canasta at the J!
DESCRIPTION:NEW DAY-Thursdays! \nJoin us for weekly Canasta games! Please bring your own playing cards and card holder. \nMembers: Free\nCommunity $5 to be paid at The Welcome Center. \nPlease RSVP to Sara Ewing at sewing@jccns.com.
URL:https://jccns.org/event/open-play-canasta-at-the-j-2/2026-09-10/
LOCATION:JCCNS\, 4 Community Rd.\, Marblehead\, MA\, 01945
ATTACH;FMTTYPE=image/png:https://jccns.org/wp-content/uploads/2025/12/Canasta-Open-Play-2025-Eblast-img.png
ORGANIZER;CN="Lauren Weiss":MAILTO:lweiss@jccns.com
END:VEVENT
BEGIN:VEVENT
DTSTART;TZID=America/New_York:20260917T120000
DTEND;TZID=America/New_York:20260917T144500
DTSTAMP:20260421T125027
CREATED:20260225T175139Z
LAST-MODIFIED:20260225T180316Z
UID:10002970-1789646400-1789656300@jccns.org
SUMMARY:Open Play Canasta at the J!
DESCRIPTION:NEW DAY-Thursdays! \nJoin us for weekly Canasta games! Please bring your own playing cards and card holder. \nMembers: Free\nCommunity $5 to be paid at The Welcome Center. \nPlease RSVP to Sara Ewing at sewing@jccns.com.
URL:https://jccns.org/event/open-play-canasta-at-the-j-2/2026-09-17/
LOCATION:JCCNS\, 4 Community Rd.\, Marblehead\, MA\, 01945
ATTACH;FMTTYPE=image/png:https://jccns.org/wp-content/uploads/2025/12/Canasta-Open-Play-2025-Eblast-img.png
ORGANIZER;CN="Lauren Weiss":MAILTO:lweiss@jccns.com
END:VEVENT
BEGIN:VEVENT
DTSTART;TZID=America/New_York:20260924T120000
DTEND;TZID=America/New_York:20260924T144500
DTSTAMP:20260421T125027
CREATED:20260225T175139Z
LAST-MODIFIED:20260225T180316Z
UID:10002971-1790251200-1790261100@jccns.org
SUMMARY:Open Play Canasta at the J!
DESCRIPTION:NEW DAY-Thursdays! \nJoin us for weekly Canasta games! Please bring your own playing cards and card holder. \nMembers: Free\nCommunity $5 to be paid at The Welcome Center. \nPlease RSVP to Sara Ewing at sewing@jccns.com.
URL:https://jccns.org/event/open-play-canasta-at-the-j-2/2026-09-24/
LOCATION:JCCNS\, 4 Community Rd.\, Marblehead\, MA\, 01945
ATTACH;FMTTYPE=image/png:https://jccns.org/wp-content/uploads/2025/12/Canasta-Open-Play-2025-Eblast-img.png
ORGANIZER;CN="Lauren Weiss":MAILTO:lweiss@jccns.com
END:VEVENT
BEGIN:VEVENT
DTSTART;TZID=America/New_York:20261001T120000
DTEND;TZID=America/New_York:20261001T144500
DTSTAMP:20260421T125027
CREATED:20260225T175139Z
LAST-MODIFIED:20260225T180316Z
UID:10002972-1790856000-1790865900@jccns.org
SUMMARY:Open Play Canasta at the J!
DESCRIPTION:NEW DAY-Thursdays! \nJoin us for weekly Canasta games! Please bring your own playing cards and card holder. \nMembers: Free\nCommunity $5 to be paid at The Welcome Center. \nPlease RSVP to Sara Ewing at sewing@jccns.com.
URL:https://jccns.org/event/open-play-canasta-at-the-j-2/2026-10-01/
LOCATION:JCCNS\, 4 Community Rd.\, Marblehead\, MA\, 01945
ATTACH;FMTTYPE=image/png:https://jccns.org/wp-content/uploads/2025/12/Canasta-Open-Play-2025-Eblast-img.png
ORGANIZER;CN="Lauren Weiss":MAILTO:lweiss@jccns.com
END:VEVENT
BEGIN:VEVENT
DTSTART;TZID=America/New_York:20261008T120000
DTEND;TZID=America/New_York:20261008T144500
DTSTAMP:20260421T125027
CREATED:20260225T175139Z
LAST-MODIFIED:20260225T180316Z
UID:10002973-1791460800-1791470700@jccns.org
SUMMARY:Open Play Canasta at the J!
DESCRIPTION:NEW DAY-Thursdays! \nJoin us for weekly Canasta games! Please bring your own playing cards and card holder. \nMembers: Free\nCommunity $5 to be paid at The Welcome Center. \nPlease RSVP to Sara Ewing at sewing@jccns.com.
URL:https://jccns.org/event/open-play-canasta-at-the-j-2/2026-10-08/
LOCATION:JCCNS\, 4 Community Rd.\, Marblehead\, MA\, 01945
ATTACH;FMTTYPE=image/png:https://jccns.org/wp-content/uploads/2025/12/Canasta-Open-Play-2025-Eblast-img.png
ORGANIZER;CN="Lauren Weiss":MAILTO:lweiss@jccns.com
END:VEVENT
BEGIN:VEVENT
DTSTART;TZID=America/New_York:20261015T120000
DTEND;TZID=America/New_York:20261015T144500
DTSTAMP:20260421T125027
CREATED:20260225T175139Z
LAST-MODIFIED:20260225T180316Z
UID:10002974-1792065600-1792075500@jccns.org
SUMMARY:Open Play Canasta at the J!
DESCRIPTION:NEW DAY-Thursdays! \nJoin us for weekly Canasta games! Please bring your own playing cards and card holder. \nMembers: Free\nCommunity $5 to be paid at The Welcome Center. \nPlease RSVP to Sara Ewing at sewing@jccns.com.
URL:https://jccns.org/event/open-play-canasta-at-the-j-2/2026-10-15/
LOCATION:JCCNS\, 4 Community Rd.\, Marblehead\, MA\, 01945
ATTACH;FMTTYPE=image/png:https://jccns.org/wp-content/uploads/2025/12/Canasta-Open-Play-2025-Eblast-img.png
ORGANIZER;CN="Lauren Weiss":MAILTO:lweiss@jccns.com
END:VEVENT
BEGIN:VEVENT
DTSTART;TZID=America/New_York:20261022T120000
DTEND;TZID=America/New_York:20261022T144500
DTSTAMP:20260421T125027
CREATED:20260225T175139Z
LAST-MODIFIED:20260225T180316Z
UID:10002975-1792670400-1792680300@jccns.org
SUMMARY:Open Play Canasta at the J!
DESCRIPTION:NEW DAY-Thursdays! \nJoin us for weekly Canasta games! Please bring your own playing cards and card holder. \nMembers: Free\nCommunity $5 to be paid at The Welcome Center. \nPlease RSVP to Sara Ewing at sewing@jccns.com.
URL:https://jccns.org/event/open-play-canasta-at-the-j-2/2026-10-22/
LOCATION:JCCNS\, 4 Community Rd.\, Marblehead\, MA\, 01945
ATTACH;FMTTYPE=image/png:https://jccns.org/wp-content/uploads/2025/12/Canasta-Open-Play-2025-Eblast-img.png
ORGANIZER;CN="Lauren Weiss":MAILTO:lweiss@jccns.com
END:VEVENT
BEGIN:VEVENT
DTSTART;TZID=America/New_York:20261029T120000
DTEND;TZID=America/New_York:20261029T144500
DTSTAMP:20260421T125027
CREATED:20260225T175139Z
LAST-MODIFIED:20260225T180316Z
UID:10002976-1793275200-1793285100@jccns.org
SUMMARY:Open Play Canasta at the J!
DESCRIPTION:NEW DAY-Thursdays! \nJoin us for weekly Canasta games! Please bring your own playing cards and card holder. \nMembers: Free\nCommunity $5 to be paid at The Welcome Center. \nPlease RSVP to Sara Ewing at sewing@jccns.com.
URL:https://jccns.org/event/open-play-canasta-at-the-j-2/2026-10-29/
LOCATION:JCCNS\, 4 Community Rd.\, Marblehead\, MA\, 01945
ATTACH;FMTTYPE=image/png:https://jccns.org/wp-content/uploads/2025/12/Canasta-Open-Play-2025-Eblast-img.png
ORGANIZER;CN="Lauren Weiss":MAILTO:lweiss@jccns.com
END:VEVENT
BEGIN:VEVENT
DTSTART;TZID=America/New_York:20261105T120000
DTEND;TZID=America/New_York:20261105T144500
DTSTAMP:20260421T125027
CREATED:20260225T175139Z
LAST-MODIFIED:20260225T180316Z
UID:10002977-1793880000-1793889900@jccns.org
SUMMARY:Open Play Canasta at the J!
DESCRIPTION:NEW DAY-Thursdays! \nJoin us for weekly Canasta games! Please bring your own playing cards and card holder. \nMembers: Free\nCommunity $5 to be paid at The Welcome Center. \nPlease RSVP to Sara Ewing at sewing@jccns.com.
URL:https://jccns.org/event/open-play-canasta-at-the-j-2/2026-11-05/
LOCATION:JCCNS\, 4 Community Rd.\, Marblehead\, MA\, 01945
ATTACH;FMTTYPE=image/png:https://jccns.org/wp-content/uploads/2025/12/Canasta-Open-Play-2025-Eblast-img.png
ORGANIZER;CN="Lauren Weiss":MAILTO:lweiss@jccns.com
END:VEVENT
BEGIN:VEVENT
DTSTART;TZID=America/New_York:20261112T120000
DTEND;TZID=America/New_York:20261112T144500
DTSTAMP:20260421T125027
CREATED:20260225T175139Z
LAST-MODIFIED:20260225T180316Z
UID:10002978-1794484800-1794494700@jccns.org
SUMMARY:Open Play Canasta at the J!
DESCRIPTION:NEW DAY-Thursdays! \nJoin us for weekly Canasta games! Please bring your own playing cards and card holder. \nMembers: Free\nCommunity $5 to be paid at The Welcome Center. \nPlease RSVP to Sara Ewing at sewing@jccns.com.
URL:https://jccns.org/event/open-play-canasta-at-the-j-2/2026-11-12/
LOCATION:JCCNS\, 4 Community Rd.\, Marblehead\, MA\, 01945
ATTACH;FMTTYPE=image/png:https://jccns.org/wp-content/uploads/2025/12/Canasta-Open-Play-2025-Eblast-img.png
ORGANIZER;CN="Lauren Weiss":MAILTO:lweiss@jccns.com
END:VEVENT
BEGIN:VEVENT
DTSTART;TZID=America/New_York:20261119T120000
DTEND;TZID=America/New_York:20261119T144500
DTSTAMP:20260421T125028
CREATED:20260225T175139Z
LAST-MODIFIED:20260225T180316Z
UID:10002979-1795089600-1795099500@jccns.org
SUMMARY:Open Play Canasta at the J!
DESCRIPTION:NEW DAY-Thursdays! \nJoin us for weekly Canasta games! Please bring your own playing cards and card holder. \nMembers: Free\nCommunity $5 to be paid at The Welcome Center. \nPlease RSVP to Sara Ewing at sewing@jccns.com.
URL:https://jccns.org/event/open-play-canasta-at-the-j-2/2026-11-19/
LOCATION:JCCNS\, 4 Community Rd.\, Marblehead\, MA\, 01945
ATTACH;FMTTYPE=image/png:https://jccns.org/wp-content/uploads/2025/12/Canasta-Open-Play-2025-Eblast-img.png
ORGANIZER;CN="Lauren Weiss":MAILTO:lweiss@jccns.com
END:VEVENT
END:VCALENDAR