BEGIN:VCALENDAR
VERSION:2.0
PRODID:-//JCCNS, Jewish Community Center of the North Shore - ECPv6.15.20//NONSGML v1.0//EN
CALSCALE:GREGORIAN
METHOD:PUBLISH
X-ORIGINAL-URL:https://jccns.org
X-WR-CALDESC:Events for JCCNS, Jewish Community Center of the North Shore
REFRESH-INTERVAL;VALUE=DURATION:PT1H
X-Robots-Tag:noindex
X-PUBLISHED-TTL:PT1H
BEGIN:VTIMEZONE
TZID:America/New_York
BEGIN:DAYLIGHT
TZOFFSETFROM:-0500
TZOFFSETTO:-0400
TZNAME:EDT
DTSTART:20250309T070000
END:DAYLIGHT
BEGIN:STANDARD
TZOFFSETFROM:-0400
TZOFFSETTO:-0500
TZNAME:EST
DTSTART:20251102T060000
END:STANDARD
BEGIN:DAYLIGHT
TZOFFSETFROM:-0500
TZOFFSETTO:-0400
TZNAME:EDT
DTSTART:20260308T070000
END:DAYLIGHT
BEGIN:STANDARD
TZOFFSETFROM:-0400
TZOFFSETTO:-0500
TZNAME:EST
DTSTART:20261101T060000
END:STANDARD
BEGIN:DAYLIGHT
TZOFFSETFROM:-0500
TZOFFSETTO:-0400
TZNAME:EDT
DTSTART:20270314T070000
END:DAYLIGHT
BEGIN:STANDARD
TZOFFSETFROM:-0400
TZOFFSETTO:-0500
TZNAME:EST
DTSTART:20271107T060000
END:STANDARD
BEGIN:DAYLIGHT
TZOFFSETFROM:-0500
TZOFFSETTO:-0400
TZNAME:EDT
DTSTART:20280312T070000
END:DAYLIGHT
BEGIN:STANDARD
TZOFFSETFROM:-0400
TZOFFSETTO:-0500
TZNAME:EST
DTSTART:20281105T060000
END:STANDARD
END:VTIMEZONE
BEGIN:VEVENT
DTSTART;TZID=America/New_York:20260917T120000
DTEND;TZID=America/New_York:20260917T144500
DTSTAMP:20260421T173121
CREATED:20260225T175139Z
LAST-MODIFIED:20260225T180316Z
UID:10002970-1789646400-1789656300@jccns.org
SUMMARY:Open Play Canasta at the J!
DESCRIPTION:NEW DAY-Thursdays! \nJoin us for weekly Canasta games! Please bring your own playing cards and card holder. \nMembers: Free\nCommunity $5 to be paid at The Welcome Center. \nPlease RSVP to Sara Ewing at sewing@jccns.com.
URL:https://jccns.org/event/open-play-canasta-at-the-j-2/2026-09-17/
LOCATION:JCCNS\, 4 Community Rd.\, Marblehead\, MA\, 01945
ATTACH;FMTTYPE=image/png:https://jccns.org/wp-content/uploads/2025/12/Canasta-Open-Play-2025-Eblast-img.png
ORGANIZER;CN="Lauren Weiss":MAILTO:lweiss@jccns.com
END:VEVENT
BEGIN:VEVENT
DTSTART;TZID=America/New_York:20260924T120000
DTEND;TZID=America/New_York:20260924T144500
DTSTAMP:20260421T173121
CREATED:20260225T175139Z
LAST-MODIFIED:20260225T180316Z
UID:10002971-1790251200-1790261100@jccns.org
SUMMARY:Open Play Canasta at the J!
DESCRIPTION:NEW DAY-Thursdays! \nJoin us for weekly Canasta games! Please bring your own playing cards and card holder. \nMembers: Free\nCommunity $5 to be paid at The Welcome Center. \nPlease RSVP to Sara Ewing at sewing@jccns.com.
URL:https://jccns.org/event/open-play-canasta-at-the-j-2/2026-09-24/
LOCATION:JCCNS\, 4 Community Rd.\, Marblehead\, MA\, 01945
ATTACH;FMTTYPE=image/png:https://jccns.org/wp-content/uploads/2025/12/Canasta-Open-Play-2025-Eblast-img.png
ORGANIZER;CN="Lauren Weiss":MAILTO:lweiss@jccns.com
END:VEVENT
BEGIN:VEVENT
DTSTART;TZID=America/New_York:20261001T120000
DTEND;TZID=America/New_York:20261001T144500
DTSTAMP:20260421T173121
CREATED:20260225T175139Z
LAST-MODIFIED:20260225T180316Z
UID:10002972-1790856000-1790865900@jccns.org
SUMMARY:Open Play Canasta at the J!
DESCRIPTION:NEW DAY-Thursdays! \nJoin us for weekly Canasta games! Please bring your own playing cards and card holder. \nMembers: Free\nCommunity $5 to be paid at The Welcome Center. \nPlease RSVP to Sara Ewing at sewing@jccns.com.
URL:https://jccns.org/event/open-play-canasta-at-the-j-2/2026-10-01/
LOCATION:JCCNS\, 4 Community Rd.\, Marblehead\, MA\, 01945
ATTACH;FMTTYPE=image/png:https://jccns.org/wp-content/uploads/2025/12/Canasta-Open-Play-2025-Eblast-img.png
ORGANIZER;CN="Lauren Weiss":MAILTO:lweiss@jccns.com
END:VEVENT
BEGIN:VEVENT
DTSTART;TZID=America/New_York:20261008T120000
DTEND;TZID=America/New_York:20261008T144500
DTSTAMP:20260421T173121
CREATED:20260225T175139Z
LAST-MODIFIED:20260225T180316Z
UID:10002973-1791460800-1791470700@jccns.org
SUMMARY:Open Play Canasta at the J!
DESCRIPTION:NEW DAY-Thursdays! \nJoin us for weekly Canasta games! Please bring your own playing cards and card holder. \nMembers: Free\nCommunity $5 to be paid at The Welcome Center. \nPlease RSVP to Sara Ewing at sewing@jccns.com.
URL:https://jccns.org/event/open-play-canasta-at-the-j-2/2026-10-08/
LOCATION:JCCNS\, 4 Community Rd.\, Marblehead\, MA\, 01945
ATTACH;FMTTYPE=image/png:https://jccns.org/wp-content/uploads/2025/12/Canasta-Open-Play-2025-Eblast-img.png
ORGANIZER;CN="Lauren Weiss":MAILTO:lweiss@jccns.com
END:VEVENT
BEGIN:VEVENT
DTSTART;TZID=America/New_York:20261015T120000
DTEND;TZID=America/New_York:20261015T144500
DTSTAMP:20260421T173121
CREATED:20260225T175139Z
LAST-MODIFIED:20260225T180316Z
UID:10002974-1792065600-1792075500@jccns.org
SUMMARY:Open Play Canasta at the J!
DESCRIPTION:NEW DAY-Thursdays! \nJoin us for weekly Canasta games! Please bring your own playing cards and card holder. \nMembers: Free\nCommunity $5 to be paid at The Welcome Center. \nPlease RSVP to Sara Ewing at sewing@jccns.com.
URL:https://jccns.org/event/open-play-canasta-at-the-j-2/2026-10-15/
LOCATION:JCCNS\, 4 Community Rd.\, Marblehead\, MA\, 01945
ATTACH;FMTTYPE=image/png:https://jccns.org/wp-content/uploads/2025/12/Canasta-Open-Play-2025-Eblast-img.png
ORGANIZER;CN="Lauren Weiss":MAILTO:lweiss@jccns.com
END:VEVENT
BEGIN:VEVENT
DTSTART;TZID=America/New_York:20261022T120000
DTEND;TZID=America/New_York:20261022T144500
DTSTAMP:20260421T173121
CREATED:20260225T175139Z
LAST-MODIFIED:20260225T180316Z
UID:10002975-1792670400-1792680300@jccns.org
SUMMARY:Open Play Canasta at the J!
DESCRIPTION:NEW DAY-Thursdays! \nJoin us for weekly Canasta games! Please bring your own playing cards and card holder. \nMembers: Free\nCommunity $5 to be paid at The Welcome Center. \nPlease RSVP to Sara Ewing at sewing@jccns.com.
URL:https://jccns.org/event/open-play-canasta-at-the-j-2/2026-10-22/
LOCATION:JCCNS\, 4 Community Rd.\, Marblehead\, MA\, 01945
ATTACH;FMTTYPE=image/png:https://jccns.org/wp-content/uploads/2025/12/Canasta-Open-Play-2025-Eblast-img.png
ORGANIZER;CN="Lauren Weiss":MAILTO:lweiss@jccns.com
END:VEVENT
BEGIN:VEVENT
DTSTART;TZID=America/New_York:20261029T120000
DTEND;TZID=America/New_York:20261029T144500
DTSTAMP:20260421T173121
CREATED:20260225T175139Z
LAST-MODIFIED:20260225T180316Z
UID:10002976-1793275200-1793285100@jccns.org
SUMMARY:Open Play Canasta at the J!
DESCRIPTION:NEW DAY-Thursdays! \nJoin us for weekly Canasta games! Please bring your own playing cards and card holder. \nMembers: Free\nCommunity $5 to be paid at The Welcome Center. \nPlease RSVP to Sara Ewing at sewing@jccns.com.
URL:https://jccns.org/event/open-play-canasta-at-the-j-2/2026-10-29/
LOCATION:JCCNS\, 4 Community Rd.\, Marblehead\, MA\, 01945
ATTACH;FMTTYPE=image/png:https://jccns.org/wp-content/uploads/2025/12/Canasta-Open-Play-2025-Eblast-img.png
ORGANIZER;CN="Lauren Weiss":MAILTO:lweiss@jccns.com
END:VEVENT
BEGIN:VEVENT
DTSTART;TZID=America/New_York:20261105T120000
DTEND;TZID=America/New_York:20261105T144500
DTSTAMP:20260421T173121
CREATED:20260225T175139Z
LAST-MODIFIED:20260225T180316Z
UID:10002977-1793880000-1793889900@jccns.org
SUMMARY:Open Play Canasta at the J!
DESCRIPTION:NEW DAY-Thursdays! \nJoin us for weekly Canasta games! Please bring your own playing cards and card holder. \nMembers: Free\nCommunity $5 to be paid at The Welcome Center. \nPlease RSVP to Sara Ewing at sewing@jccns.com.
URL:https://jccns.org/event/open-play-canasta-at-the-j-2/2026-11-05/
LOCATION:JCCNS\, 4 Community Rd.\, Marblehead\, MA\, 01945
ATTACH;FMTTYPE=image/png:https://jccns.org/wp-content/uploads/2025/12/Canasta-Open-Play-2025-Eblast-img.png
ORGANIZER;CN="Lauren Weiss":MAILTO:lweiss@jccns.com
END:VEVENT
BEGIN:VEVENT
DTSTART;TZID=America/New_York:20261112T120000
DTEND;TZID=America/New_York:20261112T144500
DTSTAMP:20260421T173121
CREATED:20260225T175139Z
LAST-MODIFIED:20260225T180316Z
UID:10002978-1794484800-1794494700@jccns.org
SUMMARY:Open Play Canasta at the J!
DESCRIPTION:NEW DAY-Thursdays! \nJoin us for weekly Canasta games! Please bring your own playing cards and card holder. \nMembers: Free\nCommunity $5 to be paid at The Welcome Center. \nPlease RSVP to Sara Ewing at sewing@jccns.com.
URL:https://jccns.org/event/open-play-canasta-at-the-j-2/2026-11-12/
LOCATION:JCCNS\, 4 Community Rd.\, Marblehead\, MA\, 01945
ATTACH;FMTTYPE=image/png:https://jccns.org/wp-content/uploads/2025/12/Canasta-Open-Play-2025-Eblast-img.png
ORGANIZER;CN="Lauren Weiss":MAILTO:lweiss@jccns.com
END:VEVENT
BEGIN:VEVENT
DTSTART;TZID=America/New_York:20261119T120000
DTEND;TZID=America/New_York:20261119T144500
DTSTAMP:20260421T173121
CREATED:20260225T175139Z
LAST-MODIFIED:20260225T180316Z
UID:10002979-1795089600-1795099500@jccns.org
SUMMARY:Open Play Canasta at the J!
DESCRIPTION:NEW DAY-Thursdays! \nJoin us for weekly Canasta games! Please bring your own playing cards and card holder. \nMembers: Free\nCommunity $5 to be paid at The Welcome Center. \nPlease RSVP to Sara Ewing at sewing@jccns.com.
URL:https://jccns.org/event/open-play-canasta-at-the-j-2/2026-11-19/
LOCATION:JCCNS\, 4 Community Rd.\, Marblehead\, MA\, 01945
ATTACH;FMTTYPE=image/png:https://jccns.org/wp-content/uploads/2025/12/Canasta-Open-Play-2025-Eblast-img.png
ORGANIZER;CN="Lauren Weiss":MAILTO:lweiss@jccns.com
END:VEVENT
BEGIN:VEVENT
DTSTART;TZID=America/New_York:20261126T120000
DTEND;TZID=America/New_York:20261126T144500
DTSTAMP:20260421T173121
CREATED:20260225T175139Z
LAST-MODIFIED:20260225T180316Z
UID:10002980-1795694400-1795704300@jccns.org
SUMMARY:Open Play Canasta at the J!
DESCRIPTION:NEW DAY-Thursdays! \nJoin us for weekly Canasta games! Please bring your own playing cards and card holder. \nMembers: Free\nCommunity $5 to be paid at The Welcome Center. \nPlease RSVP to Sara Ewing at sewing@jccns.com.
URL:https://jccns.org/event/open-play-canasta-at-the-j-2/2026-11-26/
LOCATION:JCCNS\, 4 Community Rd.\, Marblehead\, MA\, 01945
ATTACH;FMTTYPE=image/png:https://jccns.org/wp-content/uploads/2025/12/Canasta-Open-Play-2025-Eblast-img.png
ORGANIZER;CN="Lauren Weiss":MAILTO:lweiss@jccns.com
END:VEVENT
BEGIN:VEVENT
DTSTART;TZID=America/New_York:20261203T120000
DTEND;TZID=America/New_York:20261203T144500
DTSTAMP:20260421T173121
CREATED:20260225T175139Z
LAST-MODIFIED:20260225T180316Z
UID:10002981-1796299200-1796309100@jccns.org
SUMMARY:Open Play Canasta at the J!
DESCRIPTION:NEW DAY-Thursdays! \nJoin us for weekly Canasta games! Please bring your own playing cards and card holder. \nMembers: Free\nCommunity $5 to be paid at The Welcome Center. \nPlease RSVP to Sara Ewing at sewing@jccns.com.
URL:https://jccns.org/event/open-play-canasta-at-the-j-2/2026-12-03/
LOCATION:JCCNS\, 4 Community Rd.\, Marblehead\, MA\, 01945
ATTACH;FMTTYPE=image/png:https://jccns.org/wp-content/uploads/2025/12/Canasta-Open-Play-2025-Eblast-img.png
ORGANIZER;CN="Lauren Weiss":MAILTO:lweiss@jccns.com
END:VEVENT
BEGIN:VEVENT
DTSTART;TZID=America/New_York:20261210T120000
DTEND;TZID=America/New_York:20261210T144500
DTSTAMP:20260421T173121
CREATED:20260225T175139Z
LAST-MODIFIED:20260225T180316Z
UID:10002982-1796904000-1796913900@jccns.org
SUMMARY:Open Play Canasta at the J!
DESCRIPTION:NEW DAY-Thursdays! \nJoin us for weekly Canasta games! Please bring your own playing cards and card holder. \nMembers: Free\nCommunity $5 to be paid at The Welcome Center. \nPlease RSVP to Sara Ewing at sewing@jccns.com.
URL:https://jccns.org/event/open-play-canasta-at-the-j-2/2026-12-10/
LOCATION:JCCNS\, 4 Community Rd.\, Marblehead\, MA\, 01945
ATTACH;FMTTYPE=image/png:https://jccns.org/wp-content/uploads/2025/12/Canasta-Open-Play-2025-Eblast-img.png
ORGANIZER;CN="Lauren Weiss":MAILTO:lweiss@jccns.com
END:VEVENT
BEGIN:VEVENT
DTSTART;TZID=America/New_York:20261217T120000
DTEND;TZID=America/New_York:20261217T144500
DTSTAMP:20260421T173121
CREATED:20260225T175139Z
LAST-MODIFIED:20260225T180316Z
UID:10002983-1797508800-1797518700@jccns.org
SUMMARY:Open Play Canasta at the J!
DESCRIPTION:NEW DAY-Thursdays! \nJoin us for weekly Canasta games! Please bring your own playing cards and card holder. \nMembers: Free\nCommunity $5 to be paid at The Welcome Center. \nPlease RSVP to Sara Ewing at sewing@jccns.com.
URL:https://jccns.org/event/open-play-canasta-at-the-j-2/2026-12-17/
LOCATION:JCCNS\, 4 Community Rd.\, Marblehead\, MA\, 01945
ATTACH;FMTTYPE=image/png:https://jccns.org/wp-content/uploads/2025/12/Canasta-Open-Play-2025-Eblast-img.png
ORGANIZER;CN="Lauren Weiss":MAILTO:lweiss@jccns.com
END:VEVENT
BEGIN:VEVENT
DTSTART;TZID=America/New_York:20261224T120000
DTEND;TZID=America/New_York:20261224T144500
DTSTAMP:20260421T173121
CREATED:20260225T175139Z
LAST-MODIFIED:20260225T180316Z
UID:10002984-1798113600-1798123500@jccns.org
SUMMARY:Open Play Canasta at the J!
DESCRIPTION:NEW DAY-Thursdays! \nJoin us for weekly Canasta games! Please bring your own playing cards and card holder. \nMembers: Free\nCommunity $5 to be paid at The Welcome Center. \nPlease RSVP to Sara Ewing at sewing@jccns.com.
URL:https://jccns.org/event/open-play-canasta-at-the-j-2/2026-12-24/
LOCATION:JCCNS\, 4 Community Rd.\, Marblehead\, MA\, 01945
ATTACH;FMTTYPE=image/png:https://jccns.org/wp-content/uploads/2025/12/Canasta-Open-Play-2025-Eblast-img.png
ORGANIZER;CN="Lauren Weiss":MAILTO:lweiss@jccns.com
END:VEVENT
BEGIN:VEVENT
DTSTART;TZID=America/New_York:20261231T120000
DTEND;TZID=America/New_York:20261231T144500
DTSTAMP:20260421T173122
CREATED:20260225T175139Z
LAST-MODIFIED:20260225T180316Z
UID:10002985-1798718400-1798728300@jccns.org
SUMMARY:Open Play Canasta at the J!
DESCRIPTION:NEW DAY-Thursdays! \nJoin us for weekly Canasta games! Please bring your own playing cards and card holder. \nMembers: Free\nCommunity $5 to be paid at The Welcome Center. \nPlease RSVP to Sara Ewing at sewing@jccns.com.
URL:https://jccns.org/event/open-play-canasta-at-the-j-2/2026-12-31/
LOCATION:JCCNS\, 4 Community Rd.\, Marblehead\, MA\, 01945
ATTACH;FMTTYPE=image/png:https://jccns.org/wp-content/uploads/2025/12/Canasta-Open-Play-2025-Eblast-img.png
ORGANIZER;CN="Lauren Weiss":MAILTO:lweiss@jccns.com
END:VEVENT
BEGIN:VEVENT
DTSTART;TZID=America/New_York:20270107T120000
DTEND;TZID=America/New_York:20270107T144500
DTSTAMP:20260421T173122
CREATED:20260225T175139Z
LAST-MODIFIED:20260225T180316Z
UID:10002986-1799323200-1799333100@jccns.org
SUMMARY:Open Play Canasta at the J!
DESCRIPTION:NEW DAY-Thursdays! \nJoin us for weekly Canasta games! Please bring your own playing cards and card holder. \nMembers: Free\nCommunity $5 to be paid at The Welcome Center. \nPlease RSVP to Sara Ewing at sewing@jccns.com.
URL:https://jccns.org/event/open-play-canasta-at-the-j-2/2027-01-07/
LOCATION:JCCNS\, 4 Community Rd.\, Marblehead\, MA\, 01945
ATTACH;FMTTYPE=image/png:https://jccns.org/wp-content/uploads/2025/12/Canasta-Open-Play-2025-Eblast-img.png
ORGANIZER;CN="Lauren Weiss":MAILTO:lweiss@jccns.com
END:VEVENT
BEGIN:VEVENT
DTSTART;TZID=America/New_York:20270114T120000
DTEND;TZID=America/New_York:20270114T144500
DTSTAMP:20260421T173122
CREATED:20260225T175139Z
LAST-MODIFIED:20260225T180316Z
UID:10002987-1799928000-1799937900@jccns.org
SUMMARY:Open Play Canasta at the J!
DESCRIPTION:NEW DAY-Thursdays! \nJoin us for weekly Canasta games! Please bring your own playing cards and card holder. \nMembers: Free\nCommunity $5 to be paid at The Welcome Center. \nPlease RSVP to Sara Ewing at sewing@jccns.com.
URL:https://jccns.org/event/open-play-canasta-at-the-j-2/2027-01-14/
LOCATION:JCCNS\, 4 Community Rd.\, Marblehead\, MA\, 01945
ATTACH;FMTTYPE=image/png:https://jccns.org/wp-content/uploads/2025/12/Canasta-Open-Play-2025-Eblast-img.png
ORGANIZER;CN="Lauren Weiss":MAILTO:lweiss@jccns.com
END:VEVENT
BEGIN:VEVENT
DTSTART;TZID=America/New_York:20270121T120000
DTEND;TZID=America/New_York:20270121T144500
DTSTAMP:20260421T173122
CREATED:20260225T175139Z
LAST-MODIFIED:20260225T180316Z
UID:10002988-1800532800-1800542700@jccns.org
SUMMARY:Open Play Canasta at the J!
DESCRIPTION:NEW DAY-Thursdays! \nJoin us for weekly Canasta games! Please bring your own playing cards and card holder. \nMembers: Free\nCommunity $5 to be paid at The Welcome Center. \nPlease RSVP to Sara Ewing at sewing@jccns.com.
URL:https://jccns.org/event/open-play-canasta-at-the-j-2/2027-01-21/
LOCATION:JCCNS\, 4 Community Rd.\, Marblehead\, MA\, 01945
ATTACH;FMTTYPE=image/png:https://jccns.org/wp-content/uploads/2025/12/Canasta-Open-Play-2025-Eblast-img.png
ORGANIZER;CN="Lauren Weiss":MAILTO:lweiss@jccns.com
END:VEVENT
BEGIN:VEVENT
DTSTART;TZID=America/New_York:20270128T120000
DTEND;TZID=America/New_York:20270128T144500
DTSTAMP:20260421T173122
CREATED:20260225T175139Z
LAST-MODIFIED:20260225T180316Z
UID:10002989-1801137600-1801147500@jccns.org
SUMMARY:Open Play Canasta at the J!
DESCRIPTION:NEW DAY-Thursdays! \nJoin us for weekly Canasta games! Please bring your own playing cards and card holder. \nMembers: Free\nCommunity $5 to be paid at The Welcome Center. \nPlease RSVP to Sara Ewing at sewing@jccns.com.
URL:https://jccns.org/event/open-play-canasta-at-the-j-2/2027-01-28/
LOCATION:JCCNS\, 4 Community Rd.\, Marblehead\, MA\, 01945
ATTACH;FMTTYPE=image/png:https://jccns.org/wp-content/uploads/2025/12/Canasta-Open-Play-2025-Eblast-img.png
ORGANIZER;CN="Lauren Weiss":MAILTO:lweiss@jccns.com
END:VEVENT
BEGIN:VEVENT
DTSTART;TZID=America/New_York:20270204T120000
DTEND;TZID=America/New_York:20270204T144500
DTSTAMP:20260421T173122
CREATED:20260225T175139Z
LAST-MODIFIED:20260225T180316Z
UID:10002990-1801742400-1801752300@jccns.org
SUMMARY:Open Play Canasta at the J!
DESCRIPTION:NEW DAY-Thursdays! \nJoin us for weekly Canasta games! Please bring your own playing cards and card holder. \nMembers: Free\nCommunity $5 to be paid at The Welcome Center. \nPlease RSVP to Sara Ewing at sewing@jccns.com.
URL:https://jccns.org/event/open-play-canasta-at-the-j-2/2027-02-04/
LOCATION:JCCNS\, 4 Community Rd.\, Marblehead\, MA\, 01945
ATTACH;FMTTYPE=image/png:https://jccns.org/wp-content/uploads/2025/12/Canasta-Open-Play-2025-Eblast-img.png
ORGANIZER;CN="Lauren Weiss":MAILTO:lweiss@jccns.com
END:VEVENT
BEGIN:VEVENT
DTSTART;TZID=America/New_York:20270211T120000
DTEND;TZID=America/New_York:20270211T144500
DTSTAMP:20260421T173122
CREATED:20260225T175139Z
LAST-MODIFIED:20260225T180316Z
UID:10002991-1802347200-1802357100@jccns.org
SUMMARY:Open Play Canasta at the J!
DESCRIPTION:NEW DAY-Thursdays! \nJoin us for weekly Canasta games! Please bring your own playing cards and card holder. \nMembers: Free\nCommunity $5 to be paid at The Welcome Center. \nPlease RSVP to Sara Ewing at sewing@jccns.com.
URL:https://jccns.org/event/open-play-canasta-at-the-j-2/2027-02-11/
LOCATION:JCCNS\, 4 Community Rd.\, Marblehead\, MA\, 01945
ATTACH;FMTTYPE=image/png:https://jccns.org/wp-content/uploads/2025/12/Canasta-Open-Play-2025-Eblast-img.png
ORGANIZER;CN="Lauren Weiss":MAILTO:lweiss@jccns.com
END:VEVENT
BEGIN:VEVENT
DTSTART;TZID=America/New_York:20270218T120000
DTEND;TZID=America/New_York:20270218T144500
DTSTAMP:20260421T173122
CREATED:20260225T175139Z
LAST-MODIFIED:20260225T180316Z
UID:10002992-1802952000-1802961900@jccns.org
SUMMARY:Open Play Canasta at the J!
DESCRIPTION:NEW DAY-Thursdays! \nJoin us for weekly Canasta games! Please bring your own playing cards and card holder. \nMembers: Free\nCommunity $5 to be paid at The Welcome Center. \nPlease RSVP to Sara Ewing at sewing@jccns.com.
URL:https://jccns.org/event/open-play-canasta-at-the-j-2/2027-02-18/
LOCATION:JCCNS\, 4 Community Rd.\, Marblehead\, MA\, 01945
ATTACH;FMTTYPE=image/png:https://jccns.org/wp-content/uploads/2025/12/Canasta-Open-Play-2025-Eblast-img.png
ORGANIZER;CN="Lauren Weiss":MAILTO:lweiss@jccns.com
END:VEVENT
BEGIN:VEVENT
DTSTART;TZID=America/New_York:20270225T120000
DTEND;TZID=America/New_York:20270225T144500
DTSTAMP:20260421T173122
CREATED:20260225T175139Z
LAST-MODIFIED:20260225T180316Z
UID:10002993-1803556800-1803566700@jccns.org
SUMMARY:Open Play Canasta at the J!
DESCRIPTION:NEW DAY-Thursdays! \nJoin us for weekly Canasta games! Please bring your own playing cards and card holder. \nMembers: Free\nCommunity $5 to be paid at The Welcome Center. \nPlease RSVP to Sara Ewing at sewing@jccns.com.
URL:https://jccns.org/event/open-play-canasta-at-the-j-2/2027-02-25/
LOCATION:JCCNS\, 4 Community Rd.\, Marblehead\, MA\, 01945
ATTACH;FMTTYPE=image/png:https://jccns.org/wp-content/uploads/2025/12/Canasta-Open-Play-2025-Eblast-img.png
ORGANIZER;CN="Lauren Weiss":MAILTO:lweiss@jccns.com
END:VEVENT
BEGIN:VEVENT
DTSTART;TZID=America/New_York:20270304T120000
DTEND;TZID=America/New_York:20270304T144500
DTSTAMP:20260421T173122
CREATED:20260225T175139Z
LAST-MODIFIED:20260225T180316Z
UID:10002994-1804161600-1804171500@jccns.org
SUMMARY:Open Play Canasta at the J!
DESCRIPTION:NEW DAY-Thursdays! \nJoin us for weekly Canasta games! Please bring your own playing cards and card holder. \nMembers: Free\nCommunity $5 to be paid at The Welcome Center. \nPlease RSVP to Sara Ewing at sewing@jccns.com.
URL:https://jccns.org/event/open-play-canasta-at-the-j-2/2027-03-04/
LOCATION:JCCNS\, 4 Community Rd.\, Marblehead\, MA\, 01945
ATTACH;FMTTYPE=image/png:https://jccns.org/wp-content/uploads/2025/12/Canasta-Open-Play-2025-Eblast-img.png
ORGANIZER;CN="Lauren Weiss":MAILTO:lweiss@jccns.com
END:VEVENT
BEGIN:VEVENT
DTSTART;TZID=America/New_York:20270311T120000
DTEND;TZID=America/New_York:20270311T144500
DTSTAMP:20260421T173122
CREATED:20260225T175139Z
LAST-MODIFIED:20260225T180316Z
UID:10002995-1804766400-1804776300@jccns.org
SUMMARY:Open Play Canasta at the J!
DESCRIPTION:NEW DAY-Thursdays! \nJoin us for weekly Canasta games! Please bring your own playing cards and card holder. \nMembers: Free\nCommunity $5 to be paid at The Welcome Center. \nPlease RSVP to Sara Ewing at sewing@jccns.com.
URL:https://jccns.org/event/open-play-canasta-at-the-j-2/2027-03-11/
LOCATION:JCCNS\, 4 Community Rd.\, Marblehead\, MA\, 01945
ATTACH;FMTTYPE=image/png:https://jccns.org/wp-content/uploads/2025/12/Canasta-Open-Play-2025-Eblast-img.png
ORGANIZER;CN="Lauren Weiss":MAILTO:lweiss@jccns.com
END:VEVENT
BEGIN:VEVENT
DTSTART;TZID=America/New_York:20270318T120000
DTEND;TZID=America/New_York:20270318T144500
DTSTAMP:20260421T173122
CREATED:20260225T175139Z
LAST-MODIFIED:20260225T180316Z
UID:10002996-1805371200-1805381100@jccns.org
SUMMARY:Open Play Canasta at the J!
DESCRIPTION:NEW DAY-Thursdays! \nJoin us for weekly Canasta games! Please bring your own playing cards and card holder. \nMembers: Free\nCommunity $5 to be paid at The Welcome Center. \nPlease RSVP to Sara Ewing at sewing@jccns.com.
URL:https://jccns.org/event/open-play-canasta-at-the-j-2/2027-03-18/
LOCATION:JCCNS\, 4 Community Rd.\, Marblehead\, MA\, 01945
ATTACH;FMTTYPE=image/png:https://jccns.org/wp-content/uploads/2025/12/Canasta-Open-Play-2025-Eblast-img.png
ORGANIZER;CN="Lauren Weiss":MAILTO:lweiss@jccns.com
END:VEVENT
BEGIN:VEVENT
DTSTART;TZID=America/New_York:20270325T120000
DTEND;TZID=America/New_York:20270325T144500
DTSTAMP:20260421T173122
CREATED:20260225T175139Z
LAST-MODIFIED:20260225T180316Z
UID:10002997-1805976000-1805985900@jccns.org
SUMMARY:Open Play Canasta at the J!
DESCRIPTION:NEW DAY-Thursdays! \nJoin us for weekly Canasta games! Please bring your own playing cards and card holder. \nMembers: Free\nCommunity $5 to be paid at The Welcome Center. \nPlease RSVP to Sara Ewing at sewing@jccns.com.
URL:https://jccns.org/event/open-play-canasta-at-the-j-2/2027-03-25/
LOCATION:JCCNS\, 4 Community Rd.\, Marblehead\, MA\, 01945
ATTACH;FMTTYPE=image/png:https://jccns.org/wp-content/uploads/2025/12/Canasta-Open-Play-2025-Eblast-img.png
ORGANIZER;CN="Lauren Weiss":MAILTO:lweiss@jccns.com
END:VEVENT
BEGIN:VEVENT
DTSTART;TZID=America/New_York:20270401T120000
DTEND;TZID=America/New_York:20270401T144500
DTSTAMP:20260421T173122
CREATED:20260225T175139Z
LAST-MODIFIED:20260225T180316Z
UID:10002998-1806580800-1806590700@jccns.org
SUMMARY:Open Play Canasta at the J!
DESCRIPTION:NEW DAY-Thursdays! \nJoin us for weekly Canasta games! Please bring your own playing cards and card holder. \nMembers: Free\nCommunity $5 to be paid at The Welcome Center. \nPlease RSVP to Sara Ewing at sewing@jccns.com.
URL:https://jccns.org/event/open-play-canasta-at-the-j-2/2027-04-01/
LOCATION:JCCNS\, 4 Community Rd.\, Marblehead\, MA\, 01945
ATTACH;FMTTYPE=image/png:https://jccns.org/wp-content/uploads/2025/12/Canasta-Open-Play-2025-Eblast-img.png
ORGANIZER;CN="Lauren Weiss":MAILTO:lweiss@jccns.com
END:VEVENT
BEGIN:VEVENT
DTSTART;TZID=America/New_York:20270408T120000
DTEND;TZID=America/New_York:20270408T144500
DTSTAMP:20260421T173122
CREATED:20260225T175139Z
LAST-MODIFIED:20260225T180316Z
UID:10002999-1807185600-1807195500@jccns.org
SUMMARY:Open Play Canasta at the J!
DESCRIPTION:NEW DAY-Thursdays! \nJoin us for weekly Canasta games! Please bring your own playing cards and card holder. \nMembers: Free\nCommunity $5 to be paid at The Welcome Center. \nPlease RSVP to Sara Ewing at sewing@jccns.com.
URL:https://jccns.org/event/open-play-canasta-at-the-j-2/2027-04-08/
LOCATION:JCCNS\, 4 Community Rd.\, Marblehead\, MA\, 01945
ATTACH;FMTTYPE=image/png:https://jccns.org/wp-content/uploads/2025/12/Canasta-Open-Play-2025-Eblast-img.png
ORGANIZER;CN="Lauren Weiss":MAILTO:lweiss@jccns.com
END:VEVENT
END:VCALENDAR