BEGIN:VCALENDAR
VERSION:2.0
PRODID:-//JCCNS, Jewish Community Center of the North Shore - ECPv6.15.20//NONSGML v1.0//EN
CALSCALE:GREGORIAN
METHOD:PUBLISH
X-WR-CALNAME:JCCNS, Jewish Community Center of the North Shore
X-ORIGINAL-URL:https://jccns.org
X-WR-CALDESC:Events for JCCNS, Jewish Community Center of the North Shore
REFRESH-INTERVAL;VALUE=DURATION:PT1H
X-Robots-Tag:noindex
X-PUBLISHED-TTL:PT1H
BEGIN:VTIMEZONE
TZID:America/New_York
BEGIN:DAYLIGHT
TZOFFSETFROM:-0500
TZOFFSETTO:-0400
TZNAME:EDT
DTSTART:20250309T070000
END:DAYLIGHT
BEGIN:STANDARD
TZOFFSETFROM:-0400
TZOFFSETTO:-0500
TZNAME:EST
DTSTART:20251102T060000
END:STANDARD
BEGIN:DAYLIGHT
TZOFFSETFROM:-0500
TZOFFSETTO:-0400
TZNAME:EDT
DTSTART:20260308T070000
END:DAYLIGHT
BEGIN:STANDARD
TZOFFSETFROM:-0400
TZOFFSETTO:-0500
TZNAME:EST
DTSTART:20261101T060000
END:STANDARD
BEGIN:DAYLIGHT
TZOFFSETFROM:-0500
TZOFFSETTO:-0400
TZNAME:EDT
DTSTART:20270314T070000
END:DAYLIGHT
BEGIN:STANDARD
TZOFFSETFROM:-0400
TZOFFSETTO:-0500
TZNAME:EST
DTSTART:20271107T060000
END:STANDARD
BEGIN:DAYLIGHT
TZOFFSETFROM:-0500
TZOFFSETTO:-0400
TZNAME:EDT
DTSTART:20280312T070000
END:DAYLIGHT
BEGIN:STANDARD
TZOFFSETFROM:-0400
TZOFFSETTO:-0500
TZNAME:EST
DTSTART:20281105T060000
END:STANDARD
BEGIN:DAYLIGHT
TZOFFSETFROM:-0500
TZOFFSETTO:-0400
TZNAME:EDT
DTSTART:20290311T070000
END:DAYLIGHT
BEGIN:STANDARD
TZOFFSETFROM:-0400
TZOFFSETTO:-0500
TZNAME:EST
DTSTART:20291104T060000
END:STANDARD
END:VTIMEZONE
BEGIN:VEVENT
DTSTART;TZID=America/New_York:20260506T110000
DTEND;TZID=America/New_York:20260506T123000
DTSTAMP:20260420T105920
CREATED:20251119T193841Z
LAST-MODIFIED:20260409T153603Z
UID:10000522-1778065200-1778070600@jccns.org
SUMMARY:Senior Jazz and Lunch Hour
DESCRIPTION:All seniors are welcome to enjoy a live performance by the Insight Band and share a delicious\, complimentary lunch at the JCCNS. \nSpace is limited. \nPlease RSVP to Lauren Weiss at lweiss@jccns.com or (857)285-7959 by the Friday before the concert and indicate your lunch choice of tuna or egg salad.
URL:https://jccns.org/event/senior-jazz-and-lunch-hour-6-10/2026-05-06/
LOCATION:JCCNS\, 4 Community Rd.\, Marblehead\, MA\, 01945
ATTACH;FMTTYPE=image/png:https://jccns.org/wp-content/uploads/2024/12/Senior-Jazz-Hour-and-Lunch-square.png
ORGANIZER;CN="Sara Ewing":MAILTO:sewing@jccns.com
END:VEVENT
BEGIN:VEVENT
DTSTART;TZID=America/New_York:20260511T130000
DTEND;TZID=America/New_York:20260511T140000
DTSTAMP:20260420T105920
CREATED:20260211T153554Z
LAST-MODIFIED:20260211T153554Z
UID:10002413-1778504400-1778508000@jccns.org
SUMMARY:JCCNS Women's Book Club
DESCRIPTION:We will be discussing Paper Girl by Beth Macy \nBook club will be meeting on Zoom only.  Please email Sara Ewing at sewing@jccns.com for Zoom link
URL:https://jccns.org/event/jccns-womens-book-club-26/
LOCATION:Zoom
ATTACH;FMTTYPE=image/png:https://jccns.org/wp-content/uploads/2024/10/Womens-Book-Club-on-Zoom-square.png
ORGANIZER;CN="Sara Ewing":MAILTO:sewing@jccns.com
END:VEVENT
BEGIN:VEVENT
DTSTART;TZID=America/New_York:20260603T110000
DTEND;TZID=America/New_York:20260603T123000
DTSTAMP:20260420T105920
CREATED:20251119T193841Z
LAST-MODIFIED:20260409T153603Z
UID:10000523-1780484400-1780489800@jccns.org
SUMMARY:Senior Jazz and Lunch Hour
DESCRIPTION:All seniors are welcome to enjoy a live performance by the Insight Band and share a delicious\, complimentary lunch at the JCCNS. \nSpace is limited. \nPlease RSVP to Lauren Weiss at lweiss@jccns.com or (857)285-7959 by the Friday before the concert and indicate your lunch choice of tuna or egg salad.
URL:https://jccns.org/event/senior-jazz-and-lunch-hour-6-10/2026-06-03/
LOCATION:JCCNS\, 4 Community Rd.\, Marblehead\, MA\, 01945
ATTACH;FMTTYPE=image/png:https://jccns.org/wp-content/uploads/2024/12/Senior-Jazz-Hour-and-Lunch-square.png
ORGANIZER;CN="Sara Ewing":MAILTO:sewing@jccns.com
END:VEVENT
BEGIN:VEVENT
DTSTART;TZID=America/New_York:20260608T130000
DTEND;TZID=America/New_York:20260608T140000
DTSTAMP:20260420T105920
CREATED:20260415T180805Z
LAST-MODIFIED:20260415T180805Z
UID:10003267-1780923600-1780927200@jccns.org
SUMMARY:JCCNS Women's Book Club
DESCRIPTION:We will be discussing The Silent Patient by Alex Michaelides \nBook club will be meeting on Zoom only.  Please email Sara Ewing at sewing@jccns.com for Zoom link
URL:https://jccns.org/event/jccns-womens-book-club-27/
LOCATION:Zoom
ATTACH;FMTTYPE=image/png:https://jccns.org/wp-content/uploads/2024/10/Womens-Book-Club-on-Zoom-square.png
ORGANIZER;CN="Sara Ewing":MAILTO:sewing@jccns.com
END:VEVENT
BEGIN:VEVENT
DTSTART;TZID=America/New_York:20260701T110000
DTEND;TZID=America/New_York:20260701T123000
DTSTAMP:20260420T105920
CREATED:20251119T193841Z
LAST-MODIFIED:20260409T153603Z
UID:10000524-1782903600-1782909000@jccns.org
SUMMARY:Senior Jazz and Lunch Hour
DESCRIPTION:All seniors are welcome to enjoy a live performance by the Insight Band and share a delicious\, complimentary lunch at the JCCNS. \nSpace is limited. \nPlease RSVP to Lauren Weiss at lweiss@jccns.com or (857)285-7959 by the Friday before the concert and indicate your lunch choice of tuna or egg salad.
URL:https://jccns.org/event/senior-jazz-and-lunch-hour-6-10/2026-07-01/
LOCATION:JCCNS\, 4 Community Rd.\, Marblehead\, MA\, 01945
ATTACH;FMTTYPE=image/png:https://jccns.org/wp-content/uploads/2024/12/Senior-Jazz-Hour-and-Lunch-square.png
ORGANIZER;CN="Sara Ewing":MAILTO:sewing@jccns.com
END:VEVENT
BEGIN:VEVENT
DTSTART;TZID=America/New_York:20260805T110000
DTEND;TZID=America/New_York:20260805T123000
DTSTAMP:20260420T105920
CREATED:20251119T193841Z
LAST-MODIFIED:20260409T153603Z
UID:10000525-1785927600-1785933000@jccns.org
SUMMARY:Senior Jazz and Lunch Hour
DESCRIPTION:All seniors are welcome to enjoy a live performance by the Insight Band and share a delicious\, complimentary lunch at the JCCNS. \nSpace is limited. \nPlease RSVP to Lauren Weiss at lweiss@jccns.com or (857)285-7959 by the Friday before the concert and indicate your lunch choice of tuna or egg salad.
URL:https://jccns.org/event/senior-jazz-and-lunch-hour-6-10/2026-08-05/
LOCATION:JCCNS\, 4 Community Rd.\, Marblehead\, MA\, 01945
ATTACH;FMTTYPE=image/png:https://jccns.org/wp-content/uploads/2024/12/Senior-Jazz-Hour-and-Lunch-square.png
ORGANIZER;CN="Sara Ewing":MAILTO:sewing@jccns.com
END:VEVENT
BEGIN:VEVENT
DTSTART;TZID=America/New_York:20260902T110000
DTEND;TZID=America/New_York:20260902T123000
DTSTAMP:20260420T105920
CREATED:20251119T193841Z
LAST-MODIFIED:20260409T153603Z
UID:10000526-1788346800-1788352200@jccns.org
SUMMARY:Senior Jazz and Lunch Hour
DESCRIPTION:All seniors are welcome to enjoy a live performance by the Insight Band and share a delicious\, complimentary lunch at the JCCNS. \nSpace is limited. \nPlease RSVP to Lauren Weiss at lweiss@jccns.com or (857)285-7959 by the Friday before the concert and indicate your lunch choice of tuna or egg salad.
URL:https://jccns.org/event/senior-jazz-and-lunch-hour-6-10/2026-09-02/
LOCATION:JCCNS\, 4 Community Rd.\, Marblehead\, MA\, 01945
ATTACH;FMTTYPE=image/png:https://jccns.org/wp-content/uploads/2024/12/Senior-Jazz-Hour-and-Lunch-square.png
ORGANIZER;CN="Sara Ewing":MAILTO:sewing@jccns.com
END:VEVENT
BEGIN:VEVENT
DTSTART;TZID=America/New_York:20261007T110000
DTEND;TZID=America/New_York:20261007T123000
DTSTAMP:20260420T105920
CREATED:20251119T193841Z
LAST-MODIFIED:20260409T153603Z
UID:10000527-1791370800-1791376200@jccns.org
SUMMARY:Senior Jazz and Lunch Hour
DESCRIPTION:All seniors are welcome to enjoy a live performance by the Insight Band and share a delicious\, complimentary lunch at the JCCNS. \nSpace is limited. \nPlease RSVP to Lauren Weiss at lweiss@jccns.com or (857)285-7959 by the Friday before the concert and indicate your lunch choice of tuna or egg salad.
URL:https://jccns.org/event/senior-jazz-and-lunch-hour-6-10/2026-10-07/
LOCATION:JCCNS\, 4 Community Rd.\, Marblehead\, MA\, 01945
ATTACH;FMTTYPE=image/png:https://jccns.org/wp-content/uploads/2024/12/Senior-Jazz-Hour-and-Lunch-square.png
ORGANIZER;CN="Sara Ewing":MAILTO:sewing@jccns.com
END:VEVENT
BEGIN:VEVENT
DTSTART;TZID=America/New_York:20261104T110000
DTEND;TZID=America/New_York:20261104T123000
DTSTAMP:20260420T105920
CREATED:20251119T193841Z
LAST-MODIFIED:20260409T153603Z
UID:10000528-1793790000-1793795400@jccns.org
SUMMARY:Senior Jazz and Lunch Hour
DESCRIPTION:All seniors are welcome to enjoy a live performance by the Insight Band and share a delicious\, complimentary lunch at the JCCNS. \nSpace is limited. \nPlease RSVP to Lauren Weiss at lweiss@jccns.com or (857)285-7959 by the Friday before the concert and indicate your lunch choice of tuna or egg salad.
URL:https://jccns.org/event/senior-jazz-and-lunch-hour-6-10/2026-11-04/
LOCATION:JCCNS\, 4 Community Rd.\, Marblehead\, MA\, 01945
ATTACH;FMTTYPE=image/png:https://jccns.org/wp-content/uploads/2024/12/Senior-Jazz-Hour-and-Lunch-square.png
ORGANIZER;CN="Sara Ewing":MAILTO:sewing@jccns.com
END:VEVENT
BEGIN:VEVENT
DTSTART;TZID=America/New_York:20261202T110000
DTEND;TZID=America/New_York:20261202T123000
DTSTAMP:20260420T105920
CREATED:20251119T193841Z
LAST-MODIFIED:20260409T153603Z
UID:10000529-1796209200-1796214600@jccns.org
SUMMARY:Senior Jazz and Lunch Hour
DESCRIPTION:All seniors are welcome to enjoy a live performance by the Insight Band and share a delicious\, complimentary lunch at the JCCNS. \nSpace is limited. \nPlease RSVP to Lauren Weiss at lweiss@jccns.com or (857)285-7959 by the Friday before the concert and indicate your lunch choice of tuna or egg salad.
URL:https://jccns.org/event/senior-jazz-and-lunch-hour-6-10/2026-12-02/
LOCATION:JCCNS\, 4 Community Rd.\, Marblehead\, MA\, 01945
ATTACH;FMTTYPE=image/png:https://jccns.org/wp-content/uploads/2024/12/Senior-Jazz-Hour-and-Lunch-square.png
ORGANIZER;CN="Sara Ewing":MAILTO:sewing@jccns.com
END:VEVENT
BEGIN:VEVENT
DTSTART;TZID=America/New_York:20270106T110000
DTEND;TZID=America/New_York:20270106T123000
DTSTAMP:20260420T105920
CREATED:20251119T193841Z
LAST-MODIFIED:20260409T153603Z
UID:10000530-1799233200-1799238600@jccns.org
SUMMARY:Senior Jazz and Lunch Hour
DESCRIPTION:All seniors are welcome to enjoy a live performance by the Insight Band and share a delicious\, complimentary lunch at the JCCNS. \nSpace is limited. \nPlease RSVP to Lauren Weiss at lweiss@jccns.com or (857)285-7959 by the Friday before the concert and indicate your lunch choice of tuna or egg salad.
URL:https://jccns.org/event/senior-jazz-and-lunch-hour-6-10/2027-01-06/
LOCATION:JCCNS\, 4 Community Rd.\, Marblehead\, MA\, 01945
ATTACH;FMTTYPE=image/png:https://jccns.org/wp-content/uploads/2024/12/Senior-Jazz-Hour-and-Lunch-square.png
ORGANIZER;CN="Sara Ewing":MAILTO:sewing@jccns.com
END:VEVENT
BEGIN:VEVENT
DTSTART;TZID=America/New_York:20270203T110000
DTEND;TZID=America/New_York:20270203T123000
DTSTAMP:20260420T105920
CREATED:20251119T193841Z
LAST-MODIFIED:20260409T153603Z
UID:10000531-1801652400-1801657800@jccns.org
SUMMARY:Senior Jazz and Lunch Hour
DESCRIPTION:All seniors are welcome to enjoy a live performance by the Insight Band and share a delicious\, complimentary lunch at the JCCNS. \nSpace is limited. \nPlease RSVP to Lauren Weiss at lweiss@jccns.com or (857)285-7959 by the Friday before the concert and indicate your lunch choice of tuna or egg salad.
URL:https://jccns.org/event/senior-jazz-and-lunch-hour-6-10/2027-02-03/
LOCATION:JCCNS\, 4 Community Rd.\, Marblehead\, MA\, 01945
ATTACH;FMTTYPE=image/png:https://jccns.org/wp-content/uploads/2024/12/Senior-Jazz-Hour-and-Lunch-square.png
ORGANIZER;CN="Sara Ewing":MAILTO:sewing@jccns.com
END:VEVENT
BEGIN:VEVENT
DTSTART;TZID=America/New_York:20270303T110000
DTEND;TZID=America/New_York:20270303T123000
DTSTAMP:20260420T105920
CREATED:20251119T193841Z
LAST-MODIFIED:20260409T153603Z
UID:10000532-1804071600-1804077000@jccns.org
SUMMARY:Senior Jazz and Lunch Hour
DESCRIPTION:All seniors are welcome to enjoy a live performance by the Insight Band and share a delicious\, complimentary lunch at the JCCNS. \nSpace is limited. \nPlease RSVP to Lauren Weiss at lweiss@jccns.com or (857)285-7959 by the Friday before the concert and indicate your lunch choice of tuna or egg salad.
URL:https://jccns.org/event/senior-jazz-and-lunch-hour-6-10/2027-03-03/
LOCATION:JCCNS\, 4 Community Rd.\, Marblehead\, MA\, 01945
ATTACH;FMTTYPE=image/png:https://jccns.org/wp-content/uploads/2024/12/Senior-Jazz-Hour-and-Lunch-square.png
ORGANIZER;CN="Sara Ewing":MAILTO:sewing@jccns.com
END:VEVENT
BEGIN:VEVENT
DTSTART;TZID=America/New_York:20270407T110000
DTEND;TZID=America/New_York:20270407T123000
DTSTAMP:20260420T105920
CREATED:20251119T193841Z
LAST-MODIFIED:20260409T153603Z
UID:10000533-1807095600-1807101000@jccns.org
SUMMARY:Senior Jazz and Lunch Hour
DESCRIPTION:All seniors are welcome to enjoy a live performance by the Insight Band and share a delicious\, complimentary lunch at the JCCNS. \nSpace is limited. \nPlease RSVP to Lauren Weiss at lweiss@jccns.com or (857)285-7959 by the Friday before the concert and indicate your lunch choice of tuna or egg salad.
URL:https://jccns.org/event/senior-jazz-and-lunch-hour-6-10/2027-04-07/
LOCATION:JCCNS\, 4 Community Rd.\, Marblehead\, MA\, 01945
ATTACH;FMTTYPE=image/png:https://jccns.org/wp-content/uploads/2024/12/Senior-Jazz-Hour-and-Lunch-square.png
ORGANIZER;CN="Sara Ewing":MAILTO:sewing@jccns.com
END:VEVENT
BEGIN:VEVENT
DTSTART;TZID=America/New_York:20270505T110000
DTEND;TZID=America/New_York:20270505T123000
DTSTAMP:20260420T105920
CREATED:20251119T193841Z
LAST-MODIFIED:20260409T153603Z
UID:10000534-1809514800-1809520200@jccns.org
SUMMARY:Senior Jazz and Lunch Hour
DESCRIPTION:All seniors are welcome to enjoy a live performance by the Insight Band and share a delicious\, complimentary lunch at the JCCNS. \nSpace is limited. \nPlease RSVP to Lauren Weiss at lweiss@jccns.com or (857)285-7959 by the Friday before the concert and indicate your lunch choice of tuna or egg salad.
URL:https://jccns.org/event/senior-jazz-and-lunch-hour-6-10/2027-05-05/
LOCATION:JCCNS\, 4 Community Rd.\, Marblehead\, MA\, 01945
ATTACH;FMTTYPE=image/png:https://jccns.org/wp-content/uploads/2024/12/Senior-Jazz-Hour-and-Lunch-square.png
ORGANIZER;CN="Sara Ewing":MAILTO:sewing@jccns.com
END:VEVENT
BEGIN:VEVENT
DTSTART;TZID=America/New_York:20270602T110000
DTEND;TZID=America/New_York:20270602T123000
DTSTAMP:20260420T105920
CREATED:20251119T193841Z
LAST-MODIFIED:20260409T153603Z
UID:10000535-1811934000-1811939400@jccns.org
SUMMARY:Senior Jazz and Lunch Hour
DESCRIPTION:All seniors are welcome to enjoy a live performance by the Insight Band and share a delicious\, complimentary lunch at the JCCNS. \nSpace is limited. \nPlease RSVP to Lauren Weiss at lweiss@jccns.com or (857)285-7959 by the Friday before the concert and indicate your lunch choice of tuna or egg salad.
URL:https://jccns.org/event/senior-jazz-and-lunch-hour-6-10/2027-06-02/
LOCATION:JCCNS\, 4 Community Rd.\, Marblehead\, MA\, 01945
ATTACH;FMTTYPE=image/png:https://jccns.org/wp-content/uploads/2024/12/Senior-Jazz-Hour-and-Lunch-square.png
ORGANIZER;CN="Sara Ewing":MAILTO:sewing@jccns.com
END:VEVENT
BEGIN:VEVENT
DTSTART;TZID=America/New_York:20270707T110000
DTEND;TZID=America/New_York:20270707T123000
DTSTAMP:20260420T105920
CREATED:20251119T193841Z
LAST-MODIFIED:20260409T153603Z
UID:10000536-1814958000-1814963400@jccns.org
SUMMARY:Senior Jazz and Lunch Hour
DESCRIPTION:All seniors are welcome to enjoy a live performance by the Insight Band and share a delicious\, complimentary lunch at the JCCNS. \nSpace is limited. \nPlease RSVP to Lauren Weiss at lweiss@jccns.com or (857)285-7959 by the Friday before the concert and indicate your lunch choice of tuna or egg salad.
URL:https://jccns.org/event/senior-jazz-and-lunch-hour-6-10/2027-07-07/
LOCATION:JCCNS\, 4 Community Rd.\, Marblehead\, MA\, 01945
ATTACH;FMTTYPE=image/png:https://jccns.org/wp-content/uploads/2024/12/Senior-Jazz-Hour-and-Lunch-square.png
ORGANIZER;CN="Sara Ewing":MAILTO:sewing@jccns.com
END:VEVENT
BEGIN:VEVENT
DTSTART;TZID=America/New_York:20270804T110000
DTEND;TZID=America/New_York:20270804T123000
DTSTAMP:20260420T105920
CREATED:20251119T193841Z
LAST-MODIFIED:20260409T153603Z
UID:10000537-1817377200-1817382600@jccns.org
SUMMARY:Senior Jazz and Lunch Hour
DESCRIPTION:All seniors are welcome to enjoy a live performance by the Insight Band and share a delicious\, complimentary lunch at the JCCNS. \nSpace is limited. \nPlease RSVP to Lauren Weiss at lweiss@jccns.com or (857)285-7959 by the Friday before the concert and indicate your lunch choice of tuna or egg salad.
URL:https://jccns.org/event/senior-jazz-and-lunch-hour-6-10/2027-08-04/
LOCATION:JCCNS\, 4 Community Rd.\, Marblehead\, MA\, 01945
ATTACH;FMTTYPE=image/png:https://jccns.org/wp-content/uploads/2024/12/Senior-Jazz-Hour-and-Lunch-square.png
ORGANIZER;CN="Sara Ewing":MAILTO:sewing@jccns.com
END:VEVENT
BEGIN:VEVENT
DTSTART;TZID=America/New_York:20270901T110000
DTEND;TZID=America/New_York:20270901T123000
DTSTAMP:20260420T105920
CREATED:20251119T193841Z
LAST-MODIFIED:20260409T153603Z
UID:10000538-1819796400-1819801800@jccns.org
SUMMARY:Senior Jazz and Lunch Hour
DESCRIPTION:All seniors are welcome to enjoy a live performance by the Insight Band and share a delicious\, complimentary lunch at the JCCNS. \nSpace is limited. \nPlease RSVP to Lauren Weiss at lweiss@jccns.com or (857)285-7959 by the Friday before the concert and indicate your lunch choice of tuna or egg salad.
URL:https://jccns.org/event/senior-jazz-and-lunch-hour-6-10/2027-09-01/
LOCATION:JCCNS\, 4 Community Rd.\, Marblehead\, MA\, 01945
ATTACH;FMTTYPE=image/png:https://jccns.org/wp-content/uploads/2024/12/Senior-Jazz-Hour-and-Lunch-square.png
ORGANIZER;CN="Sara Ewing":MAILTO:sewing@jccns.com
END:VEVENT
BEGIN:VEVENT
DTSTART;TZID=America/New_York:20271006T110000
DTEND;TZID=America/New_York:20271006T123000
DTSTAMP:20260420T105920
CREATED:20251119T193841Z
LAST-MODIFIED:20260409T153603Z
UID:10000539-1822820400-1822825800@jccns.org
SUMMARY:Senior Jazz and Lunch Hour
DESCRIPTION:All seniors are welcome to enjoy a live performance by the Insight Band and share a delicious\, complimentary lunch at the JCCNS. \nSpace is limited. \nPlease RSVP to Lauren Weiss at lweiss@jccns.com or (857)285-7959 by the Friday before the concert and indicate your lunch choice of tuna or egg salad.
URL:https://jccns.org/event/senior-jazz-and-lunch-hour-6-10/2027-10-06/
LOCATION:JCCNS\, 4 Community Rd.\, Marblehead\, MA\, 01945
ATTACH;FMTTYPE=image/png:https://jccns.org/wp-content/uploads/2024/12/Senior-Jazz-Hour-and-Lunch-square.png
ORGANIZER;CN="Sara Ewing":MAILTO:sewing@jccns.com
END:VEVENT
BEGIN:VEVENT
DTSTART;TZID=America/New_York:20271103T110000
DTEND;TZID=America/New_York:20271103T123000
DTSTAMP:20260420T105920
CREATED:20251119T193841Z
LAST-MODIFIED:20260409T153603Z
UID:10000540-1825239600-1825245000@jccns.org
SUMMARY:Senior Jazz and Lunch Hour
DESCRIPTION:All seniors are welcome to enjoy a live performance by the Insight Band and share a delicious\, complimentary lunch at the JCCNS. \nSpace is limited. \nPlease RSVP to Lauren Weiss at lweiss@jccns.com or (857)285-7959 by the Friday before the concert and indicate your lunch choice of tuna or egg salad.
URL:https://jccns.org/event/senior-jazz-and-lunch-hour-6-10/2027-11-03/
LOCATION:JCCNS\, 4 Community Rd.\, Marblehead\, MA\, 01945
ATTACH;FMTTYPE=image/png:https://jccns.org/wp-content/uploads/2024/12/Senior-Jazz-Hour-and-Lunch-square.png
ORGANIZER;CN="Sara Ewing":MAILTO:sewing@jccns.com
END:VEVENT
BEGIN:VEVENT
DTSTART;TZID=America/New_York:20271201T110000
DTEND;TZID=America/New_York:20271201T123000
DTSTAMP:20260420T105920
CREATED:20251119T193841Z
LAST-MODIFIED:20260409T153603Z
UID:10000541-1827658800-1827664200@jccns.org
SUMMARY:Senior Jazz and Lunch Hour
DESCRIPTION:All seniors are welcome to enjoy a live performance by the Insight Band and share a delicious\, complimentary lunch at the JCCNS. \nSpace is limited. \nPlease RSVP to Lauren Weiss at lweiss@jccns.com or (857)285-7959 by the Friday before the concert and indicate your lunch choice of tuna or egg salad.
URL:https://jccns.org/event/senior-jazz-and-lunch-hour-6-10/2027-12-01/
LOCATION:JCCNS\, 4 Community Rd.\, Marblehead\, MA\, 01945
ATTACH;FMTTYPE=image/png:https://jccns.org/wp-content/uploads/2024/12/Senior-Jazz-Hour-and-Lunch-square.png
ORGANIZER;CN="Sara Ewing":MAILTO:sewing@jccns.com
END:VEVENT
BEGIN:VEVENT
DTSTART;TZID=America/New_York:20280105T110000
DTEND;TZID=America/New_York:20280105T123000
DTSTAMP:20260420T105920
CREATED:20251119T193841Z
LAST-MODIFIED:20260409T153603Z
UID:10000542-1830682800-1830688200@jccns.org
SUMMARY:Senior Jazz and Lunch Hour
DESCRIPTION:All seniors are welcome to enjoy a live performance by the Insight Band and share a delicious\, complimentary lunch at the JCCNS. \nSpace is limited. \nPlease RSVP to Lauren Weiss at lweiss@jccns.com or (857)285-7959 by the Friday before the concert and indicate your lunch choice of tuna or egg salad.
URL:https://jccns.org/event/senior-jazz-and-lunch-hour-6-10/2028-01-05/
LOCATION:JCCNS\, 4 Community Rd.\, Marblehead\, MA\, 01945
ATTACH;FMTTYPE=image/png:https://jccns.org/wp-content/uploads/2024/12/Senior-Jazz-Hour-and-Lunch-square.png
ORGANIZER;CN="Sara Ewing":MAILTO:sewing@jccns.com
END:VEVENT
BEGIN:VEVENT
DTSTART;TZID=America/New_York:20280202T110000
DTEND;TZID=America/New_York:20280202T123000
DTSTAMP:20260420T105920
CREATED:20251119T193841Z
LAST-MODIFIED:20260409T153603Z
UID:10000543-1833102000-1833107400@jccns.org
SUMMARY:Senior Jazz and Lunch Hour
DESCRIPTION:All seniors are welcome to enjoy a live performance by the Insight Band and share a delicious\, complimentary lunch at the JCCNS. \nSpace is limited. \nPlease RSVP to Lauren Weiss at lweiss@jccns.com or (857)285-7959 by the Friday before the concert and indicate your lunch choice of tuna or egg salad.
URL:https://jccns.org/event/senior-jazz-and-lunch-hour-6-10/2028-02-02/
LOCATION:JCCNS\, 4 Community Rd.\, Marblehead\, MA\, 01945
ATTACH;FMTTYPE=image/png:https://jccns.org/wp-content/uploads/2024/12/Senior-Jazz-Hour-and-Lunch-square.png
ORGANIZER;CN="Sara Ewing":MAILTO:sewing@jccns.com
END:VEVENT
BEGIN:VEVENT
DTSTART;TZID=America/New_York:20280301T110000
DTEND;TZID=America/New_York:20280301T123000
DTSTAMP:20260420T105920
CREATED:20251119T193841Z
LAST-MODIFIED:20260409T153603Z
UID:10000544-1835521200-1835526600@jccns.org
SUMMARY:Senior Jazz and Lunch Hour
DESCRIPTION:All seniors are welcome to enjoy a live performance by the Insight Band and share a delicious\, complimentary lunch at the JCCNS. \nSpace is limited. \nPlease RSVP to Lauren Weiss at lweiss@jccns.com or (857)285-7959 by the Friday before the concert and indicate your lunch choice of tuna or egg salad.
URL:https://jccns.org/event/senior-jazz-and-lunch-hour-6-10/2028-03-01/
LOCATION:JCCNS\, 4 Community Rd.\, Marblehead\, MA\, 01945
ATTACH;FMTTYPE=image/png:https://jccns.org/wp-content/uploads/2024/12/Senior-Jazz-Hour-and-Lunch-square.png
ORGANIZER;CN="Sara Ewing":MAILTO:sewing@jccns.com
END:VEVENT
BEGIN:VEVENT
DTSTART;TZID=America/New_York:20280405T110000
DTEND;TZID=America/New_York:20280405T123000
DTSTAMP:20260420T105920
CREATED:20251119T193841Z
LAST-MODIFIED:20260409T153603Z
UID:10000545-1838545200-1838550600@jccns.org
SUMMARY:Senior Jazz and Lunch Hour
DESCRIPTION:All seniors are welcome to enjoy a live performance by the Insight Band and share a delicious\, complimentary lunch at the JCCNS. \nSpace is limited. \nPlease RSVP to Lauren Weiss at lweiss@jccns.com or (857)285-7959 by the Friday before the concert and indicate your lunch choice of tuna or egg salad.
URL:https://jccns.org/event/senior-jazz-and-lunch-hour-6-10/2028-04-05/
LOCATION:JCCNS\, 4 Community Rd.\, Marblehead\, MA\, 01945
ATTACH;FMTTYPE=image/png:https://jccns.org/wp-content/uploads/2024/12/Senior-Jazz-Hour-and-Lunch-square.png
ORGANIZER;CN="Sara Ewing":MAILTO:sewing@jccns.com
END:VEVENT
BEGIN:VEVENT
DTSTART;TZID=America/New_York:20280503T110000
DTEND;TZID=America/New_York:20280503T123000
DTSTAMP:20260420T105920
CREATED:20251119T193841Z
LAST-MODIFIED:20260409T153603Z
UID:10000546-1840964400-1840969800@jccns.org
SUMMARY:Senior Jazz and Lunch Hour
DESCRIPTION:All seniors are welcome to enjoy a live performance by the Insight Band and share a delicious\, complimentary lunch at the JCCNS. \nSpace is limited. \nPlease RSVP to Lauren Weiss at lweiss@jccns.com or (857)285-7959 by the Friday before the concert and indicate your lunch choice of tuna or egg salad.
URL:https://jccns.org/event/senior-jazz-and-lunch-hour-6-10/2028-05-03/
LOCATION:JCCNS\, 4 Community Rd.\, Marblehead\, MA\, 01945
ATTACH;FMTTYPE=image/png:https://jccns.org/wp-content/uploads/2024/12/Senior-Jazz-Hour-and-Lunch-square.png
ORGANIZER;CN="Sara Ewing":MAILTO:sewing@jccns.com
END:VEVENT
BEGIN:VEVENT
DTSTART;TZID=America/New_York:20280607T110000
DTEND;TZID=America/New_York:20280607T123000
DTSTAMP:20260420T105920
CREATED:20251119T193841Z
LAST-MODIFIED:20260409T153603Z
UID:10000547-1843988400-1843993800@jccns.org
SUMMARY:Senior Jazz and Lunch Hour
DESCRIPTION:All seniors are welcome to enjoy a live performance by the Insight Band and share a delicious\, complimentary lunch at the JCCNS. \nSpace is limited. \nPlease RSVP to Lauren Weiss at lweiss@jccns.com or (857)285-7959 by the Friday before the concert and indicate your lunch choice of tuna or egg salad.
URL:https://jccns.org/event/senior-jazz-and-lunch-hour-6-10/2028-06-07/
LOCATION:JCCNS\, 4 Community Rd.\, Marblehead\, MA\, 01945
ATTACH;FMTTYPE=image/png:https://jccns.org/wp-content/uploads/2024/12/Senior-Jazz-Hour-and-Lunch-square.png
ORGANIZER;CN="Sara Ewing":MAILTO:sewing@jccns.com
END:VEVENT
BEGIN:VEVENT
DTSTART;TZID=America/New_York:20280705T110000
DTEND;TZID=America/New_York:20280705T123000
DTSTAMP:20260420T105920
CREATED:20251119T193841Z
LAST-MODIFIED:20260409T153603Z
UID:10000548-1846407600-1846413000@jccns.org
SUMMARY:Senior Jazz and Lunch Hour
DESCRIPTION:All seniors are welcome to enjoy a live performance by the Insight Band and share a delicious\, complimentary lunch at the JCCNS. \nSpace is limited. \nPlease RSVP to Lauren Weiss at lweiss@jccns.com or (857)285-7959 by the Friday before the concert and indicate your lunch choice of tuna or egg salad.
URL:https://jccns.org/event/senior-jazz-and-lunch-hour-6-10/2028-07-05/
LOCATION:JCCNS\, 4 Community Rd.\, Marblehead\, MA\, 01945
ATTACH;FMTTYPE=image/png:https://jccns.org/wp-content/uploads/2024/12/Senior-Jazz-Hour-and-Lunch-square.png
ORGANIZER;CN="Sara Ewing":MAILTO:sewing@jccns.com
END:VEVENT
BEGIN:VEVENT
DTSTART;TZID=America/New_York:20280802T110000
DTEND;TZID=America/New_York:20280802T123000
DTSTAMP:20260420T105920
CREATED:20251119T193841Z
LAST-MODIFIED:20260409T153603Z
UID:10000549-1848826800-1848832200@jccns.org
SUMMARY:Senior Jazz and Lunch Hour
DESCRIPTION:All seniors are welcome to enjoy a live performance by the Insight Band and share a delicious\, complimentary lunch at the JCCNS. \nSpace is limited. \nPlease RSVP to Lauren Weiss at lweiss@jccns.com or (857)285-7959 by the Friday before the concert and indicate your lunch choice of tuna or egg salad.
URL:https://jccns.org/event/senior-jazz-and-lunch-hour-6-10/2028-08-02/
LOCATION:JCCNS\, 4 Community Rd.\, Marblehead\, MA\, 01945
ATTACH;FMTTYPE=image/png:https://jccns.org/wp-content/uploads/2024/12/Senior-Jazz-Hour-and-Lunch-square.png
ORGANIZER;CN="Sara Ewing":MAILTO:sewing@jccns.com
END:VEVENT
END:VCALENDAR