BEGIN:VCALENDAR
VERSION:2.0
PRODID:-//JCCNS, Jewish Community Center of the North Shore - ECPv6.15.20//NONSGML v1.0//EN
CALSCALE:GREGORIAN
METHOD:PUBLISH
X-ORIGINAL-URL:https://jccns.org
X-WR-CALDESC:Events for JCCNS, Jewish Community Center of the North Shore
REFRESH-INTERVAL;VALUE=DURATION:PT1H
X-Robots-Tag:noindex
X-PUBLISHED-TTL:PT1H
BEGIN:VTIMEZONE
TZID:America/New_York
BEGIN:DAYLIGHT
TZOFFSETFROM:-0500
TZOFFSETTO:-0400
TZNAME:EDT
DTSTART:20240310T070000
END:DAYLIGHT
BEGIN:STANDARD
TZOFFSETFROM:-0400
TZOFFSETTO:-0500
TZNAME:EST
DTSTART:20241103T060000
END:STANDARD
BEGIN:DAYLIGHT
TZOFFSETFROM:-0500
TZOFFSETTO:-0400
TZNAME:EDT
DTSTART:20250309T070000
END:DAYLIGHT
BEGIN:STANDARD
TZOFFSETFROM:-0400
TZOFFSETTO:-0500
TZNAME:EST
DTSTART:20251102T060000
END:STANDARD
BEGIN:DAYLIGHT
TZOFFSETFROM:-0500
TZOFFSETTO:-0400
TZNAME:EDT
DTSTART:20260308T070000
END:DAYLIGHT
BEGIN:STANDARD
TZOFFSETFROM:-0400
TZOFFSETTO:-0500
TZNAME:EST
DTSTART:20261101T060000
END:STANDARD
END:VTIMEZONE
BEGIN:VEVENT
DTSTART;TZID=America/New_York:20250507T110000
DTEND;TZID=America/New_York:20250507T123000
DTSTAMP:20260423T090510
CREATED:20250505T200012Z
LAST-MODIFIED:20250505T200014Z
UID:10000510-1746615600-1746621000@jccns.org
SUMMARY:Senior Jazz and Lunch Hour
DESCRIPTION:All seniors are welcome to enjoy a live performance by the Insight Band and share a delicious complimentary lunch at the JCCNS. \nRegistration is closed for this event.  We apologize for the inconvenience.
URL:https://jccns.org/event/senior-jazz-and-lunch-hour-6-3/
LOCATION:JCCNS\, 4 Community Rd.\, Marblehead\, MA\, 01945
ATTACH;FMTTYPE=image/png:https://jccns.org/wp-content/uploads/2024/12/Senior-Jazz-Hour-and-Lunch-square.png
ORGANIZER;CN="Sara Ewing":MAILTO:sewing@jccns.com
END:VEVENT
BEGIN:VEVENT
DTSTART;TZID=America/New_York:20250504T103000
DTEND;TZID=America/New_York:20250504T113000
DTSTAMP:20260423T090510
CREATED:20250401T164019Z
LAST-MODIFIED:20250401T164019Z
UID:10001473-1746354600-1746358200@jccns.org
SUMMARY:Schmooze and News
DESCRIPTION:Join us for an invigorating discussion about the month’s biggest news stories. \nWe look forward to seeing you! \nBagels will be served. FREE and open to everyone! \n 
URL:https://jccns.org/event/schmooze-and-news-25/
LOCATION:JCCNS\, 4 Community Rd.\, Marblehead\, MA\, 01945
ATTACH;FMTTYPE=image/png:https://jccns.org/wp-content/uploads/2025/01/Schmooze-and-News-square.png
ORGANIZER;CN="Sara Ewing":MAILTO:sewing@jccns.com
END:VEVENT
END:VCALENDAR